Workbook
Name new: [1]newLot!$E$5:$E$132
Name old: [1]oldLot!$E$5:$E$132

Sheet Instructions
A2: Instructions for using the analysis worksheets Important notes: 1. Data cells are yellow. You can change and input values in these cells. 2. Formulas cells are gray or white. Please do not touch these cells. They contain formulas for calculation use. 3. A set of sample data is displayed for illustration purpose. Follow the instruction and replace sample data with your array info and experimental Ct values. 4. To ensure the best performance, use GeneCopoeia recommended and supported reagents. Test sample data: input test sample Ct values (see example) 1. Yellow cells: copy and paste your test sample Ct values by clicking “paste special” then selecting “paste values” 2. Up to 10 replicated samples’ Ct values can be uploaded Control sample data: input control sample Ct values 1. Yellow cells: copy and paste your control sample Ct values by clicking “paste special” then selecting “paste values” 2. Up to 10 replicated samples’ Ct values can be uploaded Normalization: choose housekeeping genes 1. Yellow cells: type the gene symbols of housekeeping (HK) genes that will be used for normalization. 2. Up to 20 HK genes can be used. Results: display fold difference 1. The fold changes of the differential expression (test vs. control) are displayed here automatically. 2. T-test p values will be automatically displayed if sample replicates are included. 3D plot: Illustrate fold difference in 3D 1. Up-regulation: z-axis values >1 2. Down-regulation: z-axis values <1 3. The title of each axis can be changed by clicking and editing it Scatter plot: Display fold change with defined threshold 1. Graphs the expression level ((2 ^ (-ΔCt)) of each gene (control vs. test). 2. Black line: indicates fold change ((2 ^ (-ΔΔCt)) of 1, which means no change. 3. Yellow cell: enter and define your desired threshold of fold change. 4. Pink line: indicates the desired threshold of fold change. 5. The scale and title of each axis can be adjusted and edited by clicking and reformatting it. 6. Note: ΔCt = Ct (GOI) – avg. (Ct (HKG)). GOI stands for each gene of interest. HKG stands for the housekeeping genes. Volcano plot: Display fold change with defined threshold and p-value 1. Yellow cells: define threshold of fold change and p-value 2. Black line: indicates fold change of 1. 3. Pink line: indicates the desired threshold of fold change 4. Blue line: indicates the desired p value of the t-test threshold. 5. The scale and title of each axis can be adjusted and edited. QC report: display the analysis of array control wells 1. Display analysis of PCR, RT and GDC control wells.

Sheet Gene Table
A1: PCR Array Catalog # | D1: QG064
A2: Plate | B2: Position | C2: Catalog # | D2: Accession No. of Gene | E2: Symbol
A3: Plate 1 | B3: A01 | C3: HQP001136 | D3: NM_000015 | E3: NAT2
B4: A02 | C4: HQP018562 | D4: NM_006297 | E4: XRCC1
B5: A03 | C5: HQP018175 | D5: NM_000546 | E5: TP53
B6: A04 | C6: HQP004976 | D6: NM_000400 | E6: ERCC2
B7: A05 | C7: HQP018564 | D7: NM_005432 | E7: XRCC3
B8: A06 | C8: HQP023467 | D8: NM_000662 | E8: NAT1
B9: A07 | C9: HQP011547 | D9: NM_005957 | E9: MTHFR
B10: A08 | C10: HQP003772 | D10: NM_000499 | E10: CYP1A1
B11: A09 | C11: HQP018556 | D11: NM_004628 | E11: XPC
B12: A10 | C12: HQP005434 | D12: NM_000142 | E12: FGFR3
B13: A11 | C13: HQP012021 | D13: NM_002542 | E13: OGG1
B14: A12 | C14: HQP004317 | D14: NM_000903 | E14: NQO1
B15: B01 | C15: HQP009061 | D15: NM_001641 | E15: APEX1
... B98: H12 | C98: PCR | D98: PCR | E98: PCR
A99: Plate 2 | B99: A01 | C99: HQP013614 | D99: NM_007120 | E99: UGT1A4
B100: A02 | C100: HQP013352 | D100: NM_000535 | E100: PMS2
B101: A03 | C101: HQP013312 | D101: NM_000534 | E101: PMS1
B102: A04 | C102: HQP011597 | D102: NM_002467 | E102: MYC
B103: A05 | C103: HQP011492 | D103: NM_002439 | E103: MSH3
B104: A06 | C104: HQP011266 | D104: NM_002426 | E104: MMP12
B105: A07 | C105: HQP011262 | D105: NM_002424 | E105: MMP8
B106: A08 | C106: HQP011256 | D106: NM_004530 | E106: MMP2
B107: A09 | C107: HQP010924 | D107: NM_001668 | E107: ARNT
B108: A10 | C108: HQP010612 | D108: NM_013975 | E108: LIG3
B109: A11 | C109: HQP009801 | D109: NM_000044 | E109: AR
B110: A12 | C110: HQP009692 | D110: NM_000882 | E110: IL12A
B111: B01 | C111: HQP009671 | D111: NM_000639 | E111: FASLG
... B194: H12 | C194: PCR | D194: PCR | E194: PCR
A195: Plate 3 | B195: A01 | C195: HQP019768 | D195: NM_130445 | E195: COL18A1
B196: A02 | C196: HQP019764 | D196: NM_030578 | E196: MGC4093
B197: A03 | C197: HQP019689 | D197: NM_001042529 | E197: COASY
B198: A04 | C198: HQP019452 | D198: NM_001742 | E198: CALCR
B199: A05 | C199: HQP018747 | D199: NM_013309 | E199: SLC30A4
B200: A06 | C200: HQP018739 | D200: NM_006300 | E200: ZNF230
B201: A07 | C201: HQP018550 | D201: NM_001079539 | E201: XBP1
B202: A08 | C202: HQP018545 | D202: NM_000553 | E202: WRN
B203: A09 | C203: HQP018488 | D203: NM_003379 | E203: VIL2
B204: A10 | C204: HQP018466 | D204: NM_080682 | E204: VCAM1
B205: A11 | C205: HQP018404 | D205: NM_003356 | E205: UCP3
B206: A12 | C206: HQP018343 | D206: NM_000372 | E206: TYR
B207: B01 | C207: HQP018269 | D207: NM_006292 | E207: TSG101
... B290: H12 | C290: PCR | D290: PCR | E290: PCR
A291: Plate 4 | B291: A01 | C291: HQP012957 | D291: NM_006208 | E291: ENPP1
B292: A02 | C292: HQP012725 | D292: NM_016218 | E292: POLK
B293: A03 | C293: HQP012482 | D293: NM_001005783 | E293: HAO2
B294: A04 | C294: HQP012100 | D294: NM_002562 | E294: P2RX7
B295: A05 | C295: HQP012062 | D295: NM_001008505 | E295: OPRM1
B296: A06 | C296: HQP012008 | D296: NM_000275 | E296: OCA2
B297: A07 | C297: HQP011914 | D297: NM_002524 | E297: NRAS
B298: A08 | C298: HQP011868 | D298: NM_000603 | E298: NOS3
B299: A09 | C299: HQP011858 | D299: NM_000904 | E299: NQO2
B300: A10 | C300: HQP011852 | D300: NM_001678 | E300: ATP1B2
B301: A11 | C301: HQP011836 | D301: NM_004148 | E301: NINJ1
B302: A12 | C302: HQP011813 | D302: NM_004556 | E302: NFKBIE
B303: B01 | C303: HQP011693 | D303: NM_000433 | E303: NCF2
... B386: H12 | C386: PCR | D386: PCR | E386: PCR
A387: Plate 5 | B387: A01 | C387: HQP008281 | D387: NM_002083 | E387: GPX2
B388: A02 | C388: HQP007767 | D388: NM_002075 | E388: GNB3
B389: A03 | C389: HQP007755 | D389: NM_000516 | E389: GNAS
B390: A04 | C390: HQP007689 | D390: NM_013274 | E390: POLL
B391: A05 | C391: HQP007643 | D391: NM_014475 | E391: DHDH
B392: A06 | C392: HQP007304 | D392: NM_012419 | E392: RGS17
B393: A07 | C393: HQP007230 | D393: NM_000583 | E393: GC
B394: A08 | C394: HQP007224 | D394: NM_014365 | E394: HSPB8
B395: A09 | C395: HQP006945 | D395: NM_015515 | E395: KRT23
B396: A10 | C396: HQP006855 | D396: NM_001042594 | E396: POT1
B397: A11 | C397: HQP006733 | D397: NM_012134 | E397: LMOD1
B398: A12 | C398: HQP006583 | D398: NM_178510 | E398: ANKK1
B399: B01 | C399: HQP006547 | D399: NM_001469 | E399: XRCC6
... B482: H12 | C482: PCR | D482: PCR | E482: PCR

Sheet Test Sample Data
A1: Plate | B1: Accession No. of Gene | C1: Well | D1: =Results!D2 -> Test Sample | Q1: Ct Range | R1: Distribution of Ct Values | AB1: AVG | AC1: STD
D2: exp1 | E2: exp2 | F2: exp3 | G2: exp4 | H2: exp5 | I2: exp6 | J2: exp7 | K2: exp8 | L2: exp9 | M2: exp10 | N2: AVG | O2: SD | R2: exp1 | S2: exp2 | T2: exp3 | U2: exp4 | V2: exp5 | W2: exp6 | X2: exp7 | Y2: exp8 | Z2: exp9 | AA2: exp10
A3: ='Gene Table'!A3 -> Plate 1 | B3: ='Gene Table'!D3 -> NM_000015 | C3: A01 | N3: =AVERAGE(Calculations!D4:M4) -> #DIV/0! | O3: =STDEV(Calculations!D4:M4) -> #DIV/0! | Q3: <25 | R3: =IF(COUNTIF(D$3:D$482,"<35")=0,"",COUNTIF(D$3:D$482,"<25")) | S3: =IF(COUNTIF(E$3:E$482,"<35")=0,"",COUNTIF(E$3:E$482,"<25")) | T3: =IF(COUNTIF(F$3:F$482,"<35")=0,"",COUNTIF(F$3:F$482,"<25")) | U3: =IF(COUNTIF(G$3:G$482,"<35")=0,"",COUNTIF(G$3:G$482,"<25")) | V3: =IF(COUNTIF(H$3:H$482,"<35")=0,"",COUNTIF(H$3:H$482,"<25")) | W3: =IF(COUNTIF(I$3:I$482,"<35")=0,"",COUNTIF(I$3:I$482,"<25")) | X3: =IF(COUNTIF(J$3:J$482,"<35")=0,"",COUNTIF(J$3:J$482,"<25")) | Y3: =IF(COUNTIF(K$3:K$482,"<35")=0,"",COUNTIF(K$3:K$482,"<25")) | ... AA3: =IF(COUNTIF(M$3:M$482,"<35")=0,"",COUNTIF(M$3:M$482,"<25")) | AB3: =AVERAGE(R3:AA3) -> #DIV/0! | AC3: =STDEV(R3:AA3) -> #DIV/0!
B4: ='Gene Table'!D4 -> NM_006297 | C4: A02 | N4: =AVERAGE(Calculations!D5:M5) -> #DIV/0! | O4: =STDEV(Calculations!D5:M5) -> #DIV/0! | Q4: 25-30 | R4: =IF(COUNTIF(D$3:D$482,"<35")=0,"",COUNTIF(D$3:D$482,"<30")-R3) | S4: =IF(COUNTIF(E$3:E$482,"<35")=0,"",COUNTIF(E$3:E$482,"<30")-S3) | T4: =IF(COUNTIF(F$3:F$482,"<35")=0,"",COUNTIF(F$3:F$482,"<30")-T3) | U4: =IF(COUNTIF(G$3:G$482,"<35")=0,"",COUNTIF(G$3:G$482,"<30")-U3) | V4: =IF(COUNTIF(H$3:H$482,"<35")=0,"",COUNTIF(H$3:H$482,"<30")-V3) | W4: =IF(COUNTIF(I$3:I$482,"<35")=0,"",COUNTIF(I$3:I$482,"<30")-W3) | X4: =IF(COUNTIF(J$3:J$482,"<35")=0,"",COUNTIF(J$3:J$482,"<30")-X3) | Y4: =IF(COUNTIF(K$3:K$482,"<35")=0,"",COUNTIF(K$3:K$482,"<30")-Y3) | ... AA4: =IF(COUNTIF(M$3:M$482,"<35")=0,"",COUNTIF(M$3:M$482,"<30")-AA3) | AB4: =AVERAGE(R4:AA4) -> #DIV/0! | AC4: =STDEV(R4:AA4) -> #DIV/0!
B5: ='Gene Table'!D5 -> NM_000546 | C5: A03 | N5: =AVERAGE(Calculations!D6:M6) -> #DIV/0! | O5: =STDEV(Calculations!D6:M6) -> #DIV/0! | Q5: 30-35 | R5: =IF(COUNTIF(D$3:D$482,"<35")=0,"",COUNTIF(D$3:D$482,"<35")-SUM(R3:R4)) | S5: =IF(COUNTIF(E$3:E$482,"<35")=0,"",COUNTIF(E$3:E$482,"<35")-SUM(S3:S4)) | T5: =IF(COUNTIF(F$3:F$482,"<35")=0,"",COUNTIF(F$3:F$482,"<35")-SUM(T3:T4)) | U5: =IF(COUNTIF(G$3:G$482,"<35")=0,"",COUNTIF(G$3:G$482,"<35")-SUM(U3:U4)) | V5: =IF(COUNTIF(H$3:H$482,"<35")=0,"",COUNTIF(H$3:H$482,"<35")-SUM(V3:V4)) | W5: =IF(COUNTIF(I$3:I$482,"<35")=0,"",COUNTIF(I$3:I$482,"<35")-SUM(W3:W4)) | X5: =IF(COUNTIF(J$3:J$482,"<35")=0,"",COUNTIF(J$3:J$482,"<35")-SUM(X3:X4)) | Y5: =IF(COUNTIF(K$3:K$482,"<35")=0,"",COUNTIF(K$3:K$482,"<35")-SUM(Y3:Y4)) | ... AA5: =IF(COUNTIF(M$3:M$482,"<35")=0,"",COUNTIF(M$3:M$482,"<35")-SUM(AA3:AA4)) | AB5: =AVERAGE(R5:AA5) -> #DIV/0! | AC5: =STDEV(R5:AA5) -> #DIV/0!
B6: ='Gene Table'!D6 -> NM_000400 | C6: A04 | N6: =AVERAGE(Calculations!D7:M7) -> #DIV/0! | O6: =STDEV(Calculations!D7:M7) -> #DIV/0! | Q6: Absent Calls | R6: =IF(COUNTIF(D$3:D$482,"<40")=0,"",COUNTIF(D$3:D$482,"N/A")+COUNTBLANK(D$3:D$482)+COUNTIF(D$3:D$482,">=35")+COUNTIF(D$3:D$482,"=0")+COUNTIF(D$3:D$482,"Undetermined")) | S6: =IF(COUNTIF(E$3:E$482,"<40")=0,"",COUNTIF(E$3:E$482,"N/A")+COUNTBLANK(E$3:E$482)+COUNTIF(E$3:E$482,">=35")+COUNTIF(E$3:E$482,"=0")+COUNTIF(E$3:E$482,"Undetermined")) | T6: =IF(COUNTIF(F$3:F$482,"<40")=0,"",COUNTIF(F$3:F$482,"N/A")+COUNTBLANK(F$3:F$482)+COUNTIF(F$3:F$482,">=35")+COUNTIF(F$3:F$482,"=0")+COUNTIF(F$3:F$482,"Undetermined")) | U6: =IF(COUNTIF(G$3:G$482,"<40")=0,"",COUNTIF(G$3:G$482,"N/A")+COUNTBLANK(G$3:G$482)+COUNTIF(G$3:G$482,">=35")+COUNTIF(G$3:G$482,"=0")+COUNTIF(G$3:G$482,"Undetermined")) | V6: =IF(COUNTIF(H$3:H$482,"<40")=0,"",COUNTIF(H$3:H$482,"N/A")+COUNTBLANK(H$3:H$482)+COUNTIF(H$3:H$482,">=35")+COUNTIF(H$3:H$482,"=0")+COUNTIF(H$3:H$482,"Undetermined")) | W6: =IF(COUNTIF(I$3:I$482,"<40")=0,"",COUNTIF(I$3:I$482,"N/A")+COUNTBLANK(I$3:I$482)+COUNTIF(I$3:I$482,">=35")+COUNTIF(I$3:I$482,"=0")+COUNTIF(I$3:I$482,"Undetermined")) | X6: =IF(COUNTIF(J$3:J$482,"<40")=0,"",COUNTIF(J$3:J$482,"N/A")+COUNTBLANK(J$3:J$482)+COUNTIF(J$3:J$482,">=35")+COUNTIF(J$3:J$482,"=0")+COUNTIF(J$3:J$482,"Undetermined")) | Y6: =IF(COUNTIF(K$3:K$482,"<40")=0,"",COUNTIF(K$3:K$482,"N/A")+COUNTBLANK(K$3:K$482)+COUNTIF(K$3:K$482,">=35")+COUNTIF(K$3:K$482,"=0")+COUNTIF(K$3:K$482,"Undetermined")) | ... AA6: =IF(COUNTIF(M$3:M$482,"<40")=0,"",COUNTIF(M$3:M$482,"N/A")+COUNTBLANK(M$3:M$482)+COUNTIF(M$3:M$482,">=35")+COUNTIF(M$3:M$482,"=0")+COUNTIF(M$3:M$482,"Undetermined")) | AB6: =AVERAGE(R6:AA6) -> #DIV/0! | AC6: =STDEV(R6:AA6) -> #DIV/0!
B7: ='Gene Table'!D7 -> NM_005432 | C7: A05 | N7: =AVERAGE(Calculations!D8:M8) -> #DIV/0! | O7: =STDEV(Calculations!D8:M8) -> #DIV/0! | Q7: Percent Distribution of Ct Values
B8: ='Gene Table'!D8 -> NM_000662 | C8: A06 | N8: =AVERAGE(Calculations!D9:M9) -> #DIV/0! | O8: =STDEV(Calculations!D9:M9) -> #DIV/0! | Q8: <25 | R8: =IF(R3="","",R3/SUM(R$3:R$6)) | S8: =IF(S3="","",S3/SUM(S$3:S$6)) | T8: =IF(T3="","",T3/SUM(T$3:T$6)) | U8: =IF(U3="","",U3/SUM(U$3:U$6)) | V8: =IF(V3="","",V3/SUM(V$3:V$6)) | W8: =IF(W3="","",W3/SUM(W$3:W$6)) | X8: =IF(X3="","",X3/SUM(X$3:X$6)) | Y8: =IF(Y3="","",Y3/SUM(Y$3:Y$6)) | ... AA8: =IF(AA3="","",AA3/SUM(AA$3:AA$6)) | AB8: =AVERAGE(R8:AA8) -> #DIV/0! | AC8: =STDEV(R8:AA8) -> #DIV/0!
B9: ='Gene Table'!D9 -> NM_005957 | C9: A07 | N9: =AVERAGE(Calculations!D10:M10) -> #DIV/0! | O9: =STDEV(Calculations!D10:M10) -> #DIV/0! | Q9: 25-30 | R9: =IF(R4="","",R4/SUM(R$3:R$6)) | S9: =IF(S4="","",S4/SUM(S$3:S$6)) | T9: =IF(T4="","",T4/SUM(T$3:T$6)) | U9: =IF(U4="","",U4/SUM(U$3:U$6)) | V9: =IF(V4="","",V4/SUM(V$3:V$6)) | W9: =IF(W4="","",W4/SUM(W$3:W$6)) | X9: =IF(X4="","",X4/SUM(X$3:X$6)) | Y9: =IF(Y4="","",Y4/SUM(Y$3:Y$6)) | ... AA9: =IF(AA4="","",AA4/SUM(AA$3:AA$6)) | AB9: =AVERAGE(R9:AA9) -> #DIV/0! | AC9: =STDEV(R9:AA9) -> #DIV/0!
B10: ='Gene Table'!D10 -> NM_000499 | C10: A08 | N10: =AVERAGE(Calculations!D11:M11) -> #DIV/0! | O10: =STDEV(Calculations!D11:M11) -> #DIV/0! | Q10: 30-35 | R10: =IF(R5="","",R5/SUM(R$3:R$6)) | S10: =IF(S5="","",S5/SUM(S$3:S$6)) | T10: =IF(T5="","",T5/SUM(T$3:T$6)) | U10: =IF(U5="","",U5/SUM(U$3:U$6)) | V10: =IF(V5="","",V5/SUM(V$3:V$6)) | W10: =IF(W5="","",W5/SUM(W$3:W$6)) | X10: =IF(X5="","",X5/SUM(X$3:X$6)) | Y10: =IF(Y5="","",Y5/SUM(Y$3:Y$6)) | ... AA10: =IF(AA5="","",AA5/SUM(AA$3:AA$6)) | AB10: =AVERAGE(R10:AA10) -> #DIV/0! | AC10: =STDEV(R10:AA10) -> #DIV/0!
B11: ='Gene Table'!D11 -> NM_004628 | C11: A09 | N11: =AVERAGE(Calculations!D12:M12) -> #DIV/0! | O11: =STDEV(Calculations!D12:M12) -> #DIV/0! | Q11: Absent Calls | R11: =IF(R6="","",R6/SUM(R$3:R$6)) | S11: =IF(S6="","",S6/SUM(S$3:S$6)) | T11: =IF(T6="","",T6/SUM(T$3:T$6)) | U11: =IF(U6="","",U6/SUM(U$3:U$6)) | V11: =IF(V6="","",V6/SUM(V$3:V$6)) | W11: =IF(W6="","",W6/SUM(W$3:W$6)) | X11: =IF(X6="","",X6/SUM(X$3:X$6)) | Y11: =IF(Y6="","",Y6/SUM(Y$3:Y$6)) | ... AA11: =IF(AA6="","",AA6/SUM(AA$3:AA$6)) | AB11: =AVERAGE(R11:AA11) -> #DIV/0! | AC11: =STDEV(R11:AA11) -> #DIV/0!
B12: ='Gene Table'!D12 -> NM_000142 | C12: A10 | N12: =AVERAGE(Calculations!D13:M13) -> #DIV/0! | O12: =STDEV(Calculations!D13:M13) -> #DIV/0!
B13: ='Gene Table'!D13 -> NM_002542 | C13: A11 | N13: =AVERAGE(Calculations!D14:M14) -> #DIV/0! | O13: =STDEV(Calculations!D14:M14) -> #DIV/0!
B14: ='Gene Table'!D14 -> NM_000903 | C14: A12 | N14: =AVERAGE(Calculations!D15:M15) -> #DIV/0! | O14: =STDEV(Calculations!D15:M15) -> #DIV/0!
B15: ='Gene Table'!D15 -> NM_001641 | C15: B01 | N15: =AVERAGE(Calculations!D16:M16) -> #DIV/0! | O15: =STDEV(Calculations!D16:M16) -> #DIV/0!
B16: ='Gene Table'!D16 -> NM_000594 | C16: B02 | N16: =AVERAGE(Calculations!D17:M17) -> #DIV/0! | O16: =STDEV(Calculations!D17:M17) -> #DIV/0!
B17: ='Gene Table'!D17 -> NM_053056 | C17: B03 | N17: =AVERAGE(Calculations!D18:M18) -> #DIV/0! | O17: =STDEV(Calculations!D18:M18) -> #DIV/0!
B18: ='Gene Table'!D18 -> NM_000123 | C18: B04 | N18: =AVERAGE(Calculations!D19:M19) -> #DIV/0! | O18: =STDEV(Calculations!D19:M19) -> #DIV/0!
B19: ='Gene Table'!D19 -> NM_177536 | C19: B05 | N19: =AVERAGE(Calculations!D20:M20) -> #DIV/0! | O19: =STDEV(Calculations!D20:M20) -> #DIV/0!
B20: ='Gene Table'!D20 -> NM_000636 | C20: B06 | N20: =AVERAGE(Calculations!D21:M21) -> #DIV/0! | O20: =STDEV(Calculations!D21:M21) -> #DIV/0!
B21: ='Gene Table'!D21 -> NM_002485 | C21: B07 | N21: =AVERAGE(Calculations!D22:M22) -> #DIV/0! | O21: =STDEV(Calculations!D22:M22) -> #DIV/0!
B22: ='Gene Table'!D22 -> NM_000254 | C22: B08 | N22: =AVERAGE(Calculations!D23:M23) -> #DIV/0! | O22: =STDEV(Calculations!D23:M23) -> #DIV/0!
B23: ='Gene Table'!D23 -> NM_002392 | C23: B09 | N23: =AVERAGE(Calculations!D24:M24) -> #DIV/0! | O23: =STDEV(Calculations!D24:M24) -> #DIV/0!
... B98: ='Gene Table'!D98 -> PCR | C98: H12 | N98: =AVERAGE(Calculations!D99:M99) -> #DIV/0! | O98: =STDEV(Calculations!D99:M99) -> #DIV/0!
A99: ='Gene Table'!A99 -> Plate 2 | B99: ='Gene Table'!D99 -> NM_007120 | C99: A01 | N99: =AVERAGE(Calculations!D100:M100) -> #DIV/0! | O99: =STDEV(Calculations!D100:M100) -> #DIV/0!
B100: ='Gene Table'!D100 -> NM_000535 | C100: A02 | N100: =AVERAGE(Calculations!D101:M101) -> #DIV/0! | O100: =STDEV(Calculations!D101:M101) -> #DIV/0!
B101: ='Gene Table'!D101 -> NM_000534 | C101: A03 | N101: =AVERAGE(Calculations!D102:M102) -> #DIV/0! | O101: =STDEV(Calculations!D102:M102) -> #DIV/0!
B102: ='Gene Table'!D102 -> NM_002467 | C102: A04 | N102: =AVERAGE(Calculations!D103:M103) -> #DIV/0! | O102: =STDEV(Calculations!D103:M103) -> #DIV/0!
B103: ='Gene Table'!D103 -> NM_002439 | C103: A05 | N103: =AVERAGE(Calculations!D104:M104) -> #DIV/0! | O103: =STDEV(Calculations!D104:M104) -> #DIV/0!
B104: ='Gene Table'!D104 -> NM_002426 | C104: A06 | N104: =AVERAGE(Calculations!D105:M105) -> #DIV/0! | O104: =STDEV(Calculations!D105:M105) -> #DIV/0!
B105: ='Gene Table'!D105 -> NM_002424 | C105: A07 | N105: =AVERAGE(Calculations!D106:M106) -> #DIV/0! | O105: =STDEV(Calculations!D106:M106) -> #DIV/0!
B106: ='Gene Table'!D106 -> NM_004530 | C106: A08 | N106: =AVERAGE(Calculations!D107:M107) -> #DIV/0! | O106: =STDEV(Calculations!D107:M107) -> #DIV/0!
B107: ='Gene Table'!D107 -> NM_001668 | C107: A09 | N107: =AVERAGE(Calculations!D108:M108) -> #DIV/0! | O107: =STDEV(Calculations!D108:M108) -> #DIV/0!
B108: ='Gene Table'!D108 -> NM_013975 | C108: A10 | N108: =AVERAGE(Calculations!D109:M109) -> #DIV/0! | O108: =STDEV(Calculations!D109:M109) -> #DIV/0!
B109: ='Gene Table'!D109 -> NM_000044 | C109: A11 | N109: =AVERAGE(Calculations!D110:M110) -> #DIV/0! | O109: =STDEV(Calculations!D110:M110) -> #DIV/0!
B110: ='Gene Table'!D110 -> NM_000882 | C110: A12 | N110: =AVERAGE(Calculations!D111:M111) -> #DIV/0! | O110: =STDEV(Calculations!D111:M111) -> #DIV/0!
B111: ='Gene Table'!D111 -> NM_000639 | C111: B01 | N111: =AVERAGE(Calculations!D112:M112) -> #DIV/0! | O111: =STDEV(Calculations!D112:M112) -> #DIV/0!
... B194: ='Gene Table'!D194 -> PCR | C194: H12 | N194: =AVERAGE(Calculations!D195:M195) -> #DIV/0! | O194: =STDEV(Calculations!D195:M195) -> #DIV/0!
A195: ='Gene Table'!A195 -> Plate 3 | B195: ='Gene Table'!D195 -> NM_130445 | C195: A01 | N195: =AVERAGE(Calculations!D196:M196) -> #DIV/0! | O195: =STDEV(Calculations!D196:M196) -> #DIV/0!
B196: ='Gene Table'!D196 -> NM_030578 | C196: A02 | N196: =AVERAGE(Calculations!D197:M197) -> #DIV/0! | O196: =STDEV(Calculations!D197:M197) -> #DIV/0!
B197: ='Gene Table'!D197 -> NM_001042529 | C197: A03 | N197: =AVERAGE(Calculations!D198:M198) -> #DIV/0! | O197: =STDEV(Calculations!D198:M198) -> #DIV/0!
B198: ='Gene Table'!D198 -> NM_001742 | C198: A04 | N198: =AVERAGE(Calculations!D199:M199) -> #DIV/0! | O198: =STDEV(Calculations!D199:M199) -> #DIV/0!
B199: ='Gene Table'!D199 -> NM_013309 | C199: A05 | N199: =AVERAGE(Calculations!D200:M200) -> #DIV/0! | O199: =STDEV(Calculations!D200:M200) -> #DIV/0!
B200: ='Gene Table'!D200 -> NM_006300 | C200: A06 | N200: =AVERAGE(Calculations!D201:M201) -> #DIV/0! | O200: =STDEV(Calculations!D201:M201) -> #DIV/0!
B201: ='Gene Table'!D201 -> NM_001079539 | C201: A07 | N201: =AVERAGE(Calculations!D202:M202) -> #DIV/0! | O201: =STDEV(Calculations!D202:M202) -> #DIV/0!
B202: ='Gene Table'!D202 -> NM_000553 | C202: A08 | N202: =AVERAGE(Calculations!D203:M203) -> #DIV/0! | O202: =STDEV(Calculations!D203:M203) -> #DIV/0!
B203: ='Gene Table'!D203 -> NM_003379 | C203: A09 | N203: =AVERAGE(Calculations!D204:M204) -> #DIV/0! | O203: =STDEV(Calculations!D204:M204) -> #DIV/0!
B204: ='Gene Table'!D204 -> NM_080682 | C204: A10 | N204: =AVERAGE(Calculations!D205:M205) -> #DIV/0! | O204: =STDEV(Calculations!D205:M205) -> #DIV/0!
B205: ='Gene Table'!D205 -> NM_003356 | C205: A11 | N205: =AVERAGE(Calculations!D206:M206) -> #DIV/0! | O205: =STDEV(Calculations!D206:M206) -> #DIV/0!
B206: ='Gene Table'!D206 -> NM_000372 | C206: A12 | N206: =AVERAGE(Calculations!D207:M207) -> #DIV/0! | O206: =STDEV(Calculations!D207:M207) -> #DIV/0!
B207: ='Gene Table'!D207 -> NM_006292 | C207: B01 | N207: =AVERAGE(Calculations!D208:M208) -> #DIV/0! | O207: =STDEV(Calculations!D208:M208) -> #DIV/0!
... B290: ='Gene Table'!D290 -> PCR | C290: H12 | N290: =AVERAGE(Calculations!D291:M291) -> #DIV/0! | O290: =STDEV(Calculations!D291:M291) -> #DIV/0!
A291: ='Gene Table'!A291 -> Plate 4 | B291: ='Gene Table'!D291 -> NM_006208 | C291: A01 | N291: =AVERAGE(Calculations!D292:M292) -> #DIV/0! | O291: =STDEV(Calculations!D292:M292) -> #DIV/0!
B292: ='Gene Table'!D292 -> NM_016218 | C292: A02 | N292: =AVERAGE(Calculations!D293:M293) -> #DIV/0! | O292: =STDEV(Calculations!D293:M293) -> #DIV/0!
B293: ='Gene Table'!D293 -> NM_001005783 | C293: A03 | N293: =AVERAGE(Calculations!D294:M294) -> #DIV/0! | O293: =STDEV(Calculations!D294:M294) -> #DIV/0!
B294: ='Gene Table'!D294 -> NM_002562 | C294: A04 | N294: =AVERAGE(Calculations!D295:M295) -> #DIV/0! | O294: =STDEV(Calculations!D295:M295) -> #DIV/0!
B295: ='Gene Table'!D295 -> NM_001008505 | C295: A05 | N295: =AVERAGE(Calculations!D296:M296) -> #DIV/0! | O295: =STDEV(Calculations!D296:M296) -> #DIV/0!
B296: ='Gene Table'!D296 -> NM_000275 | C296: A06 | N296: =AVERAGE(Calculations!D297:M297) -> #DIV/0! | O296: =STDEV(Calculations!D297:M297) -> #DIV/0!
B297: ='Gene Table'!D297 -> NM_002524 | C297: A07 | N297: =AVERAGE(Calculations!D298:M298) -> #DIV/0! | O297: =STDEV(Calculations!D298:M298) -> #DIV/0!
B298: ='Gene Table'!D298 -> NM_000603 | C298: A08 | N298: =AVERAGE(Calculations!D299:M299) -> #DIV/0! | O298: =STDEV(Calculations!D299:M299) -> #DIV/0!
B299: ='Gene Table'!D299 -> NM_000904 | C299: A09 | N299: =AVERAGE(Calculations!D300:M300) -> #DIV/0! | O299: =STDEV(Calculations!D300:M300) -> #DIV/0!
B300: ='Gene Table'!D300 -> NM_001678 | C300: A10 | N300: =AVERAGE(Calculations!D301:M301) -> #DIV/0! | O300: =STDEV(Calculations!D301:M301) -> #DIV/0!
B301: ='Gene Table'!D301 -> NM_004148 | C301: A11 | N301: =AVERAGE(Calculations!D302:M302) -> #DIV/0! | O301: =STDEV(Calculations!D302:M302) -> #DIV/0!
B302: ='Gene Table'!D302 -> NM_004556 | C302: A12 | N302: =AVERAGE(Calculations!D303:M303) -> #DIV/0! | O302: =STDEV(Calculations!D303:M303) -> #DIV/0!
B303: ='Gene Table'!D303 -> NM_000433 | C303: B01 | N303: =AVERAGE(Calculations!D304:M304) -> #DIV/0! | O303: =STDEV(Calculations!D304:M304) -> #DIV/0!
... B386: ='Gene Table'!D386 -> PCR | C386: H12 | N386: =AVERAGE(Calculations!D387:M387) -> #DIV/0! | O386: =STDEV(Calculations!D387:M387) -> #DIV/0!
A387: ='Gene Table'!A387:A482 -> Plate 5 | B387: ='Gene Table'!D387 -> NM_002083 | C387: A01 | N387: =AVERAGE(Calculations!D388:M388) -> #DIV/0! | O387: =STDEV(Calculations!D388:M388) -> #DIV/0!
B388: ='Gene Table'!D388 -> NM_002075 | C388: A02 | N388: =AVERAGE(Calculations!D389:M389) -> #DIV/0! | O388: =STDEV(Calculations!D389:M389) -> #DIV/0!
B389: ='Gene Table'!D389 -> NM_000516 | C389: A03 | N389: =AVERAGE(Calculations!D390:M390) -> #DIV/0! | O389: =STDEV(Calculations!D390:M390) -> #DIV/0!
B390: ='Gene Table'!D390 -> NM_013274 | C390: A04 | N390: =AVERAGE(Calculations!D391:M391) -> #DIV/0! | O390: =STDEV(Calculations!D391:M391) -> #DIV/0!
B391: ='Gene Table'!D391 -> NM_014475 | C391: A05 | N391: =AVERAGE(Calculations!D392:M392) -> #DIV/0! | O391: =STDEV(Calculations!D392:M392) -> #DIV/0!
B392: ='Gene Table'!D392 -> NM_012419 | C392: A06 | N392: =AVERAGE(Calculations!D393:M393) -> #DIV/0! | O392: =STDEV(Calculations!D393:M393) -> #DIV/0!
B393: ='Gene Table'!D393 -> NM_000583 | C393: A07 | N393: =AVERAGE(Calculations!D394:M394) -> #DIV/0! | O393: =STDEV(Calculations!D394:M394) -> #DIV/0!
B394: ='Gene Table'!D394 -> NM_014365 | C394: A08 | N394: =AVERAGE(Calculations!D395:M395) -> #DIV/0! | O394: =STDEV(Calculations!D395:M395) -> #DIV/0!
B395: ='Gene Table'!D395 -> NM_015515 | C395: A09 | N395: =AVERAGE(Calculations!D396:M396) -> #DIV/0! | O395: =STDEV(Calculations!D396:M396) -> #DIV/0!
B396: ='Gene Table'!D396 -> NM_001042594 | C396: A10 | N396: =AVERAGE(Calculations!D397:M397) -> #DIV/0! | O396: =STDEV(Calculations!D397:M397) -> #DIV/0!
B397: ='Gene Table'!D397 -> NM_012134 | C397: A11 | N397: =AVERAGE(Calculations!D398:M398) -> #DIV/0! | O397: =STDEV(Calculations!D398:M398) -> #DIV/0!
B398: ='Gene Table'!D398 -> NM_178510 | C398: A12 | N398: =AVERAGE(Calculations!D399:M399) -> #DIV/0! | O398: =STDEV(Calculations!D399:M399) -> #DIV/0!
B399: ='Gene Table'!D399 -> NM_001469 | C399: B01 | N399: =AVERAGE(Calculations!D400:M400) -> #DIV/0! | O399: =STDEV(Calculations!D400:M400) -> #DIV/0!
... B482: ='Gene Table'!D482 -> PCR | C482: H12 | N482: =AVERAGE(Calculations!D483:M483) -> #DIV/0! | O482: =STDEV(Calculations!D483:M483) -> #DIV/0!

Sheet Control Sample Data
A1: Plate | B1: Accession No. of Gene | C1: Well | D1: =Results!E2 -> Control Sample | Q1: Ct Range | R1: Distribution of Ct Values | AB1: AVG | AC1: STD
D2: exp1 | E2: exp2 | F2: exp3 | G2: exp4 | H2: exp5 | I2: exp6 | J2: exp7 | K2: exp8 | L2: exp9 | M2: exp10 | N2: AVG | O2: SD | R2: exp1 | S2: exp2 | T2: exp3 | U2: exp4 | V2: exp5 | W2: exp6 | X2: exp7 | Y2: exp8 | Z2: exp9 | AA2: exp10
A3: ='Gene Table'!A3 -> Plate 1 | B3: ='Gene Table'!D3 -> NM_000015 | C3: A01 | N3: =AVERAGE(Calculations!P4:Y4) -> #DIV/0! | O3: =STDEV(Calculations!P4:Y4) -> #DIV/0! | Q3: <25 | R3: =IF(COUNTIF(D$3:D$482,"<35")=0,"",COUNTIF(D$3:D$482,"<25")) | S3: =IF(COUNTIF(E$3:E$482,"<35")=0,"",COUNTIF(E$3:E$482,"<25")) | T3: =IF(COUNTIF(F$3:F$482,"<35")=0,"",COUNTIF(F$3:F$482,"<25")) | U3: =IF(COUNTIF(G$3:G$482,"<35")=0,"",COUNTIF(G$3:G$482,"<25")) | V3: =IF(COUNTIF(H$3:H$482,"<35")=0,"",COUNTIF(H$3:H$482,"<25")) | W3: =IF(COUNTIF(I$3:I$482,"<35")=0,"",COUNTIF(I$3:I$482,"<25")) | X3: =IF(COUNTIF(J$3:J$482,"<35")=0,"",COUNTIF(J$3:J$482,"<25")) | Y3: =IF(COUNTIF(K$3:K$482,"<35")=0,"",COUNTIF(K$3:K$482,"<25")) | ... AA3: =IF(COUNTIF(M$3:M$482,"<35")=0,"",COUNTIF(M$3:M$482,"<25")) | AB3: =AVERAGE(R3:AA3) -> #DIV/0! | AC3: =STDEV(R3:AA3) -> #DIV/0!
B4: ='Gene Table'!D4 -> NM_006297 | C4: A02 | N4: =AVERAGE(Calculations!P5:Y5) -> #DIV/0! | O4: =STDEV(Calculations!P5:Y5) -> #DIV/0! | Q4: 25-30 | R4: =IF(COUNTIF(D$3:D$482,"<35")=0,"",COUNTIF(D$3:D$482,"<30")-R3) | S4: =IF(COUNTIF(E$3:E$482,"<35")=0,"",COUNTIF(E$3:E$482,"<30")-S3) | T4: =IF(COUNTIF(F$3:F$482,"<35")=0,"",COUNTIF(F$3:F$482,"<30")-T3) | U4: =IF(COUNTIF(G$3:G$482,"<35")=0,"",COUNTIF(G$3:G$482,"<30")-U3) | V4: =IF(COUNTIF(H$3:H$482,"<35")=0,"",COUNTIF(H$3:H$482,"<30")-V3) | W4: =IF(COUNTIF(I$3:I$482,"<35")=0,"",COUNTIF(I$3:I$482,"<30")-W3) | X4: =IF(COUNTIF(J$3:J$482,"<35")=0,"",COUNTIF(J$3:J$482,"<30")-X3) | Y4: =IF(COUNTIF(K$3:K$482,"<35")=0,"",COUNTIF(K$3:K$482,"<30")-Y3) | ... AA4: =IF(COUNTIF(M$3:M$482,"<35")=0,"",COUNTIF(M$3:M$482,"<30")-AA3) | AB4: =AVERAGE(R4:AA4) -> #DIV/0! | AC4: =STDEV(R4:AA4) -> #DIV/0!
B5: ='Gene Table'!D5 -> NM_000546 | C5: A03 | N5: =AVERAGE(Calculations!P6:Y6) -> #DIV/0! | O5: =STDEV(Calculations!P6:Y6) -> #DIV/0! | Q5: 30-35 | R5: =IF(COUNTIF(D$3:D$482,"<35")=0,"",COUNTIF(D$3:D$482,"<35")-SUM(R3:R4)) | S5: =IF(COUNTIF(E$3:E$482,"<35")=0,"",COUNTIF(E$3:E$482,"<35")-SUM(S3:S4)) | T5: =IF(COUNTIF(F$3:F$482,"<35")=0,"",COUNTIF(F$3:F$482,"<35")-SUM(T3:T4)) | U5: =IF(COUNTIF(G$3:G$482,"<35")=0,"",COUNTIF(G$3:G$482,"<35")-SUM(U3:U4)) | V5: =IF(COUNTIF(H$3:H$482,"<35")=0,"",COUNTIF(H$3:H$482,"<35")-SUM(V3:V4)) | W5: =IF(COUNTIF(I$3:I$482,"<35")=0,"",COUNTIF(I$3:I$482,"<35")-SUM(W3:W4)) | X5: =IF(COUNTIF(J$3:J$482,"<35")=0,"",COUNTIF(J$3:J$482,"<35")-SUM(X3:X4)) | Y5: =IF(COUNTIF(K$3:K$482,"<35")=0,"",COUNTIF(K$3:K$482,"<35")-SUM(Y3:Y4)) | ... AA5: =IF(COUNTIF(M$3:M$482,"<35")=0,"",COUNTIF(M$3:M$482,"<35")-SUM(AA3:AA4)) | AB5: =AVERAGE(R5:AA5) -> #DIV/0! | AC5: =STDEV(R5:AA5) -> #DIV/0!
B6: ='Gene Table'!D6 -> NM_000400 | C6: A04 | N6: =AVERAGE(Calculations!P7:Y7) -> #DIV/0! | O6: =STDEV(Calculations!P7:Y7) -> #DIV/0! | Q6: Absent Calls | R6: =IF(COUNTIF(D$3:D$482,"<40")=0,"",COUNTIF(D$3:D$482,"N/A")+COUNTBLANK(D$3:D$482)+COUNTIF(D$3:D$482,">=35")+COUNTIF(D$3:D$482,"=0")+COUNTIF(D$3:D$482,"Undetermined")) | S6: =IF(COUNTIF(E$3:E$482,"<40")=0,"",COUNTIF(E$3:E$482,"N/A")+COUNTBLANK(E$3:E$482)+COUNTIF(E$3:E$482,">=35")+COUNTIF(E$3:E$482,"=0")+COUNTIF(E$3:E$482,"Undetermined")) | T6: =IF(COUNTIF(F$3:F$482,"<40")=0,"",COUNTIF(F$3:F$482,"N/A")+COUNTBLANK(F$3:F$482)+COUNTIF(F$3:F$482,">=35")+COUNTIF(F$3:F$482,"=0")+COUNTIF(F$3:F$482,"Undetermined")) | U6: =IF(COUNTIF(G$3:G$482,"<40")=0,"",COUNTIF(G$3:G$482,"N/A")+COUNTBLANK(G$3:G$482)+COUNTIF(G$3:G$482,">=35")+COUNTIF(G$3:G$482,"=0")+COUNTIF(G$3:G$482,"Undetermined")) | V6: =IF(COUNTIF(H$3:H$482,"<40")=0,"",COUNTIF(H$3:H$482,"N/A")+COUNTBLANK(H$3:H$482)+COUNTIF(H$3:H$482,">=35")+COUNTIF(H$3:H$482,"=0")+COUNTIF(H$3:H$482,"Undetermined")) | W6: =IF(COUNTIF(I$3:I$482,"<40")=0,"",COUNTIF(I$3:I$482,"N/A")+COUNTBLANK(I$3:I$482)+COUNTIF(I$3:I$482,">=35")+COUNTIF(I$3:I$482,"=0")+COUNTIF(I$3:I$482,"Undetermined")) | X6: =IF(COUNTIF(J$3:J$482,"<40")=0,"",COUNTIF(J$3:J$482,"N/A")+COUNTBLANK(J$3:J$482)+COUNTIF(J$3:J$482,">=35")+COUNTIF(J$3:J$482,"=0")+COUNTIF(J$3:J$482,"Undetermined")) | Y6: =IF(COUNTIF(K$3:K$482,"<40")=0,"",COUNTIF(K$3:K$482,"N/A")+COUNTBLANK(K$3:K$482)+COUNTIF(K$3:K$482,">=35")+COUNTIF(K$3:K$482,"=0")+COUNTIF(K$3:K$482,"Undetermined")) | ... AA6: =IF(COUNTIF(M$3:M$482,"<40")=0,"",COUNTIF(M$3:M$482,"N/A")+COUNTBLANK(M$3:M$482)+COUNTIF(M$3:M$482,">=35")+COUNTIF(M$3:M$482,"=0")+COUNTIF(M$3:M$482,"Undetermined")) | AB6: =AVERAGE(R6:AA6) -> #DIV/0! | AC6: =STDEV(R6:AA6) -> #DIV/0!
B7: ='Gene Table'!D7 -> NM_005432 | C7: A05 | N7: =AVERAGE(Calculations!P8:Y8) -> #DIV/0! | O7: =STDEV(Calculations!P8:Y8) -> #DIV/0! | Q7: Percent Distribution of Ct Values
B8: ='Gene Table'!D8 -> NM_000662 | C8: A06 | N8: =AVERAGE(Calculations!P9:Y9) -> #DIV/0! | O8: =STDEV(Calculations!P9:Y9) -> #DIV/0! | Q8: <25 | R8: =IF(R3="","",R3/SUM(R$3:R$6)) | S8: =IF(S3="","",S3/SUM(S$3:S$6)) | T8: =IF(T3="","",T3/SUM(T$3:T$6)) | U8: =IF(U3="","",U3/SUM(U$3:U$6)) | V8: =IF(V3="","",V3/SUM(V$3:V$6)) | W8: =IF(W3="","",W3/SUM(W$3:W$6)) | X8: =IF(X3="","",X3/SUM(X$3:X$6)) | Y8: =IF(Y3="","",Y3/SUM(Y$3:Y$6)) | ... AB8: =IF(AB3="","",AB3/SUM(AB$3:AB$6)) -> #DIV/0! | AC8: =STDEV(R8:AA8) -> #DIV/0!
B9: ='Gene Table'!D9 -> NM_005957 | C9: A07 | N9: =AVERAGE(Calculations!P10:Y10) -> #DIV/0! | O9: =STDEV(Calculations!P10:Y10) -> #DIV/0! | Q9: 25-30 | R9: =IF(R4="","",R4/SUM(R$3:R$6)) | S9: =IF(S4="","",S4/SUM(S$3:S$6)) | T9: =IF(T4="","",T4/SUM(T$3:T$6)) | U9: =IF(U4="","",U4/SUM(U$3:U$6)) | V9: =IF(V4="","",V4/SUM(V$3:V$6)) | W9: =IF(W4="","",W4/SUM(W$3:W$6)) | X9: =IF(X4="","",X4/SUM(X$3:X$6)) | Y9: =IF(Y4="","",Y4/SUM(Y$3:Y$6)) | ... AB9: =IF(AB4="","",AB4/SUM(AB$3:AB$6)) -> #DIV/0! | AC9: =STDEV(R9:AA9) -> #DIV/0!
B10: ='Gene Table'!D10 -> NM_000499 | C10: A08 | N10: =AVERAGE(Calculations!P11:Y11) -> #DIV/0! | O10: =STDEV(Calculations!P11:Y11) -> #DIV/0! | Q10: 30-35 | R10: =IF(R5="","",R5/SUM(R$3:R$6)) | S10: =IF(S5="","",S5/SUM(S$3:S$6)) | T10: =IF(T5="","",T5/SUM(T$3:T$6)) | U10: =IF(U5="","",U5/SUM(U$3:U$6)) | V10: =IF(V5="","",V5/SUM(V$3:V$6)) | W10: =IF(W5="","",W5/SUM(W$3:W$6)) | X10: =IF(X5="","",X5/SUM(X$3:X$6)) | Y10: =IF(Y5="","",Y5/SUM(Y$3:Y$6)) | ... AB10: =IF(AB5="","",AB5/SUM(AB$3:AB$6)) -> #DIV/0! | AC10: =STDEV(R10:AA10) -> #DIV/0!
B11: ='Gene Table'!D11 -> NM_004628 | C11: A09 | N11: =AVERAGE(Calculations!P12:Y12) -> #DIV/0! | O11: =STDEV(Calculations!P12:Y12) -> #DIV/0! | Q11: Absent Calls | R11: =IF(R6="","",R6/SUM(R$3:R$6)) | S11: =IF(S6="","",S6/SUM(S$3:S$6)) | T11: =IF(T6="","",T6/SUM(T$3:T$6)) | U11: =IF(U6="","",U6/SUM(U$3:U$6)) | V11: =IF(V6="","",V6/SUM(V$3:V$6)) | W11: =IF(W6="","",W6/SUM(W$3:W$6)) | X11: =IF(X6="","",X6/SUM(X$3:X$6)) | Y11: =IF(Y6="","",Y6/SUM(Y$3:Y$6)) | ... AB11: =IF(AB6="","",AB6/SUM(AB$3:AB$6)) -> #DIV/0! | AC11: =STDEV(R11:AA11) -> #DIV/0!
B12: ='Gene Table'!D12 -> NM_000142 | C12: A10 | N12: =AVERAGE(Calculations!P13:Y13) -> #DIV/0! | O12: =STDEV(Calculations!P13:Y13) -> #DIV/0!
B13: ='Gene Table'!D13 -> NM_002542 | C13: A11 | N13: =AVERAGE(Calculations!P14:Y14) -> #DIV/0! | O13: =STDEV(Calculations!P14:Y14) -> #DIV/0!
B14: ='Gene Table'!D14 -> NM_000903 | C14: A12 | N14: =AVERAGE(Calculations!P15:Y15) -> #DIV/0! | O14: =STDEV(Calculations!P15:Y15) -> #DIV/0!
B15: ='Gene Table'!D15 -> NM_001641 | C15: B01 | N15: =AVERAGE(Calculations!P16:Y16) -> #DIV/0! | O15: =STDEV(Calculations!P16:Y16) -> #DIV/0!
B16: ='Gene Table'!D16 -> NM_000594 | C16: B02 | N16: =AVERAGE(Calculations!P17:Y17) -> #DIV/0! | O16: =STDEV(Calculations!P17:Y17) -> #DIV/0!
B17: ='Gene Table'!D17 -> NM_053056 | C17: B03 | N17: =AVERAGE(Calculations!P18:Y18) -> #DIV/0! | O17: =STDEV(Calculations!P18:Y18) -> #DIV/0!
B18: ='Gene Table'!D18 -> NM_000123 | C18: B04 | N18: =AVERAGE(Calculations!P19:Y19) -> #DIV/0! | O18: =STDEV(Calculations!P19:Y19) -> #DIV/0!
B19: ='Gene Table'!D19 -> NM_177536 | C19: B05 | N19: =AVERAGE(Calculations!P20:Y20) -> #DIV/0! | O19: =STDEV(Calculations!P20:Y20) -> #DIV/0!
B20: ='Gene Table'!D20 -> NM_000636 | C20: B06 | N20: =AVERAGE(Calculations!P21:Y21) -> #DIV/0! | O20: =STDEV(Calculations!P21:Y21) -> #DIV/0!
B21: ='Gene Table'!D21 -> NM_002485 | C21: B07 | N21: =AVERAGE(Calculations!P22:Y22) -> #DIV/0! | O21: =STDEV(Calculations!P22:Y22) -> #DIV/0!
B22: ='Gene Table'!D22 -> NM_000254 | C22: B08 | N22: =AVERAGE(Calculations!P23:Y23) -> #DIV/0! | O22: =STDEV(Calculations!P23:Y23) -> #DIV/0!
B23: ='Gene Table'!D23 -> NM_002392 | C23: B09 | N23: =AVERAGE(Calculations!P24:Y24) -> #DIV/0! | O23: =STDEV(Calculations!P24:Y24) -> #DIV/0!
... B98: ='Gene Table'!D98 -> PCR | C98: H12 | N98: =AVERAGE(Calculations!P99:Y99) -> #DIV/0! | O98: =STDEV(Calculations!P99:Y99) -> #DIV/0!
A99: ='Gene Table'!A99 -> Plate 2 | B99: ='Gene Table'!D99 -> NM_007120 | C99: A01 | N99: =AVERAGE(Calculations!P100:Y100) -> #DIV/0! | O99: =STDEV(Calculations!P100:Y100) -> #DIV/0!
B100: ='Gene Table'!D100 -> NM_000535 | C100: A02 | N100: =AVERAGE(Calculations!P101:Y101) -> #DIV/0! | O100: =STDEV(Calculations!P101:Y101) -> #DIV/0!
B101: ='Gene Table'!D101 -> NM_000534 | C101: A03 | N101: =AVERAGE(Calculations!P102:Y102) -> #DIV/0! | O101: =STDEV(Calculations!P102:Y102) -> #DIV/0!
B102: ='Gene Table'!D102 -> NM_002467 | C102: A04 | N102: =AVERAGE(Calculations!P103:Y103) -> #DIV/0! | O102: =STDEV(Calculations!P103:Y103) -> #DIV/0!
B103: ='Gene Table'!D103 -> NM_002439 | C103: A05 | N103: =AVERAGE(Calculations!P104:Y104) -> #DIV/0! | O103: =STDEV(Calculations!P104:Y104) -> #DIV/0!
B104: ='Gene Table'!D104 -> NM_002426 | C104: A06 | N104: =AVERAGE(Calculations!P105:Y105) -> #DIV/0! | O104: =STDEV(Calculations!P105:Y105) -> #DIV/0!
B105: ='Gene Table'!D105 -> NM_002424 | C105: A07 | N105: =AVERAGE(Calculations!P106:Y106) -> #DIV/0! | O105: =STDEV(Calculations!P106:Y106) -> #DIV/0!
B106: ='Gene Table'!D106 -> NM_004530 | C106: A08 | N106: =AVERAGE(Calculations!P107:Y107) -> #DIV/0! | O106: =STDEV(Calculations!P107:Y107) -> #DIV/0!
B107: ='Gene Table'!D107 -> NM_001668 | C107: A09 | N107: =AVERAGE(Calculations!P108:Y108) -> #DIV/0! | O107: =STDEV(Calculations!P108:Y108) -> #DIV/0!
B108: ='Gene Table'!D108 -> NM_013975 | C108: A10 | N108: =AVERAGE(Calculations!P109:Y109) -> #DIV/0! | O108: =STDEV(Calculations!P109:Y109) -> #DIV/0!
B109: ='Gene Table'!D109 -> NM_000044 | C109: A11 | N109: =AVERAGE(Calculations!P110:Y110) -> #DIV/0! | O109: =STDEV(Calculations!P110:Y110) -> #DIV/0!
B110: ='Gene Table'!D110 -> NM_000882 | C110: A12 | N110: =AVERAGE(Calculations!P111:Y111) -> #DIV/0! | O110: =STDEV(Calculations!P111:Y111) -> #DIV/0!
B111: ='Gene Table'!D111 -> NM_000639 | C111: B01 | N111: =AVERAGE(Calculations!P112:Y112) -> #DIV/0! | O111: =STDEV(Calculations!P112:Y112) -> #DIV/0!
... B194: ='Gene Table'!D194 -> PCR | C194: H12 | N194: =AVERAGE(Calculations!P195:Y195) -> #DIV/0! | O194: =STDEV(Calculations!P195:Y195) -> #DIV/0!
A195: ='Gene Table'!A195 -> Plate 3 | B195: ='Gene Table'!D195 -> NM_130445 | C195: A01 | N195: =AVERAGE(Calculations!P196:Y196) -> #DIV/0! | O195: =STDEV(Calculations!P196:Y196) -> #DIV/0!
B196: ='Gene Table'!D196 -> NM_030578 | C196: A02 | N196: =AVERAGE(Calculations!P197:Y197) -> #DIV/0! | O196: =STDEV(Calculations!P197:Y197) -> #DIV/0!
B197: ='Gene Table'!D197 -> NM_001042529 | C197: A03 | N197: =AVERAGE(Calculations!P198:Y198) -> #DIV/0! | O197: =STDEV(Calculations!P198:Y198) -> #DIV/0!
B198: ='Gene Table'!D198 -> NM_001742 | C198: A04 | N198: =AVERAGE(Calculations!P199:Y199) -> #DIV/0! | O198: =STDEV(Calculations!P199:Y199) -> #DIV/0!
B199: ='Gene Table'!D199 -> NM_013309 | C199: A05 | N199: =AVERAGE(Calculations!P200:Y200) -> #DIV/0! | O199: =STDEV(Calculations!P200:Y200) -> #DIV/0!
B200: ='Gene Table'!D200 -> NM_006300 | C200: A06 | N200: =AVERAGE(Calculations!P201:Y201) -> #DIV/0! | O200: =STDEV(Calculations!P201:Y201) -> #DIV/0!
B201: ='Gene Table'!D201 -> NM_001079539 | C201: A07 | N201: =AVERAGE(Calculations!P202:Y202) -> #DIV/0! | O201: =STDEV(Calculations!P202:Y202) -> #DIV/0!
B202: ='Gene Table'!D202 -> NM_000553 | C202: A08 | N202: =AVERAGE(Calculations!P203:Y203) -> #DIV/0! | O202: =STDEV(Calculations!P203:Y203) -> #DIV/0!
B203: ='Gene Table'!D203 -> NM_003379 | C203: A09 | N203: =AVERAGE(Calculations!P204:Y204) -> #DIV/0! | O203: =STDEV(Calculations!P204:Y204) -> #DIV/0!
B204: ='Gene Table'!D204 -> NM_080682 | C204: A10 | N204: =AVERAGE(Calculations!P205:Y205) -> #DIV/0! | O204: =STDEV(Calculations!P205:Y205) -> #DIV/0!
B205: ='Gene Table'!D205 -> NM_003356 | C205: A11 | N205: =AVERAGE(Calculations!P206:Y206) -> #DIV/0! | O205: =STDEV(Calculations!P206:Y206) -> #DIV/0!
B206: ='Gene Table'!D206 -> NM_000372 | C206: A12 | N206: =AVERAGE(Calculations!P207:Y207) -> #DIV/0! | O206: =STDEV(Calculations!P207:Y207) -> #DIV/0!
B207: ='Gene Table'!D207 -> NM_006292 | C207: B01 | N207: =AVERAGE(Calculations!P208:Y208) -> #DIV/0! | O207: =STDEV(Calculations!P208:Y208) -> #DIV/0!
... B290: ='Gene Table'!D290 -> PCR | C290: H12 | N290: =AVERAGE(Calculations!P291:Y291) -> #DIV/0! | O290: =STDEV(Calculations!P291:Y291) -> #DIV/0!
A291: ='Gene Table'!A291 -> Plate 4 | B291: ='Gene Table'!D291 -> NM_006208 | C291: A01 | N291: =AVERAGE(Calculations!P292:Y292) -> #DIV/0! | O291: =STDEV(Calculations!P292:Y292) -> #DIV/0!
B292: ='Gene Table'!D292 -> NM_016218 | C292: A02 | N292: =AVERAGE(Calculations!P293:Y293) -> #DIV/0! | O292: =STDEV(Calculations!P293:Y293) -> #DIV/0!
B293: ='Gene Table'!D293 -> NM_001005783 | C293: A03 | N293: =AVERAGE(Calculations!P294:Y294) -> #DIV/0! | O293: =STDEV(Calculations!P294:Y294) -> #DIV/0!
B294: ='Gene Table'!D294 -> NM_002562 | C294: A04 | N294: =AVERAGE(Calculations!P295:Y295) -> #DIV/0! | O294: =STDEV(Calculations!P295:Y295) -> #DIV/0!
B295: ='Gene Table'!D295 -> NM_001008505 | C295: A05 | N295: =AVERAGE(Calculations!P296:Y296) -> #DIV/0! | O295: =STDEV(Calculations!P296:Y296) -> #DIV/0!
B296: ='Gene Table'!D296 -> NM_000275 | C296: A06 | N296: =AVERAGE(Calculations!P297:Y297) -> #DIV/0! | O296: =STDEV(Calculations!P297:Y297) -> #DIV/0!
B297: ='Gene Table'!D297 -> NM_002524 | C297: A07 | N297: =AVERAGE(Calculations!P298:Y298) -> #DIV/0! | O297: =STDEV(Calculations!P298:Y298) -> #DIV/0!
B298: ='Gene Table'!D298 -> NM_000603 | C298: A08 | N298: =AVERAGE(Calculations!P299:Y299) -> #DIV/0! | O298: =STDEV(Calculations!P299:Y299) -> #DIV/0!
B299: ='Gene Table'!D299 -> NM_000904 | C299: A09 | N299: =AVERAGE(Calculations!P300:Y300) -> #DIV/0! | O299: =STDEV(Calculations!P300:Y300) -> #DIV/0!
B300: ='Gene Table'!D300 -> NM_001678 | C300: A10 | N300: =AVERAGE(Calculations!P301:Y301) -> #DIV/0! | O300: =STDEV(Calculations!P301:Y301) -> #DIV/0!
B301: ='Gene Table'!D301 -> NM_004148 | C301: A11 | N301: =AVERAGE(Calculations!P302:Y302) -> #DIV/0! | O301: =STDEV(Calculations!P302:Y302) -> #DIV/0!
B302: ='Gene Table'!D302 -> NM_004556 | C302: A12 | N302: =AVERAGE(Calculations!P303:Y303) -> #DIV/0! | O302: =STDEV(Calculations!P303:Y303) -> #DIV/0!
B303: ='Gene Table'!D303 -> NM_000433 | C303: B01 | N303: =AVERAGE(Calculations!P304:Y304) -> #DIV/0! | O303: =STDEV(Calculations!P304:Y304) -> #DIV/0!
... B386: ='Gene Table'!D386 -> PCR | C386: H12 | N386: =AVERAGE(Calculations!P387:Y387) -> #DIV/0! | O386: =STDEV(Calculations!P387:Y387) -> #DIV/0!
A387: ='Gene Table'!A387:A482 -> Plate 5 | B387: ='Gene Table'!D387 -> NM_002083 | C387: A01 | N387: =AVERAGE(Calculations!P388:Y388) -> #DIV/0! | O387: =STDEV(Calculations!P388:Y388) -> #DIV/0!
B388: ='Gene Table'!D388 -> NM_002075 | C388: A02 | N388: =AVERAGE(Calculations!P389:Y389) -> #DIV/0! | O388: =STDEV(Calculations!P389:Y389) -> #DIV/0!
B389: ='Gene Table'!D389 -> NM_000516 | C389: A03 | N389: =AVERAGE(Calculations!P390:Y390) -> #DIV/0! | O389: =STDEV(Calculations!P390:Y390) -> #DIV/0!
B390: ='Gene Table'!D390 -> NM_013274 | C390: A04 | N390: =AVERAGE(Calculations!P391:Y391) -> #DIV/0! | O390: =STDEV(Calculations!P391:Y391) -> #DIV/0!
B391: ='Gene Table'!D391 -> NM_014475 | C391: A05 | N391: =AVERAGE(Calculations!P392:Y392) -> #DIV/0! | O391: =STDEV(Calculations!P392:Y392) -> #DIV/0!
B392: ='Gene Table'!D392 -> NM_012419 | C392: A06 | N392: =AVERAGE(Calculations!P393:Y393) -> #DIV/0! | O392: =STDEV(Calculations!P393:Y393) -> #DIV/0!
B393: ='Gene Table'!D393 -> NM_000583 | C393: A07 | N393: =AVERAGE(Calculations!P394:Y394) -> #DIV/0! | O393: =STDEV(Calculations!P394:Y394) -> #DIV/0!
B394: ='Gene Table'!D394 -> NM_014365 | C394: A08 | N394: =AVERAGE(Calculations!P395:Y395) -> #DIV/0! | O394: =STDEV(Calculations!P395:Y395) -> #DIV/0!
B395: ='Gene Table'!D395 -> NM_015515 | C395: A09 | N395: =AVERAGE(Calculations!P396:Y396) -> #DIV/0! | O395: =STDEV(Calculations!P396:Y396) -> #DIV/0!
B396: ='Gene Table'!D396 -> NM_001042594 | C396: A10 | N396: =AVERAGE(Calculations!P397:Y397) -> #DIV/0! | O396: =STDEV(Calculations!P397:Y397) -> #DIV/0!
B397: ='Gene Table'!D397 -> NM_012134 | C397: A11 | N397: =AVERAGE(Calculations!P398:Y398) -> #DIV/0! | O397: =STDEV(Calculations!P398:Y398) -> #DIV/0!
B398: ='Gene Table'!D398 -> NM_178510 | C398: A12 | N398: =AVERAGE(Calculations!P399:Y399) -> #DIV/0! | O398: =STDEV(Calculations!P399:Y399) -> #DIV/0!
B399: ='Gene Table'!D399 -> NM_001469 | C399: B01 | N399: =AVERAGE(Calculations!P400:Y400) -> #DIV/0! | O399: =STDEV(Calculations!P400:Y400) -> #DIV/0!
... B482: ='Gene Table'!D482 -> PCR | C482: H12 | N482: =AVERAGE(Calculations!P483:Y483) -> #DIV/0! | O482: =STDEV(Calculations!P483:Y483) -> #DIV/0!

Sheet Choose Housekeeping Genes
A1: Plate | B1: Housekeeping Gene Symbol | C1: Well | D1: =Results!D2 -> Test Sample | N1: Housekeeping Gene Symbol | O1: Well | P1: =Results!E2 -> Control Sample
D2: exp1 | E2: exp2 | F2: exp3 | G2: exp4 | H2: exp5 | I2: exp6 | J2: exp7 | K2: exp8 | L2: exp9 | M2: exp10 | P2: exp1 | Q2: exp2 | R2: exp3 | S2: exp4 | T2: exp5 | U2: exp6 | V2: exp7 | W2: exp8 | X2: exp9 | Y2: exp10
A3: Plate 1 | B3: =IF(C3="","",VLOOKUP(C3,'Gene Table'!B$3:D$98,2,FALSE)) -> HQP006940 | C3: H03 | D3: =IF(C3="","",IF(VLOOKUP($C3,'Test Sample Data'!$C$3:$M$98,2,FALSE)=0,"",VLOOKUP($C3,'Test Sample Data'!$C$3:$M$98,2,FALSE))) | E3: =IF(C3="","",IF(VLOOKUP($C3,'Test Sample Data'!$C$3:$M$98,3,FALSE)=0,"",VLOOKUP($C3,'Test Sample Data'!$C$3:$M$98,3,FALSE))) | F3: =IF(C3="","",IF(VLOOKUP($C3,'Test Sample Data'!$C$3:$M$98,4,FALSE)=0,"",VLOOKUP($C3,'Test Sample Data'!$C$3:$M$98,4,FALSE))) | G3: =IF(C3="","",IF(VLOOKUP($C3,'Test Sample Data'!$C$3:$M$98,5,FALSE)=0,"",VLOOKUP($C3,'Test Sample Data'!$C$3:$M$98,5,FALSE))) | H3: =IF(C3="","",IF(VLOOKUP($C3,'Test Sample Data'!$C$3:$M$98,6,FALSE)=0,"",VLOOKUP($C3,'Test Sample Data'!$C$3:$M$98,6,FALSE))) | I3: =IF(C3="","",IF(VLOOKUP($C3,'Test Sample Data'!$C$3:$M$98,7,FALSE)=0,"",VLOOKUP($C3,'Test Sample Data'!$C$3:$M$98,7,FALSE))) | J3: =IF(C3="","",IF(VLOOKUP($C3,'Test Sample Data'!$C$3:$M$98,8,FALSE)=0,"",VLOOKUP($C3,'Test Sample Data'!$C$3:$M$98,8,FALSE))) | K3: =IF(C3="","",IF(VLOOKUP($C3,'Test Sample Data'!$C$3:$M$98,9,FALSE)=0,"",VLOOKUP($C3,'Test Sample Data'!$C$3:$M$98,9,FALSE))) | L3: =IF(C3="","",IF(VLOOKUP($C3,'Test Sample Data'!$C$3:$M$98,10,FALSE)=0,"",VLOOKUP($C3,'Test Sample Data'!$C$3:$M$98,10,FALSE))) | M3: =IF(C3="","",IF(VLOOKUP($C3,'Test Sample Data'!$C$3:$M$98,11,FALSE)=0,"",VLOOKUP($C3,'Test Sample Data'!$C$3:$M$98,11,FALSE))) | N3: =IF(B3=0,"",B3) -> HQP006940 | O3: =IF('Choose Housekeeping Genes'!C3=0,"",'Choose Housekeeping Genes'!C3) -> H03 | P3: =IF(C3="","",IF(VLOOKUP($C3,'Control Sample Data'!$C$3:$M$98,2,FALSE)=0,"",VLOOKUP($C3,'Control Sample Data'!$C$3:$M$98,2,FALSE))) | Q3: =IF(C3="","",IF(VLOOKUP($C3,'Control Sample Data'!$C$3:$M$98,3,FALSE)=0,"",VLOOKUP($C3,'Control Sample Data'!$C$3:$M$98,3,FALSE))) | R3: =IF(C3="","",IF(VLOOKUP($C3,'Control Sample Data'!$C$3:$M$98,4,FALSE)=0,"",VLOOKUP($C3,'Control Sample Data'!$C$3:$M$98,4,FALSE))) | S3: =IF(C3="","",IF(VLOOKUP($C3,'Control Sample Data'!$C$3:$M$98,5,FALSE)=0,"",VLOOKUP($C3,'Control Sample Data'!$C$3:$M$98,5,FALSE))) | T3: =IF(C3="","",IF(VLOOKUP($C3,'Control Sample Data'!$C$3:$M$98,6,FALSE)=0,"",VLOOKUP($C3,'Control Sample Data'!$C$3:$M$98,6,FALSE))) | U3: =IF(C3="","",IF(VLOOKUP($C3,'Control Sample Data'!$C$3:$M$98,7,FALSE)=0,"",VLOOKUP($C3,'Control Sample Data'!$C$3:$M$98,7,FALSE))) | V3: =IF(C3="","",IF(VLOOKUP($C3,'Control Sample Data'!$C$3:$M$98,8,FALSE)=0,"",VLOOKUP($C3,'Control Sample Data'!$C$3:$M$98,8,FALSE))) | W3: =IF(C3="","",IF(VLOOKUP($C3,'Control Sample Data'!$C$3:$M$98,9,FALSE)=0,"",VLOOKUP($C3,'Control Sample Data'!$C$3:$M$98,9,FALSE))) | X3: =IF(C3="","",IF(VLOOKUP($C3,'Control Sample Data'!$C$3:$M$98,10,FALSE)=0,"",VLOOKUP($C3,'Control Sample Data'!$C$3:$M$98,10,FALSE))) | Y3: =IF(C3="","",IF(VLOOKUP($C3,'Control Sample Data'!$C$3:$M$98,11,FALSE)=0,"",VLOOKUP($C3,'Control Sample Data'!$C$3:$M$98,11,FALSE)))
B4: =IF(C4="","",VLOOKUP(C4,'Gene Table'!B$3:D$98,2,FALSE)) -> HQP016381 | C4: H04 | D4: =IF(C4="","",IF(VLOOKUP($C4,'Test Sample Data'!$C$3:$M$98,2,FALSE)=0,"",VLOOKUP($C4,'Test Sample Data'!$C$3:$M$98,2,FALSE))) | E4: =IF(C4="","",IF(VLOOKUP($C4,'Test Sample Data'!$C$3:$M$98,3,FALSE)=0,"",VLOOKUP($C4,'Test Sample Data'!$C$3:$M$98,3,FALSE))) | F4: =IF(C4="","",IF(VLOOKUP($C4,'Test Sample Data'!$C$3:$M$98,4,FALSE)=0,"",VLOOKUP($C4,'Test Sample Data'!$C$3:$M$98,4,FALSE))) | G4: =IF(C4="","",IF(VLOOKUP($C4,'Test Sample Data'!$C$3:$M$98,5,FALSE)=0,"",VLOOKUP($C4,'Test Sample Data'!$C$3:$M$98,5,FALSE))) | H4: =IF(C4="","",IF(VLOOKUP($C4,'Test Sample Data'!$C$3:$M$98,6,FALSE)=0,"",VLOOKUP($C4,'Test Sample Data'!$C$3:$M$98,6,FALSE))) | I4: =IF(C4="","",IF(VLOOKUP($C4,'Test Sample Data'!$C$3:$M$98,7,FALSE)=0,"",VLOOKUP($C4,'Test Sample Data'!$C$3:$M$98,7,FALSE))) | J4: =IF(C4="","",IF(VLOOKUP($C4,'Test Sample Data'!$C$3:$M$98,8,FALSE)=0,"",VLOOKUP($C4,'Test Sample Data'!$C$3:$M$98,8,FALSE))) | K4: =IF(C4="","",IF(VLOOKUP($C4,'Test Sample Data'!$C$3:$M$98,9,FALSE)=0,"",VLOOKUP($C4,'Test Sample Data'!$C$3:$M$98,9,FALSE))) | L4: =IF(C4="","",IF(VLOOKUP($C4,'Test Sample Data'!$C$3:$M$98,10,FALSE)=0,"",VLOOKUP($C4,'Test Sample Data'!$C$3:$M$98,10,FALSE))) | M4: =IF(C4="","",IF(VLOOKUP($C4,'Test Sample Data'!$C$3:$M$98,11,FALSE)=0,"",VLOOKUP($C4,'Test Sample Data'!$C$3:$M$98,11,FALSE))) | N4: =IF(B4=0,"",B4) -> HQP016381 | O4: =IF('Choose Housekeeping Genes'!C4=0,"",'Choose Housekeeping Genes'!C4) -> H04 | P4: =IF(C4="","",IF(VLOOKUP($C4,'Control Sample Data'!$C$3:$M$98,2,FALSE)=0,"",VLOOKUP($C4,'Control Sample Data'!$C$3:$M$98,2,FALSE))) | Q4: =IF(C4="","",IF(VLOOKUP($C4,'Control Sample Data'!$C$3:$M$98,3,FALSE)=0,"",VLOOKUP($C4,'Control Sample Data'!$C$3:$M$98,3,FALSE))) | R4: =IF(C4="","",IF(VLOOKUP($C4,'Control Sample Data'!$C$3:$M$98,4,FALSE)=0,"",VLOOKUP($C4,'Control Sample Data'!$C$3:$M$98,4,FALSE))) | S4: =IF(C4="","",IF(VLOOKUP($C4,'Control Sample Data'!$C$3:$M$98,5,FALSE)=0,"",VLOOKUP($C4,'Control Sample Data'!$C$3:$M$98,5,FALSE))) | T4: =IF(C4="","",IF(VLOOKUP($C4,'Control Sample Data'!$C$3:$M$98,6,FALSE)=0,"",VLOOKUP($C4,'Control Sample Data'!$C$3:$M$98,6,FALSE))) | U4: =IF(C4="","",IF(VLOOKUP($C4,'Control Sample Data'!$C$3:$M$98,7,FALSE)=0,"",VLOOKUP($C4,'Control Sample Data'!$C$3:$M$98,7,FALSE))) | V4: =IF(C4="","",IF(VLOOKUP($C4,'Control Sample Data'!$C$3:$M$98,8,FALSE)=0,"",VLOOKUP($C4,'Control Sample Data'!$C$3:$M$98,8,FALSE))) | W4: =IF(C4="","",IF(VLOOKUP($C4,'Control Sample Data'!$C$3:$M$98,9,FALSE)=0,"",VLOOKUP($C4,'Control Sample Data'!$C$3:$M$98,9,FALSE))) | X4: =IF(C4="","",IF(VLOOKUP($C4,'Control Sample Data'!$C$3:$M$98,10,FALSE)=0,"",VLOOKUP($C4,'Control Sample Data'!$C$3:$M$98,10,FALSE))) | Y4: =IF(C4="","",IF(VLOOKUP($C4,'Control Sample Data'!$C$3:$M$98,11,FALSE)=0,"",VLOOKUP($C4,'Control Sample Data'!$C$3:$M$98,11,FALSE)))
B5: =IF(C5="","",VLOOKUP(C5,'Gene Table'!B$3:D$98,2,FALSE)) -> HQP015171 | C5: H05 | D5: =IF(C5="","",IF(VLOOKUP($C5,'Test Sample Data'!$C$3:$M$98,2,FALSE)=0,"",VLOOKUP($C5,'Test Sample Data'!$C$3:$M$98,2,FALSE))) | E5: =IF(C5="","",IF(VLOOKUP($C5,'Test Sample Data'!$C$3:$M$98,3,FALSE)=0,"",VLOOKUP($C5,'Test Sample Data'!$C$3:$M$98,3,FALSE))) | F5: =IF(C5="","",IF(VLOOKUP($C5,'Test Sample Data'!$C$3:$M$98,4,FALSE)=0,"",VLOOKUP($C5,'Test Sample Data'!$C$3:$M$98,4,FALSE))) | G5: =IF(C5="","",IF(VLOOKUP($C5,'Test Sample Data'!$C$3:$M$98,5,FALSE)=0,"",VLOOKUP($C5,'Test Sample Data'!$C$3:$M$98,5,FALSE))) | H5: =IF(C5="","",IF(VLOOKUP($C5,'Test Sample Data'!$C$3:$M$98,6,FALSE)=0,"",VLOOKUP($C5,'Test Sample Data'!$C$3:$M$98,6,FALSE))) | I5: =IF(C5="","",IF(VLOOKUP($C5,'Test Sample Data'!$C$3:$M$98,7,FALSE)=0,"",VLOOKUP($C5,'Test Sample Data'!$C$3:$M$98,7,FALSE))) | J5: =IF(C5="","",IF(VLOOKUP($C5,'Test Sample Data'!$C$3:$M$98,8,FALSE)=0,"",VLOOKUP($C5,'Test Sample Data'!$C$3:$M$98,8,FALSE))) | K5: =IF(C5="","",IF(VLOOKUP($C5,'Test Sample Data'!$C$3:$M$98,9,FALSE)=0,"",VLOOKUP($C5,'Test Sample Data'!$C$3:$M$98,9,FALSE))) | L5: =IF(C5="","",IF(VLOOKUP($C5,'Test Sample Data'!$C$3:$M$98,10,FALSE)=0,"",VLOOKUP($C5,'Test Sample Data'!$C$3:$M$98,10,FALSE))) | M5: =IF(C5="","",IF(VLOOKUP($C5,'Test Sample Data'!$C$3:$M$98,11,FALSE)=0,"",VLOOKUP($C5,'Test Sample Data'!$C$3:$M$98,11,FALSE))) | N5: =IF(B5=0,"",B5) -> HQP015171 | O5: =IF('Choose Housekeeping Genes'!C5=0,"",'Choose Housekeeping Genes'!C5) -> H05 | P5: =IF(C5="","",IF(VLOOKUP($C5,'Control Sample Data'!$C$3:$M$98,2,FALSE)=0,"",VLOOKUP($C5,'Control Sample Data'!$C$3:$M$98,2,FALSE))) | Q5: =IF(C5="","",IF(VLOOKUP($C5,'Control Sample Data'!$C$3:$M$98,3,FALSE)=0,"",VLOOKUP($C5,'Control Sample Data'!$C$3:$M$98,3,FALSE))) | R5: =IF(C5="","",IF(VLOOKUP($C5,'Control Sample Data'!$C$3:$M$98,4,FALSE)=0,"",VLOOKUP($C5,'Control Sample Data'!$C$3:$M$98,4,FALSE))) | S5: =IF(C5="","",IF(VLOOKUP($C5,'Control Sample Data'!$C$3:$M$98,5,FALSE)=0,"",VLOOKUP($C5,'Control Sample Data'!$C$3:$M$98,5,FALSE))) | T5: =IF(C5="","",IF(VLOOKUP($C5,'Control Sample Data'!$C$3:$M$98,6,FALSE)=0,"",VLOOKUP($C5,'Control Sample Data'!$C$3:$M$98,6,FALSE))) | U5: =IF(C5="","",IF(VLOOKUP($C5,'Control Sample Data'!$C$3:$M$98,7,FALSE)=0,"",VLOOKUP($C5,'Control Sample Data'!$C$3:$M$98,7,FALSE))) | V5: =IF(C5="","",IF(VLOOKUP($C5,'Control Sample Data'!$C$3:$M$98,8,FALSE)=0,"",VLOOKUP($C5,'Control Sample Data'!$C$3:$M$98,8,FALSE))) | W5: =IF(C5="","",IF(VLOOKUP($C5,'Control Sample Data'!$C$3:$M$98,9,FALSE)=0,"",VLOOKUP($C5,'Control Sample Data'!$C$3:$M$98,9,FALSE))) | X5: =IF(C5="","",IF(VLOOKUP($C5,'Control Sample Data'!$C$3:$M$98,10,FALSE)=0,"",VLOOKUP($C5,'Control Sample Data'!$C$3:$M$98,10,FALSE))) | Y5: =IF(C5="","",IF(VLOOKUP($C5,'Control Sample Data'!$C$3:$M$98,11,FALSE)=0,"",VLOOKUP($C5,'Control Sample Data'!$C$3:$M$98,11,FALSE)))
B6: =IF(C6="","",VLOOKUP(C6,'Gene Table'!B$3:D$98,2,FALSE)) -> HQP006171 | C6: H06 | D6: =IF(C6="","",IF(VLOOKUP($C6,'Test Sample Data'!$C$3:$M$98,2,FALSE)=0,"",VLOOKUP($C6,'Test Sample Data'!$C$3:$M$98,2,FALSE))) | E6: =IF(C6="","",IF(VLOOKUP($C6,'Test Sample Data'!$C$3:$M$98,3,FALSE)=0,"",VLOOKUP($C6,'Test Sample Data'!$C$3:$M$98,3,FALSE))) | F6: =IF(C6="","",IF(VLOOKUP($C6,'Test Sample Data'!$C$3:$M$98,4,FALSE)=0,"",VLOOKUP($C6,'Test Sample Data'!$C$3:$M$98,4,FALSE))) | G6: =IF(C6="","",IF(VLOOKUP($C6,'Test Sample Data'!$C$3:$M$98,5,FALSE)=0,"",VLOOKUP($C6,'Test Sample Data'!$C$3:$M$98,5,FALSE))) | H6: =IF(C6="","",IF(VLOOKUP($C6,'Test Sample Data'!$C$3:$M$98,6,FALSE)=0,"",VLOOKUP($C6,'Test Sample Data'!$C$3:$M$98,6,FALSE))) | I6: =IF(C6="","",IF(VLOOKUP($C6,'Test Sample Data'!$C$3:$M$98,7,FALSE)=0,"",VLOOKUP($C6,'Test Sample Data'!$C$3:$M$98,7,FALSE))) | J6: =IF(C6="","",IF(VLOOKUP($C6,'Test Sample Data'!$C$3:$M$98,8,FALSE)=0,"",VLOOKUP($C6,'Test Sample Data'!$C$3:$M$98,8,FALSE))) | K6: =IF(C6="","",IF(VLOOKUP($C6,'Test Sample Data'!$C$3:$M$98,9,FALSE)=0,"",VLOOKUP($C6,'Test Sample Data'!$C$3:$M$98,9,FALSE))) | L6: =IF(C6="","",IF(VLOOKUP($C6,'Test Sample Data'!$C$3:$M$98,10,FALSE)=0,"",VLOOKUP($C6,'Test Sample Data'!$C$3:$M$98,10,FALSE))) | M6: =IF(C6="","",IF(VLOOKUP($C6,'Test Sample Data'!$C$3:$M$98,11,FALSE)=0,"",VLOOKUP($C6,'Test Sample Data'!$C$3:$M$98,11,FALSE))) | N6: =IF(B6=0,"",B6) -> HQP006171 | O6: =IF('Choose Housekeeping Genes'!C6=0,"",'Choose Housekeeping Genes'!C6) -> H06 | P6: =IF(C6="","",IF(VLOOKUP($C6,'Control Sample Data'!$C$3:$M$98,2,FALSE)=0,"",VLOOKUP($C6,'Control Sample Data'!$C$3:$M$98,2,FALSE))) | Q6: =IF(C6="","",IF(VLOOKUP($C6,'Control Sample Data'!$C$3:$M$98,3,FALSE)=0,"",VLOOKUP($C6,'Control Sample Data'!$C$3:$M$98,3,FALSE))) | R6: =IF(C6="","",IF(VLOOKUP($C6,'Control Sample Data'!$C$3:$M$98,4,FALSE)=0,"",VLOOKUP($C6,'Control Sample Data'!$C$3:$M$98,4,FALSE))) | S6: =IF(C6="","",IF(VLOOKUP($C6,'Control Sample Data'!$C$3:$M$98,5,FALSE)=0,"",VLOOKUP($C6,'Control Sample Data'!$C$3:$M$98,5,FALSE))) | T6: =IF(C6="","",IF(VLOOKUP($C6,'Control Sample Data'!$C$3:$M$98,6,FALSE)=0,"",VLOOKUP($C6,'Control Sample Data'!$C$3:$M$98,6,FALSE))) | U6: =IF(C6="","",IF(VLOOKUP($C6,'Control Sample Data'!$C$3:$M$98,7,FALSE)=0,"",VLOOKUP($C6,'Control Sample Data'!$C$3:$M$98,7,FALSE))) | V6: =IF(C6="","",IF(VLOOKUP($C6,'Control Sample Data'!$C$3:$M$98,8,FALSE)=0,"",VLOOKUP($C6,'Control Sample Data'!$C$3:$M$98,8,FALSE))) | W6: =IF(C6="","",IF(VLOOKUP($C6,'Control Sample Data'!$C$3:$M$98,9,FALSE)=0,"",VLOOKUP($C6,'Control Sample Data'!$C$3:$M$98,9,FALSE))) | X6: =IF(C6="","",IF(VLOOKUP($C6,'Control Sample Data'!$C$3:$M$98,10,FALSE)=0,"",VLOOKUP($C6,'Control Sample Data'!$C$3:$M$98,10,FALSE))) | Y6: =IF(C6="","",IF(VLOOKUP($C6,'Control Sample Data'!$C$3:$M$98,11,FALSE)=0,"",VLOOKUP($C6,'Control Sample Data'!$C$3:$M$98,11,FALSE)))
B7: =IF(C7="","",VLOOKUP(C7,'Gene Table'!B$3:D$98,2,FALSE)) -> HQP009026 | C7: H07 | D7: =IF(C7="","",IF(VLOOKUP($C7,'Test Sample Data'!$C$3:$M$98,2,FALSE)=0,"",VLOOKUP($C7,'Test Sample Data'!$C$3:$M$98,2,FALSE))) | E7: =IF(C7="","",IF(VLOOKUP($C7,'Test Sample Data'!$C$3:$M$98,3,FALSE)=0,"",VLOOKUP($C7,'Test Sample Data'!$C$3:$M$98,3,FALSE))) | F7: =IF(C7="","",IF(VLOOKUP($C7,'Test Sample Data'!$C$3:$M$98,4,FALSE)=0,"",VLOOKUP($C7,'Test Sample Data'!$C$3:$M$98,4,FALSE))) | G7: =IF(C7="","",IF(VLOOKUP($C7,'Test Sample Data'!$C$3:$M$98,5,FALSE)=0,"",VLOOKUP($C7,'Test Sample Data'!$C$3:$M$98,5,FALSE))) | H7: =IF(C7="","",IF(VLOOKUP($C7,'Test Sample Data'!$C$3:$M$98,6,FALSE)=0,"",VLOOKUP($C7,'Test Sample Data'!$C$3:$M$98,6,FALSE))) | I7: =IF(C7="","",IF(VLOOKUP($C7,'Test Sample Data'!$C$3:$M$98,7,FALSE)=0,"",VLOOKUP($C7,'Test Sample Data'!$C$3:$M$98,7,FALSE))) | J7: =IF(C7="","",IF(VLOOKUP($C7,'Test Sample Data'!$C$3:$M$98,8,FALSE)=0,"",VLOOKUP($C7,'Test Sample Data'!$C$3:$M$98,8,FALSE))) | K7: =IF(C7="","",IF(VLOOKUP($C7,'Test Sample Data'!$C$3:$M$98,9,FALSE)=0,"",VLOOKUP($C7,'Test Sample Data'!$C$3:$M$98,9,FALSE))) | L7: =IF(C7="","",IF(VLOOKUP($C7,'Test Sample Data'!$C$3:$M$98,10,FALSE)=0,"",VLOOKUP($C7,'Test Sample Data'!$C$3:$M$98,10,FALSE))) | M7: =IF(C7="","",IF(VLOOKUP($C7,'Test Sample Data'!$C$3:$M$98,11,FALSE)=0,"",VLOOKUP($C7,'Test Sample Data'!$C$3:$M$98,11,FALSE))) | N7: =IF(B7=0,"",B7) -> HQP009026 | O7: =IF('Choose Housekeeping Genes'!C7=0,"",'Choose Housekeeping Genes'!C7) -> H07 | P7: =IF(C7="","",IF(VLOOKUP($C7,'Control Sample Data'!$C$3:$M$98,2,FALSE)=0,"",VLOOKUP($C7,'Control Sample Data'!$C$3:$M$98,2,FALSE))) | Q7: =IF(C7="","",IF(VLOOKUP($C7,'Control Sample Data'!$C$3:$M$98,3,FALSE)=0,"",VLOOKUP($C7,'Control Sample Data'!$C$3:$M$98,3,FALSE))) | R7: =IF(C7="","",IF(VLOOKUP($C7,'Control Sample Data'!$C$3:$M$98,4,FALSE)=0,"",VLOOKUP($C7,'Control Sample Data'!$C$3:$M$98,4,FALSE))) | S7: =IF(C7="","",IF(VLOOKUP($C7,'Control Sample Data'!$C$3:$M$98,5,FALSE)=0,"",VLOOKUP($C7,'Control Sample Data'!$C$3:$M$98,5,FALSE))) | T7: =IF(C7="","",IF(VLOOKUP($C7,'Control Sample Data'!$C$3:$M$98,6,FALSE)=0,"",VLOOKUP($C7,'Control Sample Data'!$C$3:$M$98,6,FALSE))) | U7: =IF(C7="","",IF(VLOOKUP($C7,'Control Sample Data'!$C$3:$M$98,7,FALSE)=0,"",VLOOKUP($C7,'Control Sample Data'!$C$3:$M$98,7,FALSE))) | V7: =IF(C7="","",IF(VLOOKUP($C7,'Control Sample Data'!$C$3:$M$98,8,FALSE)=0,"",VLOOKUP($C7,'Control Sample Data'!$C$3:$M$98,8,FALSE))) | W7: =IF(C7="","",IF(VLOOKUP($C7,'Control Sample Data'!$C$3:$M$98,9,FALSE)=0,"",VLOOKUP($C7,'Control Sample Data'!$C$3:$M$98,9,FALSE))) | X7: =IF(C7="","",IF(VLOOKUP($C7,'Control Sample Data'!$C$3:$M$98,10,FALSE)=0,"",VLOOKUP($C7,'Control Sample Data'!$C$3:$M$98,10,FALSE))) | Y7: =IF(C7="","",IF(VLOOKUP($C7,'Control Sample Data'!$C$3:$M$98,11,FALSE)=0,"",VLOOKUP($C7,'Control Sample Data'!$C$3:$M$98,11,FALSE)))
B8: =IF(C8="","",VLOOKUP(C8,'Gene Table'!B$3:D$98,2,FALSE)) -> HQP054253 | C8: H08 | D8: =IF(C8="","",IF(VLOOKUP($C8,'Test Sample Data'!$C$3:$M$98,2,FALSE)=0,"",VLOOKUP($C8,'Test Sample Data'!$C$3:$M$98,2,FALSE))) | E8: =IF(C8="","",IF(VLOOKUP($C8,'Test Sample Data'!$C$3:$M$98,3,FALSE)=0,"",VLOOKUP($C8,'Test Sample Data'!$C$3:$M$98,3,FALSE))) | F8: =IF(C8="","",IF(VLOOKUP($C8,'Test Sample Data'!$C$3:$M$98,4,FALSE)=0,"",VLOOKUP($C8,'Test Sample Data'!$C$3:$M$98,4,FALSE))) | G8: =IF(C8="","",IF(VLOOKUP($C8,'Test Sample Data'!$C$3:$M$98,5,FALSE)=0,"",VLOOKUP($C8,'Test Sample Data'!$C$3:$M$98,5,FALSE))) | H8: =IF(C8="","",IF(VLOOKUP($C8,'Test Sample Data'!$C$3:$M$98,6,FALSE)=0,"",VLOOKUP($C8,'Test Sample Data'!$C$3:$M$98,6,FALSE))) | I8: =IF(C8="","",IF(VLOOKUP($C8,'Test Sample Data'!$C$3:$M$98,7,FALSE)=0,"",VLOOKUP($C8,'Test Sample Data'!$C$3:$M$98,7,FALSE))) | J8: =IF(C8="","",IF(VLOOKUP($C8,'Test Sample Data'!$C$3:$M$98,8,FALSE)=0,"",VLOOKUP($C8,'Test Sample Data'!$C$3:$M$98,8,FALSE))) | K8: =IF(C8="","",IF(VLOOKUP($C8,'Test Sample Data'!$C$3:$M$98,9,FALSE)=0,"",VLOOKUP($C8,'Test Sample Data'!$C$3:$M$98,9,FALSE))) | L8: =IF(C8="","",IF(VLOOKUP($C8,'Test Sample Data'!$C$3:$M$98,10,FALSE)=0,"",VLOOKUP($C8,'Test Sample Data'!$C$3:$M$98,10,FALSE))) | M8: =IF(C8="","",IF(VLOOKUP($C8,'Test Sample Data'!$C$3:$M$98,11,FALSE)=0,"",VLOOKUP($C8,'Test Sample Data'!$C$3:$M$98,11,FALSE))) | N8: =IF(B8=0,"",B8) -> HQP054253 | O8: =IF('Choose Housekeeping Genes'!C8=0,"",'Choose Housekeeping Genes'!C8) -> H08 | P8: =IF(C8="","",IF(VLOOKUP($C8,'Control Sample Data'!$C$3:$M$98,2,FALSE)=0,"",VLOOKUP($C8,'Control Sample Data'!$C$3:$M$98,2,FALSE))) | Q8: =IF(C8="","",IF(VLOOKUP($C8,'Control Sample Data'!$C$3:$M$98,3,FALSE)=0,"",VLOOKUP($C8,'Control Sample Data'!$C$3:$M$98,3,FALSE))) | R8: =IF(C8="","",IF(VLOOKUP($C8,'Control Sample Data'!$C$3:$M$98,4,FALSE)=0,"",VLOOKUP($C8,'Control Sample Data'!$C$3:$M$98,4,FALSE))) | S8: =IF(C8="","",IF(VLOOKUP($C8,'Control Sample Data'!$C$3:$M$98,5,FALSE)=0,"",VLOOKUP($C8,'Control Sample Data'!$C$3:$M$98,5,FALSE))) | T8: =IF(C8="","",IF(VLOOKUP($C8,'Control Sample Data'!$C$3:$M$98,6,FALSE)=0,"",VLOOKUP($C8,'Control Sample Data'!$C$3:$M$98,6,FALSE))) | U8: =IF(C8="","",IF(VLOOKUP($C8,'Control Sample Data'!$C$3:$M$98,7,FALSE)=0,"",VLOOKUP($C8,'Control Sample Data'!$C$3:$M$98,7,FALSE))) | V8: =IF(C8="","",IF(VLOOKUP($C8,'Control Sample Data'!$C$3:$M$98,8,FALSE)=0,"",VLOOKUP($C8,'Control Sample Data'!$C$3:$M$98,8,FALSE))) | W8: =IF(C8="","",IF(VLOOKUP($C8,'Control Sample Data'!$C$3:$M$98,9,FALSE)=0,"",VLOOKUP($C8,'Control Sample Data'!$C$3:$M$98,9,FALSE))) | X8: =IF(C8="","",IF(VLOOKUP($C8,'Control Sample Data'!$C$3:$M$98,10,FALSE)=0,"",VLOOKUP($C8,'Control Sample Data'!$C$3:$M$98,10,FALSE))) | Y8: =IF(C8="","",IF(VLOOKUP($C8,'Control Sample Data'!$C$3:$M$98,11,FALSE)=0,"",VLOOKUP($C8,'Control Sample Data'!$C$3:$M$98,11,FALSE)))
B9: =IF(C9="","",VLOOKUP(C9,'Gene Table'!B$3:D$98,2,FALSE)) | D9: =IF(C9="","",IF(VLOOKUP($C9,'Test Sample Data'!$C$3:$M$98,2,FALSE)=0,"",VLOOKUP($C9,'Test Sample Data'!$C$3:$M$98,2,FALSE))) | E9: =IF(C9="","",IF(VLOOKUP($C9,'Test Sample Data'!$C$3:$M$98,3,FALSE)=0,"",VLOOKUP($C9,'Test Sample Data'!$C$3:$M$98,3,FALSE))) | F9: =IF(C9="","",IF(VLOOKUP($C9,'Test Sample Data'!$C$3:$M$98,4,FALSE)=0,"",VLOOKUP($C9,'Test Sample Data'!$C$3:$M$98,4,FALSE))) | G9: =IF(C9="","",IF(VLOOKUP($C9,'Test Sample Data'!$C$3:$M$98,5,FALSE)=0,"",VLOOKUP($C9,'Test Sample Data'!$C$3:$M$98,5,FALSE))) | H9: =IF(C9="","",IF(VLOOKUP($C9,'Test Sample Data'!$C$3:$M$98,6,FALSE)=0,"",VLOOKUP($C9,'Test Sample Data'!$C$3:$M$98,6,FALSE))) | I9: =IF(C9="","",IF(VLOOKUP($C9,'Test Sample Data'!$C$3:$M$98,7,FALSE)=0,"",VLOOKUP($C9,'Test Sample Data'!$C$3:$M$98,7,FALSE))) | J9: =IF(C9="","",IF(VLOOKUP($C9,'Test Sample Data'!$C$3:$M$98,8,FALSE)=0,"",VLOOKUP($C9,'Test Sample Data'!$C$3:$M$98,8,FALSE))) | K9: =IF(C9="","",IF(VLOOKUP($C9,'Test Sample Data'!$C$3:$M$98,9,FALSE)=0,"",VLOOKUP($C9,'Test Sample Data'!$C$3:$M$98,9,FALSE))) | L9: =IF(C9="","",IF(VLOOKUP($C9,'Test Sample Data'!$C$3:$M$98,10,FALSE)=0,"",VLOOKUP($C9,'Test Sample Data'!$C$3:$M$98,10,FALSE))) | M9: =IF(C9="","",IF(VLOOKUP($C9,'Test Sample Data'!$C$3:$M$98,11,FALSE)=0,"",VLOOKUP($C9,'Test Sample Data'!$C$3:$M$98,11,FALSE))) | N9: =IF(B9=0,"",B9) | O9: =IF('Choose Housekeeping Genes'!C9=0,"",'Choose Housekeeping Genes'!C9) | P9: =IF(C9="","",IF(VLOOKUP($C9,'Control Sample Data'!$C$3:$M$98,2,FALSE)=0,"",VLOOKUP($C9,'Control Sample Data'!$C$3:$M$98,2,FALSE))) | Q9: =IF(C9="","",IF(VLOOKUP($C9,'Control Sample Data'!$C$3:$M$98,3,FALSE)=0,"",VLOOKUP($C9,'Control Sample Data'!$C$3:$M$98,3,FALSE))) | R9: =IF(C9="","",IF(VLOOKUP($C9,'Control Sample Data'!$C$3:$M$98,4,FALSE)=0,"",VLOOKUP($C9,'Control Sample Data'!$C$3:$M$98,4,FALSE))) | S9: =IF(C9="","",IF(VLOOKUP($C9,'Control Sample Data'!$C$3:$M$98,5,FALSE)=0,"",VLOOKUP($C9,'Control Sample Data'!$C$3:$M$98,5,FALSE))) | T9: =IF(C9="","",IF(VLOOKUP($C9,'Control Sample Data'!$C$3:$M$98,6,FALSE)=0,"",VLOOKUP($C9,'Control Sample Data'!$C$3:$M$98,6,FALSE))) | U9: =IF(C9="","",IF(VLOOKUP($C9,'Control Sample Data'!$C$3:$M$98,7,FALSE)=0,"",VLOOKUP($C9,'Control Sample Data'!$C$3:$M$98,7,FALSE))) | V9: =IF(C9="","",IF(VLOOKUP($C9,'Control Sample Data'!$C$3:$M$98,8,FALSE)=0,"",VLOOKUP($C9,'Control Sample Data'!$C$3:$M$98,8,FALSE))) | W9: =IF(C9="","",IF(VLOOKUP($C9,'Control Sample Data'!$C$3:$M$98,9,FALSE)=0,"",VLOOKUP($C9,'Control Sample Data'!$C$3:$M$98,9,FALSE))) | X9: =IF(C9="","",IF(VLOOKUP($C9,'Control Sample Data'!$C$3:$M$98,10,FALSE)=0,"",VLOOKUP($C9,'Control Sample Data'!$C$3:$M$98,10,FALSE))) | Y9: =IF(C9="","",IF(VLOOKUP($C9,'Control Sample Data'!$C$3:$M$98,11,FALSE)=0,"",VLOOKUP($C9,'Control Sample Data'!$C$3:$M$98,11,FALSE)))
B10: =IF(C10="","",VLOOKUP(C10,'Gene Table'!B$3:D$98,2,FALSE)) | D10: =IF(C10="","",IF(VLOOKUP($C10,'Test Sample Data'!$C$3:$M$98,2,FALSE)=0,"",VLOOKUP($C10,'Test Sample Data'!$C$3:$M$98,2,FALSE))) | E10: =IF(C10="","",IF(VLOOKUP($C10,'Test Sample Data'!$C$3:$M$98,3,FALSE)=0,"",VLOOKUP($C10,'Test Sample Data'!$C$3:$M$98,3,FALSE))) | F10: =IF(C10="","",IF(VLOOKUP($C10,'Test Sample Data'!$C$3:$M$98,4,FALSE)=0,"",VLOOKUP($C10,'Test Sample Data'!$C$3:$M$98,4,FALSE))) | G10: =IF(C10="","",IF(VLOOKUP($C10,'Test Sample Data'!$C$3:$M$98,5,FALSE)=0,"",VLOOKUP($C10,'Test Sample Data'!$C$3:$M$98,5,FALSE))) | H10: =IF(C10="","",IF(VLOOKUP($C10,'Test Sample Data'!$C$3:$M$98,6,FALSE)=0,"",VLOOKUP($C10,'Test Sample Data'!$C$3:$M$98,6,FALSE))) | I10: =IF(C10="","",IF(VLOOKUP($C10,'Test Sample Data'!$C$3:$M$98,7,FALSE)=0,"",VLOOKUP($C10,'Test Sample Data'!$C$3:$M$98,7,FALSE))) | J10: =IF(C10="","",IF(VLOOKUP($C10,'Test Sample Data'!$C$3:$M$98,8,FALSE)=0,"",VLOOKUP($C10,'Test Sample Data'!$C$3:$M$98,8,FALSE))) | K10: =IF(C10="","",IF(VLOOKUP($C10,'Test Sample Data'!$C$3:$M$98,9,FALSE)=0,"",VLOOKUP($C10,'Test Sample Data'!$C$3:$M$98,9,FALSE))) | L10: =IF(C10="","",IF(VLOOKUP($C10,'Test Sample Data'!$C$3:$M$98,10,FALSE)=0,"",VLOOKUP($C10,'Test Sample Data'!$C$3:$M$98,10,FALSE))) | M10: =IF(C10="","",IF(VLOOKUP($C10,'Test Sample Data'!$C$3:$M$98,11,FALSE)=0,"",VLOOKUP($C10,'Test Sample Data'!$C$3:$M$98,11,FALSE))) | N10: =IF(B10=0,"",B10) | O10: =IF('Choose Housekeeping Genes'!C10=0,"",'Choose Housekeeping Genes'!C10) | P10: =IF(C10="","",IF(VLOOKUP($C10,'Control Sample Data'!$C$3:$M$98,2,FALSE)=0,"",VLOOKUP($C10,'Control Sample Data'!$C$3:$M$98,2,FALSE))) | Q10: =IF(C10="","",IF(VLOOKUP($C10,'Control Sample Data'!$C$3:$M$98,3,FALSE)=0,"",VLOOKUP($C10,'Control Sample Data'!$C$3:$M$98,3,FALSE))) | R10: =IF(C10="","",IF(VLOOKUP($C10,'Control Sample Data'!$C$3:$M$98,4,FALSE)=0,"",VLOOKUP($C10,'Control Sample Data'!$C$3:$M$98,4,FALSE))) | S10: =IF(C10="","",IF(VLOOKUP($C10,'Control Sample Data'!$C$3:$M$98,5,FALSE)=0,"",VLOOKUP($C10,'Control Sample Data'!$C$3:$M$98,5,FALSE))) | T10: =IF(C10="","",IF(VLOOKUP($C10,'Control Sample Data'!$C$3:$M$98,6,FALSE)=0,"",VLOOKUP($C10,'Control Sample Data'!$C$3:$M$98,6,FALSE))) | U10: =IF(C10="","",IF(VLOOKUP($C10,'Control Sample Data'!$C$3:$M$98,7,FALSE)=0,"",VLOOKUP($C10,'Control Sample Data'!$C$3:$M$98,7,FALSE))) | V10: =IF(C10="","",IF(VLOOKUP($C10,'Control Sample Data'!$C$3:$M$98,8,FALSE)=0,"",VLOOKUP($C10,'Control Sample Data'!$C$3:$M$98,8,FALSE))) | W10: =IF(C10="","",IF(VLOOKUP($C10,'Control Sample Data'!$C$3:$M$98,9,FALSE)=0,"",VLOOKUP($C10,'Control Sample Data'!$C$3:$M$98,9,FALSE))) | X10: =IF(C10="","",IF(VLOOKUP($C10,'Control Sample Data'!$C$3:$M$98,10,FALSE)=0,"",VLOOKUP($C10,'Control Sample Data'!$C$3:$M$98,10,FALSE))) | Y10: =IF(C10="","",IF(VLOOKUP($C10,'Control Sample Data'!$C$3:$M$98,11,FALSE)=0,"",VLOOKUP($C10,'Control Sample Data'!$C$3:$M$98,11,FALSE)))
B11: =IF(C11="","",VLOOKUP(C11,'Gene Table'!B$3:D$98,2,FALSE)) | D11: =IF(C11="","",IF(VLOOKUP($C11,'Test Sample Data'!$C$3:$M$98,2,FALSE)=0,"",VLOOKUP($C11,'Test Sample Data'!$C$3:$M$98,2,FALSE))) | E11: =IF(C11="","",IF(VLOOKUP($C11,'Test Sample Data'!$C$3:$M$98,3,FALSE)=0,"",VLOOKUP($C11,'Test Sample Data'!$C$3:$M$98,3,FALSE))) | F11: =IF(C11="","",IF(VLOOKUP($C11,'Test Sample Data'!$C$3:$M$98,4,FALSE)=0,"",VLOOKUP($C11,'Test Sample Data'!$C$3:$M$98,4,FALSE))) | G11: =IF(C11="","",IF(VLOOKUP($C11,'Test Sample Data'!$C$3:$M$98,5,FALSE)=0,"",VLOOKUP($C11,'Test Sample Data'!$C$3:$M$98,5,FALSE))) | H11: =IF(C11="","",IF(VLOOKUP($C11,'Test Sample Data'!$C$3:$M$98,6,FALSE)=0,"",VLOOKUP($C11,'Test Sample Data'!$C$3:$M$98,6,FALSE))) | I11: =IF(C11="","",IF(VLOOKUP($C11,'Test Sample Data'!$C$3:$M$98,7,FALSE)=0,"",VLOOKUP($C11,'Test Sample Data'!$C$3:$M$98,7,FALSE))) | J11: =IF(C11="","",IF(VLOOKUP($C11,'Test Sample Data'!$C$3:$M$98,8,FALSE)=0,"",VLOOKUP($C11,'Test Sample Data'!$C$3:$M$98,8,FALSE))) | K11: =IF(C11="","",IF(VLOOKUP($C11,'Test Sample Data'!$C$3:$M$98,9,FALSE)=0,"",VLOOKUP($C11,'Test Sample Data'!$C$3:$M$98,9,FALSE))) | L11: =IF(C11="","",IF(VLOOKUP($C11,'Test Sample Data'!$C$3:$M$98,10,FALSE)=0,"",VLOOKUP($C11,'Test Sample Data'!$C$3:$M$98,10,FALSE))) | M11: =IF(C11="","",IF(VLOOKUP($C11,'Test Sample Data'!$C$3:$M$98,11,FALSE)=0,"",VLOOKUP($C11,'Test Sample Data'!$C$3:$M$98,11,FALSE))) | N11: =IF(B11=0,"",B11) | O11: =IF('Choose Housekeeping Genes'!C11=0,"",'Choose Housekeeping Genes'!C11) | P11: =IF(C11="","",IF(VLOOKUP($C11,'Control Sample Data'!$C$3:$M$98,2,FALSE)=0,"",VLOOKUP($C11,'Control Sample Data'!$C$3:$M$98,2,FALSE))) | Q11: =IF(C11="","",IF(VLOOKUP($C11,'Control Sample Data'!$C$3:$M$98,3,FALSE)=0,"",VLOOKUP($C11,'Control Sample Data'!$C$3:$M$98,3,FALSE))) | R11: =IF(C11="","",IF(VLOOKUP($C11,'Control Sample Data'!$C$3:$M$98,4,FALSE)=0,"",VLOOKUP($C11,'Control Sample Data'!$C$3:$M$98,4,FALSE))) | S11: =IF(C11="","",IF(VLOOKUP($C11,'Control Sample Data'!$C$3:$M$98,5,FALSE)=0,"",VLOOKUP($C11,'Control Sample Data'!$C$3:$M$98,5,FALSE))) | T11: =IF(C11="","",IF(VLOOKUP($C11,'Control Sample Data'!$C$3:$M$98,6,FALSE)=0,"",VLOOKUP($C11,'Control Sample Data'!$C$3:$M$98,6,FALSE))) | U11: =IF(C11="","",IF(VLOOKUP($C11,'Control Sample Data'!$C$3:$M$98,7,FALSE)=0,"",VLOOKUP($C11,'Control Sample Data'!$C$3:$M$98,7,FALSE))) | V11: =IF(C11="","",IF(VLOOKUP($C11,'Control Sample Data'!$C$3:$M$98,8,FALSE)=0,"",VLOOKUP($C11,'Control Sample Data'!$C$3:$M$98,8,FALSE))) | W11: =IF(C11="","",IF(VLOOKUP($C11,'Control Sample Data'!$C$3:$M$98,9,FALSE)=0,"",VLOOKUP($C11,'Control Sample Data'!$C$3:$M$98,9,FALSE))) | X11: =IF(C11="","",IF(VLOOKUP($C11,'Control Sample Data'!$C$3:$M$98,10,FALSE)=0,"",VLOOKUP($C11,'Control Sample Data'!$C$3:$M$98,10,FALSE))) | Y11: =IF(C11="","",IF(VLOOKUP($C11,'Control Sample Data'!$C$3:$M$98,11,FALSE)=0,"",VLOOKUP($C11,'Control Sample Data'!$C$3:$M$98,11,FALSE)))
B12: =IF(C12="","",VLOOKUP(C12,'Gene Table'!B$3:D$98,2,FALSE)) | D12: =IF(C12="","",IF(VLOOKUP($C12,'Test Sample Data'!$C$3:$M$98,2,FALSE)=0,"",VLOOKUP($C12,'Test Sample Data'!$C$3:$M$98,2,FALSE))) | E12: =IF(C12="","",IF(VLOOKUP($C12,'Test Sample Data'!$C$3:$M$98,3,FALSE)=0,"",VLOOKUP($C12,'Test Sample Data'!$C$3:$M$98,3,FALSE))) | F12: =IF(C12="","",IF(VLOOKUP($C12,'Test Sample Data'!$C$3:$M$98,4,FALSE)=0,"",VLOOKUP($C12,'Test Sample Data'!$C$3:$M$98,4,FALSE))) | G12: =IF(C12="","",IF(VLOOKUP($C12,'Test Sample Data'!$C$3:$M$98,5,FALSE)=0,"",VLOOKUP($C12,'Test Sample Data'!$C$3:$M$98,5,FALSE))) | H12: =IF(C12="","",IF(VLOOKUP($C12,'Test Sample Data'!$C$3:$M$98,6,FALSE)=0,"",VLOOKUP($C12,'Test Sample Data'!$C$3:$M$98,6,FALSE))) | I12: =IF(C12="","",IF(VLOOKUP($C12,'Test Sample Data'!$C$3:$M$98,7,FALSE)=0,"",VLOOKUP($C12,'Test Sample Data'!$C$3:$M$98,7,FALSE))) | J12: =IF(C12="","",IF(VLOOKUP($C12,'Test Sample Data'!$C$3:$M$98,8,FALSE)=0,"",VLOOKUP($C12,'Test Sample Data'!$C$3:$M$98,8,FALSE))) | K12: =IF(C12="","",IF(VLOOKUP($C12,'Test Sample Data'!$C$3:$M$98,9,FALSE)=0,"",VLOOKUP($C12,'Test Sample Data'!$C$3:$M$98,9,FALSE))) | L12: =IF(C12="","",IF(VLOOKUP($C12,'Test Sample Data'!$C$3:$M$98,10,FALSE)=0,"",VLOOKUP($C12,'Test Sample Data'!$C$3:$M$98,10,FALSE))) | M12: =IF(C12="","",IF(VLOOKUP($C12,'Test Sample Data'!$C$3:$M$98,11,FALSE)=0,"",VLOOKUP($C12,'Test Sample Data'!$C$3:$M$98,11,FALSE))) | N12: =IF(B12=0,"",B12) | O12: =IF('Choose Housekeeping Genes'!C12=0,"",'Choose Housekeeping Genes'!C12) | P12: =IF(C12="","",IF(VLOOKUP($C12,'Control Sample Data'!$C$3:$M$98,2,FALSE)=0,"",VLOOKUP($C12,'Control Sample Data'!$C$3:$M$98,2,FALSE))) | Q12: =IF(C12="","",IF(VLOOKUP($C12,'Control Sample Data'!$C$3:$M$98,3,FALSE)=0,"",VLOOKUP($C12,'Control Sample Data'!$C$3:$M$98,3,FALSE))) | R12: =IF(C12="","",IF(VLOOKUP($C12,'Control Sample Data'!$C$3:$M$98,4,FALSE)=0,"",VLOOKUP($C12,'Control Sample Data'!$C$3:$M$98,4,FALSE))) | S12: =IF(C12="","",IF(VLOOKUP($C12,'Control Sample Data'!$C$3:$M$98,5,FALSE)=0,"",VLOOKUP($C12,'Control Sample Data'!$C$3:$M$98,5,FALSE))) | T12: =IF(C12="","",IF(VLOOKUP($C12,'Control Sample Data'!$C$3:$M$98,6,FALSE)=0,"",VLOOKUP($C12,'Control Sample Data'!$C$3:$M$98,6,FALSE))) | U12: =IF(C12="","",IF(VLOOKUP($C12,'Control Sample Data'!$C$3:$M$98,7,FALSE)=0,"",VLOOKUP($C12,'Control Sample Data'!$C$3:$M$98,7,FALSE))) | V12: =IF(C12="","",IF(VLOOKUP($C12,'Control Sample Data'!$C$3:$M$98,8,FALSE)=0,"",VLOOKUP($C12,'Control Sample Data'!$C$3:$M$98,8,FALSE))) | W12: =IF(C12="","",IF(VLOOKUP($C12,'Control Sample Data'!$C$3:$M$98,9,FALSE)=0,"",VLOOKUP($C12,'Control Sample Data'!$C$3:$M$98,9,FALSE))) | X12: =IF(C12="","",IF(VLOOKUP($C12,'Control Sample Data'!$C$3:$M$98,10,FALSE)=0,"",VLOOKUP($C12,'Control Sample Data'!$C$3:$M$98,10,FALSE))) | Y12: =IF(C12="","",IF(VLOOKUP($C12,'Control Sample Data'!$C$3:$M$98,11,FALSE)=0,"",VLOOKUP($C12,'Control Sample Data'!$C$3:$M$98,11,FALSE)))
B13: =IF(C13="","",VLOOKUP(C13,'Gene Table'!B$3:D$98,2,FALSE)) | D13: =IF(C13="","",IF(VLOOKUP($C13,'Test Sample Data'!$C$3:$M$98,2,FALSE)=0,"",VLOOKUP($C13,'Test Sample Data'!$C$3:$M$98,2,FALSE))) | E13: =IF(C13="","",IF(VLOOKUP($C13,'Test Sample Data'!$C$3:$M$98,3,FALSE)=0,"",VLOOKUP($C13,'Test Sample Data'!$C$3:$M$98,3,FALSE))) | F13: =IF(C13="","",IF(VLOOKUP($C13,'Test Sample Data'!$C$3:$M$98,4,FALSE)=0,"",VLOOKUP($C13,'Test Sample Data'!$C$3:$M$98,4,FALSE))) | G13: =IF(C13="","",IF(VLOOKUP($C13,'Test Sample Data'!$C$3:$M$98,5,FALSE)=0,"",VLOOKUP($C13,'Test Sample Data'!$C$3:$M$98,5,FALSE))) | H13: =IF(C13="","",IF(VLOOKUP($C13,'Test Sample Data'!$C$3:$M$98,6,FALSE)=0,"",VLOOKUP($C13,'Test Sample Data'!$C$3:$M$98,6,FALSE))) | I13: =IF(C13="","",IF(VLOOKUP($C13,'Test Sample Data'!$C$3:$M$98,7,FALSE)=0,"",VLOOKUP($C13,'Test Sample Data'!$C$3:$M$98,7,FALSE))) | J13: =IF(C13="","",IF(VLOOKUP($C13,'Test Sample Data'!$C$3:$M$98,8,FALSE)=0,"",VLOOKUP($C13,'Test Sample Data'!$C$3:$M$98,8,FALSE))) | K13: =IF(C13="","",IF(VLOOKUP($C13,'Test Sample Data'!$C$3:$M$98,9,FALSE)=0,"",VLOOKUP($C13,'Test Sample Data'!$C$3:$M$98,9,FALSE))) | L13: =IF(C13="","",IF(VLOOKUP($C13,'Test Sample Data'!$C$3:$M$98,10,FALSE)=0,"",VLOOKUP($C13,'Test Sample Data'!$C$3:$M$98,10,FALSE))) | M13: =IF(C13="","",IF(VLOOKUP($C13,'Test Sample Data'!$C$3:$M$98,11,FALSE)=0,"",VLOOKUP($C13,'Test Sample Data'!$C$3:$M$98,11,FALSE))) | N13: =IF(B13=0,"",B13) | O13: =IF('Choose Housekeeping Genes'!C13=0,"",'Choose Housekeeping Genes'!C13) | P13: =IF(C13="","",IF(VLOOKUP($C13,'Control Sample Data'!$C$3:$M$98,2,FALSE)=0,"",VLOOKUP($C13,'Control Sample Data'!$C$3:$M$98,2,FALSE))) | Q13: =IF(C13="","",IF(VLOOKUP($C13,'Control Sample Data'!$C$3:$M$98,3,FALSE)=0,"",VLOOKUP($C13,'Control Sample Data'!$C$3:$M$98,3,FALSE))) | R13: =IF(C13="","",IF(VLOOKUP($C13,'Control Sample Data'!$C$3:$M$98,4,FALSE)=0,"",VLOOKUP($C13,'Control Sample Data'!$C$3:$M$98,4,FALSE))) | S13: =IF(C13="","",IF(VLOOKUP($C13,'Control Sample Data'!$C$3:$M$98,5,FALSE)=0,"",VLOOKUP($C13,'Control Sample Data'!$C$3:$M$98,5,FALSE))) | T13: =IF(C13="","",IF(VLOOKUP($C13,'Control Sample Data'!$C$3:$M$98,6,FALSE)=0,"",VLOOKUP($C13,'Control Sample Data'!$C$3:$M$98,6,FALSE))) | U13: =IF(C13="","",IF(VLOOKUP($C13,'Control Sample Data'!$C$3:$M$98,7,FALSE)=0,"",VLOOKUP($C13,'Control Sample Data'!$C$3:$M$98,7,FALSE))) | V13: =IF(C13="","",IF(VLOOKUP($C13,'Control Sample Data'!$C$3:$M$98,8,FALSE)=0,"",VLOOKUP($C13,'Control Sample Data'!$C$3:$M$98,8,FALSE))) | W13: =IF(C13="","",IF(VLOOKUP($C13,'Control Sample Data'!$C$3:$M$98,9,FALSE)=0,"",VLOOKUP($C13,'Control Sample Data'!$C$3:$M$98,9,FALSE))) | X13: =IF(C13="","",IF(VLOOKUP($C13,'Control Sample Data'!$C$3:$M$98,10,FALSE)=0,"",VLOOKUP($C13,'Control Sample Data'!$C$3:$M$98,10,FALSE))) | Y13: =IF(C13="","",IF(VLOOKUP($C13,'Control Sample Data'!$C$3:$M$98,11,FALSE)=0,"",VLOOKUP($C13,'Control Sample Data'!$C$3:$M$98,11,FALSE)))
B14: =IF(C14="","",VLOOKUP(C14,'Gene Table'!B$3:D$98,2,FALSE)) | D14: =IF(C14="","",IF(VLOOKUP($C14,'Test Sample Data'!$C$3:$M$98,2,FALSE)=0,"",VLOOKUP($C14,'Test Sample Data'!$C$3:$M$98,2,FALSE))) | E14: =IF(C14="","",IF(VLOOKUP($C14,'Test Sample Data'!$C$3:$M$98,3,FALSE)=0,"",VLOOKUP($C14,'Test Sample Data'!$C$3:$M$98,3,FALSE))) | F14: =IF(C14="","",IF(VLOOKUP($C14,'Test Sample Data'!$C$3:$M$98,4,FALSE)=0,"",VLOOKUP($C14,'Test Sample Data'!$C$3:$M$98,4,FALSE))) | G14: =IF(C14="","",IF(VLOOKUP($C14,'Test Sample Data'!$C$3:$M$98,5,FALSE)=0,"",VLOOKUP($C14,'Test Sample Data'!$C$3:$M$98,5,FALSE))) | H14: =IF(C14="","",IF(VLOOKUP($C14,'Test Sample Data'!$C$3:$M$98,6,FALSE)=0,"",VLOOKUP($C14,'Test Sample Data'!$C$3:$M$98,6,FALSE))) | I14: =IF(C14="","",IF(VLOOKUP($C14,'Test Sample Data'!$C$3:$M$98,7,FALSE)=0,"",VLOOKUP($C14,'Test Sample Data'!$C$3:$M$98,7,FALSE))) | J14: =IF(C14="","",IF(VLOOKUP($C14,'Test Sample Data'!$C$3:$M$98,8,FALSE)=0,"",VLOOKUP($C14,'Test Sample Data'!$C$3:$M$98,8,FALSE))) | K14: =IF(C14="","",IF(VLOOKUP($C14,'Test Sample Data'!$C$3:$M$98,9,FALSE)=0,"",VLOOKUP($C14,'Test Sample Data'!$C$3:$M$98,9,FALSE))) | L14: =IF(C14="","",IF(VLOOKUP($C14,'Test Sample Data'!$C$3:$M$98,10,FALSE)=0,"",VLOOKUP($C14,'Test Sample Data'!$C$3:$M$98,10,FALSE))) | M14: =IF(C14="","",IF(VLOOKUP($C14,'Test Sample Data'!$C$3:$M$98,11,FALSE)=0,"",VLOOKUP($C14,'Test Sample Data'!$C$3:$M$98,11,FALSE))) | N14: =IF(B14=0,"",B14) | O14: =IF('Choose Housekeeping Genes'!C14=0,"",'Choose Housekeeping Genes'!C14) | P14: =IF(C14="","",IF(VLOOKUP($C14,'Control Sample Data'!$C$3:$M$98,2,FALSE)=0,"",VLOOKUP($C14,'Control Sample Data'!$C$3:$M$98,2,FALSE))) | Q14: =IF(C14="","",IF(VLOOKUP($C14,'Control Sample Data'!$C$3:$M$98,3,FALSE)=0,"",VLOOKUP($C14,'Control Sample Data'!$C$3:$M$98,3,FALSE))) | R14: =IF(C14="","",IF(VLOOKUP($C14,'Control Sample Data'!$C$3:$M$98,4,FALSE)=0,"",VLOOKUP($C14,'Control Sample Data'!$C$3:$M$98,4,FALSE))) | S14: =IF(C14="","",IF(VLOOKUP($C14,'Control Sample Data'!$C$3:$M$98,5,FALSE)=0,"",VLOOKUP($C14,'Control Sample Data'!$C$3:$M$98,5,FALSE))) | T14: =IF(C14="","",IF(VLOOKUP($C14,'Control Sample Data'!$C$3:$M$98,6,FALSE)=0,"",VLOOKUP($C14,'Control Sample Data'!$C$3:$M$98,6,FALSE))) | U14: =IF(C14="","",IF(VLOOKUP($C14,'Control Sample Data'!$C$3:$M$98,7,FALSE)=0,"",VLOOKUP($C14,'Control Sample Data'!$C$3:$M$98,7,FALSE))) | V14: =IF(C14="","",IF(VLOOKUP($C14,'Control Sample Data'!$C$3:$M$98,8,FALSE)=0,"",VLOOKUP($C14,'Control Sample Data'!$C$3:$M$98,8,FALSE))) | W14: =IF(C14="","",IF(VLOOKUP($C14,'Control Sample Data'!$C$3:$M$98,9,FALSE)=0,"",VLOOKUP($C14,'Control Sample Data'!$C$3:$M$98,9,FALSE))) | X14: =IF(C14="","",IF(VLOOKUP($C14,'Control Sample Data'!$C$3:$M$98,10,FALSE)=0,"",VLOOKUP($C14,'Control Sample Data'!$C$3:$M$98,10,FALSE))) | Y14: =IF(C14="","",IF(VLOOKUP($C14,'Control Sample Data'!$C$3:$M$98,11,FALSE)=0,"",VLOOKUP($C14,'Control Sample Data'!$C$3:$M$98,11,FALSE)))
B15: =IF(C15="","",VLOOKUP(C15,'Gene Table'!B$3:D$98,2,FALSE)) | D15: =IF(C15="","",IF(VLOOKUP($C15,'Test Sample Data'!$C$3:$M$98,2,FALSE)=0,"",VLOOKUP($C15,'Test Sample Data'!$C$3:$M$98,2,FALSE))) | E15: =IF(C15="","",IF(VLOOKUP($C15,'Test Sample Data'!$C$3:$M$98,3,FALSE)=0,"",VLOOKUP($C15,'Test Sample Data'!$C$3:$M$98,3,FALSE))) | F15: =IF(C15="","",IF(VLOOKUP($C15,'Test Sample Data'!$C$3:$M$98,4,FALSE)=0,"",VLOOKUP($C15,'Test Sample Data'!$C$3:$M$98,4,FALSE))) | G15: =IF(C15="","",IF(VLOOKUP($C15,'Test Sample Data'!$C$3:$M$98,5,FALSE)=0,"",VLOOKUP($C15,'Test Sample Data'!$C$3:$M$98,5,FALSE))) | H15: =IF(C15="","",IF(VLOOKUP($C15,'Test Sample Data'!$C$3:$M$98,6,FALSE)=0,"",VLOOKUP($C15,'Test Sample Data'!$C$3:$M$98,6,FALSE))) | I15: =IF(C15="","",IF(VLOOKUP($C15,'Test Sample Data'!$C$3:$M$98,7,FALSE)=0,"",VLOOKUP($C15,'Test Sample Data'!$C$3:$M$98,7,FALSE))) | J15: =IF(C15="","",IF(VLOOKUP($C15,'Test Sample Data'!$C$3:$M$98,8,FALSE)=0,"",VLOOKUP($C15,'Test Sample Data'!$C$3:$M$98,8,FALSE))) | K15: =IF(C15="","",IF(VLOOKUP($C15,'Test Sample Data'!$C$3:$M$98,9,FALSE)=0,"",VLOOKUP($C15,'Test Sample Data'!$C$3:$M$98,9,FALSE))) | L15: =IF(C15="","",IF(VLOOKUP($C15,'Test Sample Data'!$C$3:$M$98,10,FALSE)=0,"",VLOOKUP($C15,'Test Sample Data'!$C$3:$M$98,10,FALSE))) | M15: =IF(C15="","",IF(VLOOKUP($C15,'Test Sample Data'!$C$3:$M$98,11,FALSE)=0,"",VLOOKUP($C15,'Test Sample Data'!$C$3:$M$98,11,FALSE))) | N15: =IF(B15=0,"",B15) | O15: =IF('Choose Housekeeping Genes'!C15=0,"",'Choose Housekeeping Genes'!C15) | P15: =IF(C15="","",IF(VLOOKUP($C15,'Control Sample Data'!$C$3:$M$98,2,FALSE)=0,"",VLOOKUP($C15,'Control Sample Data'!$C$3:$M$98,2,FALSE))) | Q15: =IF(C15="","",IF(VLOOKUP($C15,'Control Sample Data'!$C$3:$M$98,3,FALSE)=0,"",VLOOKUP($C15,'Control Sample Data'!$C$3:$M$98,3,FALSE))) | R15: =IF(C15="","",IF(VLOOKUP($C15,'Control Sample Data'!$C$3:$M$98,4,FALSE)=0,"",VLOOKUP($C15,'Control Sample Data'!$C$3:$M$98,4,FALSE))) | S15: =IF(C15="","",IF(VLOOKUP($C15,'Control Sample Data'!$C$3:$M$98,5,FALSE)=0,"",VLOOKUP($C15,'Control Sample Data'!$C$3:$M$98,5,FALSE))) | T15: =IF(C15="","",IF(VLOOKUP($C15,'Control Sample Data'!$C$3:$M$98,6,FALSE)=0,"",VLOOKUP($C15,'Control Sample Data'!$C$3:$M$98,6,FALSE))) | U15: =IF(C15="","",IF(VLOOKUP($C15,'Control Sample Data'!$C$3:$M$98,7,FALSE)=0,"",VLOOKUP($C15,'Control Sample Data'!$C$3:$M$98,7,FALSE))) | V15: =IF(C15="","",IF(VLOOKUP($C15,'Control Sample Data'!$C$3:$M$98,8,FALSE)=0,"",VLOOKUP($C15,'Control Sample Data'!$C$3:$M$98,8,FALSE))) | W15: =IF(C15="","",IF(VLOOKUP($C15,'Control Sample Data'!$C$3:$M$98,9,FALSE)=0,"",VLOOKUP($C15,'Control Sample Data'!$C$3:$M$98,9,FALSE))) | X15: =IF(C15="","",IF(VLOOKUP($C15,'Control Sample Data'!$C$3:$M$98,10,FALSE)=0,"",VLOOKUP($C15,'Control Sample Data'!$C$3:$M$98,10,FALSE))) | Y15: =IF(C15="","",IF(VLOOKUP($C15,'Control Sample Data'!$C$3:$M$98,11,FALSE)=0,"",VLOOKUP($C15,'Control Sample Data'!$C$3:$M$98,11,FALSE)))
B16: =IF(C16="","",VLOOKUP(C16,'Gene Table'!B$3:D$98,2,FALSE)) | D16: =IF(C16="","",IF(VLOOKUP($C16,'Test Sample Data'!$C$3:$M$98,2,FALSE)=0,"",VLOOKUP($C16,'Test Sample Data'!$C$3:$M$98,2,FALSE))) | E16: =IF(C16="","",IF(VLOOKUP($C16,'Test Sample Data'!$C$3:$M$98,3,FALSE)=0,"",VLOOKUP($C16,'Test Sample Data'!$C$3:$M$98,3,FALSE))) | F16: =IF(C16="","",IF(VLOOKUP($C16,'Test Sample Data'!$C$3:$M$98,4,FALSE)=0,"",VLOOKUP($C16,'Test Sample Data'!$C$3:$M$98,4,FALSE))) | G16: =IF(C16="","",IF(VLOOKUP($C16,'Test Sample Data'!$C$3:$M$98,5,FALSE)=0,"",VLOOKUP($C16,'Test Sample Data'!$C$3:$M$98,5,FALSE))) | H16: =IF(C16="","",IF(VLOOKUP($C16,'Test Sample Data'!$C$3:$M$98,6,FALSE)=0,"",VLOOKUP($C16,'Test Sample Data'!$C$3:$M$98,6,FALSE))) | I16: =IF(C16="","",IF(VLOOKUP($C16,'Test Sample Data'!$C$3:$M$98,7,FALSE)=0,"",VLOOKUP($C16,'Test Sample Data'!$C$3:$M$98,7,FALSE))) | J16: =IF(C16="","",IF(VLOOKUP($C16,'Test Sample Data'!$C$3:$M$98,8,FALSE)=0,"",VLOOKUP($C16,'Test Sample Data'!$C$3:$M$98,8,FALSE))) | K16: =IF(C16="","",IF(VLOOKUP($C16,'Test Sample Data'!$C$3:$M$98,9,FALSE)=0,"",VLOOKUP($C16,'Test Sample Data'!$C$3:$M$98,9,FALSE))) | L16: =IF(C16="","",IF(VLOOKUP($C16,'Test Sample Data'!$C$3:$M$98,10,FALSE)=0,"",VLOOKUP($C16,'Test Sample Data'!$C$3:$M$98,10,FALSE))) | M16: =IF(C16="","",IF(VLOOKUP($C16,'Test Sample Data'!$C$3:$M$98,11,FALSE)=0,"",VLOOKUP($C16,'Test Sample Data'!$C$3:$M$98,11,FALSE))) | N16: =IF(B16=0,"",B16) | O16: =IF('Choose Housekeeping Genes'!C16=0,"",'Choose Housekeeping Genes'!C16) | P16: =IF(C16="","",IF(VLOOKUP($C16,'Control Sample Data'!$C$3:$M$98,2,FALSE)=0,"",VLOOKUP($C16,'Control Sample Data'!$C$3:$M$98,2,FALSE))) | Q16: =IF(C16="","",IF(VLOOKUP($C16,'Control Sample Data'!$C$3:$M$98,3,FALSE)=0,"",VLOOKUP($C16,'Control Sample Data'!$C$3:$M$98,3,FALSE))) | R16: =IF(C16="","",IF(VLOOKUP($C16,'Control Sample Data'!$C$3:$M$98,4,FALSE)=0,"",VLOOKUP($C16,'Control Sample Data'!$C$3:$M$98,4,FALSE))) | S16: =IF(C16="","",IF(VLOOKUP($C16,'Control Sample Data'!$C$3:$M$98,5,FALSE)=0,"",VLOOKUP($C16,'Control Sample Data'!$C$3:$M$98,5,FALSE))) | T16: =IF(C16="","",IF(VLOOKUP($C16,'Control Sample Data'!$C$3:$M$98,6,FALSE)=0,"",VLOOKUP($C16,'Control Sample Data'!$C$3:$M$98,6,FALSE))) | U16: =IF(C16="","",IF(VLOOKUP($C16,'Control Sample Data'!$C$3:$M$98,7,FALSE)=0,"",VLOOKUP($C16,'Control Sample Data'!$C$3:$M$98,7,FALSE))) | V16: =IF(C16="","",IF(VLOOKUP($C16,'Control Sample Data'!$C$3:$M$98,8,FALSE)=0,"",VLOOKUP($C16,'Control Sample Data'!$C$3:$M$98,8,FALSE))) | W16: =IF(C16="","",IF(VLOOKUP($C16,'Control Sample Data'!$C$3:$M$98,9,FALSE)=0,"",VLOOKUP($C16,'Control Sample Data'!$C$3:$M$98,9,FALSE))) | X16: =IF(C16="","",IF(VLOOKUP($C16,'Control Sample Data'!$C$3:$M$98,10,FALSE)=0,"",VLOOKUP($C16,'Control Sample Data'!$C$3:$M$98,10,FALSE))) | Y16: =IF(C16="","",IF(VLOOKUP($C16,'Control Sample Data'!$C$3:$M$98,11,FALSE)=0,"",VLOOKUP($C16,'Control Sample Data'!$C$3:$M$98,11,FALSE)))
B17: =IF(C17="","",VLOOKUP(C17,'Gene Table'!B$3:D$98,2,FALSE)) | D17: =IF(C17="","",IF(VLOOKUP($C17,'Test Sample Data'!$C$3:$M$98,2,FALSE)=0,"",VLOOKUP($C17,'Test Sample Data'!$C$3:$M$98,2,FALSE))) | E17: =IF(C17="","",IF(VLOOKUP($C17,'Test Sample Data'!$C$3:$M$98,3,FALSE)=0,"",VLOOKUP($C17,'Test Sample Data'!$C$3:$M$98,3,FALSE))) | F17: =IF(C17="","",IF(VLOOKUP($C17,'Test Sample Data'!$C$3:$M$98,4,FALSE)=0,"",VLOOKUP($C17,'Test Sample Data'!$C$3:$M$98,4,FALSE))) | G17: =IF(C17="","",IF(VLOOKUP($C17,'Test Sample Data'!$C$3:$M$98,5,FALSE)=0,"",VLOOKUP($C17,'Test Sample Data'!$C$3:$M$98,5,FALSE))) | H17: =IF(C17="","",IF(VLOOKUP($C17,'Test Sample Data'!$C$3:$M$98,6,FALSE)=0,"",VLOOKUP($C17,'Test Sample Data'!$C$3:$M$98,6,FALSE))) | I17: =IF(C17="","",IF(VLOOKUP($C17,'Test Sample Data'!$C$3:$M$98,7,FALSE)=0,"",VLOOKUP($C17,'Test Sample Data'!$C$3:$M$98,7,FALSE))) | J17: =IF(C17="","",IF(VLOOKUP($C17,'Test Sample Data'!$C$3:$M$98,8,FALSE)=0,"",VLOOKUP($C17,'Test Sample Data'!$C$3:$M$98,8,FALSE))) | K17: =IF(C17="","",IF(VLOOKUP($C17,'Test Sample Data'!$C$3:$M$98,9,FALSE)=0,"",VLOOKUP($C17,'Test Sample Data'!$C$3:$M$98,9,FALSE))) | L17: =IF(C17="","",IF(VLOOKUP($C17,'Test Sample Data'!$C$3:$M$98,10,FALSE)=0,"",VLOOKUP($C17,'Test Sample Data'!$C$3:$M$98,10,FALSE))) | M17: =IF(C17="","",IF(VLOOKUP($C17,'Test Sample Data'!$C$3:$M$98,11,FALSE)=0,"",VLOOKUP($C17,'Test Sample Data'!$C$3:$M$98,11,FALSE))) | N17: =IF(B17=0,"",B17) | O17: =IF('Choose Housekeeping Genes'!C17=0,"",'Choose Housekeeping Genes'!C17) | P17: =IF(C17="","",IF(VLOOKUP($C17,'Control Sample Data'!$C$3:$M$98,2,FALSE)=0,"",VLOOKUP($C17,'Control Sample Data'!$C$3:$M$98,2,FALSE))) | Q17: =IF(C17="","",IF(VLOOKUP($C17,'Control Sample Data'!$C$3:$M$98,3,FALSE)=0,"",VLOOKUP($C17,'Control Sample Data'!$C$3:$M$98,3,FALSE))) | R17: =IF(C17="","",IF(VLOOKUP($C17,'Control Sample Data'!$C$3:$M$98,4,FALSE)=0,"",VLOOKUP($C17,'Control Sample Data'!$C$3:$M$98,4,FALSE))) | S17: =IF(C17="","",IF(VLOOKUP($C17,'Control Sample Data'!$C$3:$M$98,5,FALSE)=0,"",VLOOKUP($C17,'Control Sample Data'!$C$3:$M$98,5,FALSE))) | T17: =IF(C17="","",IF(VLOOKUP($C17,'Control Sample Data'!$C$3:$M$98,6,FALSE)=0,"",VLOOKUP($C17,'Control Sample Data'!$C$3:$M$98,6,FALSE))) | U17: =IF(C17="","",IF(VLOOKUP($C17,'Control Sample Data'!$C$3:$M$98,7,FALSE)=0,"",VLOOKUP($C17,'Control Sample Data'!$C$3:$M$98,7,FALSE))) | V17: =IF(C17="","",IF(VLOOKUP($C17,'Control Sample Data'!$C$3:$M$98,8,FALSE)=0,"",VLOOKUP($C17,'Control Sample Data'!$C$3:$M$98,8,FALSE))) | W17: =IF(C17="","",IF(VLOOKUP($C17,'Control Sample Data'!$C$3:$M$98,9,FALSE)=0,"",VLOOKUP($C17,'Control Sample Data'!$C$3:$M$98,9,FALSE))) | X17: =IF(C17="","",IF(VLOOKUP($C17,'Control Sample Data'!$C$3:$M$98,10,FALSE)=0,"",VLOOKUP($C17,'Control Sample Data'!$C$3:$M$98,10,FALSE))) | Y17: =IF(C17="","",IF(VLOOKUP($C17,'Control Sample Data'!$C$3:$M$98,11,FALSE)=0,"",VLOOKUP($C17,'Control Sample Data'!$C$3:$M$98,11,FALSE)))
B18: =IF(C18="","",VLOOKUP(C18,'Gene Table'!B$3:D$98,2,FALSE)) | D18: =IF(C18="","",IF(VLOOKUP($C18,'Test Sample Data'!$C$3:$M$98,2,FALSE)=0,"",VLOOKUP($C18,'Test Sample Data'!$C$3:$M$98,2,FALSE))) | E18: =IF(C18="","",IF(VLOOKUP($C18,'Test Sample Data'!$C$3:$M$98,3,FALSE)=0,"",VLOOKUP($C18,'Test Sample Data'!$C$3:$M$98,3,FALSE))) | F18: =IF(C18="","",IF(VLOOKUP($C18,'Test Sample Data'!$C$3:$M$98,4,FALSE)=0,"",VLOOKUP($C18,'Test Sample Data'!$C$3:$M$98,4,FALSE))) | G18: =IF(C18="","",IF(VLOOKUP($C18,'Test Sample Data'!$C$3:$M$98,5,FALSE)=0,"",VLOOKUP($C18,'Test Sample Data'!$C$3:$M$98,5,FALSE))) | H18: =IF(C18="","",IF(VLOOKUP($C18,'Test Sample Data'!$C$3:$M$98,6,FALSE)=0,"",VLOOKUP($C18,'Test Sample Data'!$C$3:$M$98,6,FALSE))) | I18: =IF(C18="","",IF(VLOOKUP($C18,'Test Sample Data'!$C$3:$M$98,7,FALSE)=0,"",VLOOKUP($C18,'Test Sample Data'!$C$3:$M$98,7,FALSE))) | J18: =IF(C18="","",IF(VLOOKUP($C18,'Test Sample Data'!$C$3:$M$98,8,FALSE)=0,"",VLOOKUP($C18,'Test Sample Data'!$C$3:$M$98,8,FALSE))) | K18: =IF(C18="","",IF(VLOOKUP($C18,'Test Sample Data'!$C$3:$M$98,9,FALSE)=0,"",VLOOKUP($C18,'Test Sample Data'!$C$3:$M$98,9,FALSE))) | L18: =IF(C18="","",IF(VLOOKUP($C18,'Test Sample Data'!$C$3:$M$98,10,FALSE)=0,"",VLOOKUP($C18,'Test Sample Data'!$C$3:$M$98,10,FALSE))) | M18: =IF(C18="","",IF(VLOOKUP($C18,'Test Sample Data'!$C$3:$M$98,11,FALSE)=0,"",VLOOKUP($C18,'Test Sample Data'!$C$3:$M$98,11,FALSE))) | N18: =IF(B18=0,"",B18) | O18: =IF('Choose Housekeeping Genes'!C18=0,"",'Choose Housekeeping Genes'!C18) | P18: =IF(C18="","",IF(VLOOKUP($C18,'Control Sample Data'!$C$3:$M$98,2,FALSE)=0,"",VLOOKUP($C18,'Control Sample Data'!$C$3:$M$98,2,FALSE))) | Q18: =IF(C18="","",IF(VLOOKUP($C18,'Control Sample Data'!$C$3:$M$98,3,FALSE)=0,"",VLOOKUP($C18,'Control Sample Data'!$C$3:$M$98,3,FALSE))) | R18: =IF(C18="","",IF(VLOOKUP($C18,'Control Sample Data'!$C$3:$M$98,4,FALSE)=0,"",VLOOKUP($C18,'Control Sample Data'!$C$3:$M$98,4,FALSE))) | S18: =IF(C18="","",IF(VLOOKUP($C18,'Control Sample Data'!$C$3:$M$98,5,FALSE)=0,"",VLOOKUP($C18,'Control Sample Data'!$C$3:$M$98,5,FALSE))) | T18: =IF(C18="","",IF(VLOOKUP($C18,'Control Sample Data'!$C$3:$M$98,6,FALSE)=0,"",VLOOKUP($C18,'Control Sample Data'!$C$3:$M$98,6,FALSE))) | U18: =IF(C18="","",IF(VLOOKUP($C18,'Control Sample Data'!$C$3:$M$98,7,FALSE)=0,"",VLOOKUP($C18,'Control Sample Data'!$C$3:$M$98,7,FALSE))) | V18: =IF(C18="","",IF(VLOOKUP($C18,'Control Sample Data'!$C$3:$M$98,8,FALSE)=0,"",VLOOKUP($C18,'Control Sample Data'!$C$3:$M$98,8,FALSE))) | W18: =IF(C18="","",IF(VLOOKUP($C18,'Control Sample Data'!$C$3:$M$98,9,FALSE)=0,"",VLOOKUP($C18,'Control Sample Data'!$C$3:$M$98,9,FALSE))) | X18: =IF(C18="","",IF(VLOOKUP($C18,'Control Sample Data'!$C$3:$M$98,10,FALSE)=0,"",VLOOKUP($C18,'Control Sample Data'!$C$3:$M$98,10,FALSE))) | Y18: =IF(C18="","",IF(VLOOKUP($C18,'Control Sample Data'!$C$3:$M$98,11,FALSE)=0,"",VLOOKUP($C18,'Control Sample Data'!$C$3:$M$98,11,FALSE)))
B19: =IF(C19="","",VLOOKUP(C19,'Gene Table'!B$3:D$98,2,FALSE)) | D19: =IF(C19="","",IF(VLOOKUP($C19,'Test Sample Data'!$C$3:$M$98,2,FALSE)=0,"",VLOOKUP($C19,'Test Sample Data'!$C$3:$M$98,2,FALSE))) | E19: =IF(C19="","",IF(VLOOKUP($C19,'Test Sample Data'!$C$3:$M$98,3,FALSE)=0,"",VLOOKUP($C19,'Test Sample Data'!$C$3:$M$98,3,FALSE))) | F19: =IF(C19="","",IF(VLOOKUP($C19,'Test Sample Data'!$C$3:$M$98,4,FALSE)=0,"",VLOOKUP($C19,'Test Sample Data'!$C$3:$M$98,4,FALSE))) | G19: =IF(C19="","",IF(VLOOKUP($C19,'Test Sample Data'!$C$3:$M$98,5,FALSE)=0,"",VLOOKUP($C19,'Test Sample Data'!$C$3:$M$98,5,FALSE))) | H19: =IF(C19="","",IF(VLOOKUP($C19,'Test Sample Data'!$C$3:$M$98,6,FALSE)=0,"",VLOOKUP($C19,'Test Sample Data'!$C$3:$M$98,6,FALSE))) | I19: =IF(C19="","",IF(VLOOKUP($C19,'Test Sample Data'!$C$3:$M$98,7,FALSE)=0,"",VLOOKUP($C19,'Test Sample Data'!$C$3:$M$98,7,FALSE))) | J19: =IF(C19="","",IF(VLOOKUP($C19,'Test Sample Data'!$C$3:$M$98,8,FALSE)=0,"",VLOOKUP($C19,'Test Sample Data'!$C$3:$M$98,8,FALSE))) | K19: =IF(C19="","",IF(VLOOKUP($C19,'Test Sample Data'!$C$3:$M$98,9,FALSE)=0,"",VLOOKUP($C19,'Test Sample Data'!$C$3:$M$98,9,FALSE))) | L19: =IF(C19="","",IF(VLOOKUP($C19,'Test Sample Data'!$C$3:$M$98,10,FALSE)=0,"",VLOOKUP($C19,'Test Sample Data'!$C$3:$M$98,10,FALSE))) | M19: =IF(C19="","",IF(VLOOKUP($C19,'Test Sample Data'!$C$3:$M$98,11,FALSE)=0,"",VLOOKUP($C19,'Test Sample Data'!$C$3:$M$98,11,FALSE))) | N19: =IF(B19=0,"",B19) | O19: =IF('Choose Housekeeping Genes'!C19=0,"",'Choose Housekeeping Genes'!C19) | P19: =IF(C19="","",IF(VLOOKUP($C19,'Control Sample Data'!$C$3:$M$98,2,FALSE)=0,"",VLOOKUP($C19,'Control Sample Data'!$C$3:$M$98,2,FALSE))) | Q19: =IF(C19="","",IF(VLOOKUP($C19,'Control Sample Data'!$C$3:$M$98,3,FALSE)=0,"",VLOOKUP($C19,'Control Sample Data'!$C$3:$M$98,3,FALSE))) | R19: =IF(C19="","",IF(VLOOKUP($C19,'Control Sample Data'!$C$3:$M$98,4,FALSE)=0,"",VLOOKUP($C19,'Control Sample Data'!$C$3:$M$98,4,FALSE))) | S19: =IF(C19="","",IF(VLOOKUP($C19,'Control Sample Data'!$C$3:$M$98,5,FALSE)=0,"",VLOOKUP($C19,'Control Sample Data'!$C$3:$M$98,5,FALSE))) | T19: =IF(C19="","",IF(VLOOKUP($C19,'Control Sample Data'!$C$3:$M$98,6,FALSE)=0,"",VLOOKUP($C19,'Control Sample Data'!$C$3:$M$98,6,FALSE))) | U19: =IF(C19="","",IF(VLOOKUP($C19,'Control Sample Data'!$C$3:$M$98,7,FALSE)=0,"",VLOOKUP($C19,'Control Sample Data'!$C$3:$M$98,7,FALSE))) | V19: =IF(C19="","",IF(VLOOKUP($C19,'Control Sample Data'!$C$3:$M$98,8,FALSE)=0,"",VLOOKUP($C19,'Control Sample Data'!$C$3:$M$98,8,FALSE))) | W19: =IF(C19="","",IF(VLOOKUP($C19,'Control Sample Data'!$C$3:$M$98,9,FALSE)=0,"",VLOOKUP($C19,'Control Sample Data'!$C$3:$M$98,9,FALSE))) | X19: =IF(C19="","",IF(VLOOKUP($C19,'Control Sample Data'!$C$3:$M$98,10,FALSE)=0,"",VLOOKUP($C19,'Control Sample Data'!$C$3:$M$98,10,FALSE))) | Y19: =IF(C19="","",IF(VLOOKUP($C19,'Control Sample Data'!$C$3:$M$98,11,FALSE)=0,"",VLOOKUP($C19,'Control Sample Data'!$C$3:$M$98,11,FALSE)))
B20: =IF(C20="","",VLOOKUP(C20,'Gene Table'!B$3:D$98,2,FALSE)) | D20: =IF(C20="","",IF(VLOOKUP($C20,'Test Sample Data'!$C$3:$M$98,2,FALSE)=0,"",VLOOKUP($C20,'Test Sample Data'!$C$3:$M$98,2,FALSE))) | E20: =IF(C20="","",IF(VLOOKUP($C20,'Test Sample Data'!$C$3:$M$98,3,FALSE)=0,"",VLOOKUP($C20,'Test Sample Data'!$C$3:$M$98,3,FALSE))) | F20: =IF(C20="","",IF(VLOOKUP($C20,'Test Sample Data'!$C$3:$M$98,4,FALSE)=0,"",VLOOKUP($C20,'Test Sample Data'!$C$3:$M$98,4,FALSE))) | G20: =IF(C20="","",IF(VLOOKUP($C20,'Test Sample Data'!$C$3:$M$98,5,FALSE)=0,"",VLOOKUP($C20,'Test Sample Data'!$C$3:$M$98,5,FALSE))) | H20: =IF(C20="","",IF(VLOOKUP($C20,'Test Sample Data'!$C$3:$M$98,6,FALSE)=0,"",VLOOKUP($C20,'Test Sample Data'!$C$3:$M$98,6,FALSE))) | I20: =IF(C20="","",IF(VLOOKUP($C20,'Test Sample Data'!$C$3:$M$98,7,FALSE)=0,"",VLOOKUP($C20,'Test Sample Data'!$C$3:$M$98,7,FALSE))) | J20: =IF(C20="","",IF(VLOOKUP($C20,'Test Sample Data'!$C$3:$M$98,8,FALSE)=0,"",VLOOKUP($C20,'Test Sample Data'!$C$3:$M$98,8,FALSE))) | K20: =IF(C20="","",IF(VLOOKUP($C20,'Test Sample Data'!$C$3:$M$98,9,FALSE)=0,"",VLOOKUP($C20,'Test Sample Data'!$C$3:$M$98,9,FALSE))) | L20: =IF(C20="","",IF(VLOOKUP($C20,'Test Sample Data'!$C$3:$M$98,10,FALSE)=0,"",VLOOKUP($C20,'Test Sample Data'!$C$3:$M$98,10,FALSE))) | M20: =IF(C20="","",IF(VLOOKUP($C20,'Test Sample Data'!$C$3:$M$98,11,FALSE)=0,"",VLOOKUP($C20,'Test Sample Data'!$C$3:$M$98,11,FALSE))) | N20: =IF(B20=0,"",B20) | O20: =IF('Choose Housekeeping Genes'!C20=0,"",'Choose Housekeeping Genes'!C20) | P20: =IF(C20="","",IF(VLOOKUP($C20,'Control Sample Data'!$C$3:$M$98,2,FALSE)=0,"",VLOOKUP($C20,'Control Sample Data'!$C$3:$M$98,2,FALSE))) | Q20: =IF(C20="","",IF(VLOOKUP($C20,'Control Sample Data'!$C$3:$M$98,3,FALSE)=0,"",VLOOKUP($C20,'Control Sample Data'!$C$3:$M$98,3,FALSE))) | R20: =IF(C20="","",IF(VLOOKUP($C20,'Control Sample Data'!$C$3:$M$98,4,FALSE)=0,"",VLOOKUP($C20,'Control Sample Data'!$C$3:$M$98,4,FALSE))) | S20: =IF(C20="","",IF(VLOOKUP($C20,'Control Sample Data'!$C$3:$M$98,5,FALSE)=0,"",VLOOKUP($C20,'Control Sample Data'!$C$3:$M$98,5,FALSE))) | T20: =IF(C20="","",IF(VLOOKUP($C20,'Control Sample Data'!$C$3:$M$98,6,FALSE)=0,"",VLOOKUP($C20,'Control Sample Data'!$C$3:$M$98,6,FALSE))) | U20: =IF(C20="","",IF(VLOOKUP($C20,'Control Sample Data'!$C$3:$M$98,7,FALSE)=0,"",VLOOKUP($C20,'Control Sample Data'!$C$3:$M$98,7,FALSE))) | V20: =IF(C20="","",IF(VLOOKUP($C20,'Control Sample Data'!$C$3:$M$98,8,FALSE)=0,"",VLOOKUP($C20,'Control Sample Data'!$C$3:$M$98,8,FALSE))) | W20: =IF(C20="","",IF(VLOOKUP($C20,'Control Sample Data'!$C$3:$M$98,9,FALSE)=0,"",VLOOKUP($C20,'Control Sample Data'!$C$3:$M$98,9,FALSE))) | X20: =IF(C20="","",IF(VLOOKUP($C20,'Control Sample Data'!$C$3:$M$98,10,FALSE)=0,"",VLOOKUP($C20,'Control Sample Data'!$C$3:$M$98,10,FALSE))) | Y20: =IF(C20="","",IF(VLOOKUP($C20,'Control Sample Data'!$C$3:$M$98,11,FALSE)=0,"",VLOOKUP($C20,'Control Sample Data'!$C$3:$M$98,11,FALSE)))
... B22: =IF(C22="","",VLOOKUP(C22,'Gene Table'!B$3:D$98,2,FALSE)) | D22: =IF(C22="","",IF(VLOOKUP($C22,'Test Sample Data'!$C$3:$M$98,2,FALSE)=0,"",VLOOKUP($C22,'Test Sample Data'!$C$3:$M$98,2,FALSE))) | E22: =IF(C22="","",IF(VLOOKUP($C22,'Test Sample Data'!$C$3:$M$98,3,FALSE)=0,"",VLOOKUP($C22,'Test Sample Data'!$C$3:$M$98,3,FALSE))) | F22: =IF(C22="","",IF(VLOOKUP($C22,'Test Sample Data'!$C$3:$M$98,4,FALSE)=0,"",VLOOKUP($C22,'Test Sample Data'!$C$3:$M$98,4,FALSE))) | G22: =IF(C22="","",IF(VLOOKUP($C22,'Test Sample Data'!$C$3:$M$98,5,FALSE)=0,"",VLOOKUP($C22,'Test Sample Data'!$C$3:$M$98,5,FALSE))) | H22: =IF(C22="","",IF(VLOOKUP($C22,'Test Sample Data'!$C$3:$M$98,6,FALSE)=0,"",VLOOKUP($C22,'Test Sample Data'!$C$3:$M$98,6,FALSE))) | I22: =IF(C22="","",IF(VLOOKUP($C22,'Test Sample Data'!$C$3:$M$98,7,FALSE)=0,"",VLOOKUP($C22,'Test Sample Data'!$C$3:$M$98,7,FALSE))) | J22: =IF(C22="","",IF(VLOOKUP($C22,'Test Sample Data'!$C$3:$M$98,8,FALSE)=0,"",VLOOKUP($C22,'Test Sample Data'!$C$3:$M$98,8,FALSE))) | K22: =IF(C22="","",IF(VLOOKUP($C22,'Test Sample Data'!$C$3:$M$98,9,FALSE)=0,"",VLOOKUP($C22,'Test Sample Data'!$C$3:$M$98,9,FALSE))) | L22: =IF(C22="","",IF(VLOOKUP($C22,'Test Sample Data'!$C$3:$M$98,10,FALSE)=0,"",VLOOKUP($C22,'Test Sample Data'!$C$3:$M$98,10,FALSE))) | M22: =IF(C22="","",IF(VLOOKUP($C22,'Test Sample Data'!$C$3:$M$98,11,FALSE)=0,"",VLOOKUP($C22,'Test Sample Data'!$C$3:$M$98,11,FALSE))) | N22: =IF(B22=0,"",B22) | O22: =IF('Choose Housekeeping Genes'!C22=0,"",'Choose Housekeeping Genes'!C22) | P22: =IF(C22="","",IF(VLOOKUP($C22,'Control Sample Data'!$C$3:$M$98,2,FALSE)=0,"",VLOOKUP($C22,'Control Sample Data'!$C$3:$M$98,2,FALSE))) | Q22: =IF(C22="","",IF(VLOOKUP($C22,'Control Sample Data'!$C$3:$M$98,3,FALSE)=0,"",VLOOKUP($C22,'Control Sample Data'!$C$3:$M$98,3,FALSE))) | R22: =IF(C22="","",IF(VLOOKUP($C22,'Control Sample Data'!$C$3:$M$98,4,FALSE)=0,"",VLOOKUP($C22,'Control Sample Data'!$C$3:$M$98,4,FALSE))) | S22: =IF(C22="","",IF(VLOOKUP($C22,'Control Sample Data'!$C$3:$M$98,5,FALSE)=0,"",VLOOKUP($C22,'Control Sample Data'!$C$3:$M$98,5,FALSE))) | T22: =IF(C22="","",IF(VLOOKUP($C22,'Control Sample Data'!$C$3:$M$98,6,FALSE)=0,"",VLOOKUP($C22,'Control Sample Data'!$C$3:$M$98,6,FALSE))) | U22: =IF(C22="","",IF(VLOOKUP($C22,'Control Sample Data'!$C$3:$M$98,7,FALSE)=0,"",VLOOKUP($C22,'Control Sample Data'!$C$3:$M$98,7,FALSE))) | V22: =IF(C22="","",IF(VLOOKUP($C22,'Control Sample Data'!$C$3:$M$98,8,FALSE)=0,"",VLOOKUP($C22,'Control Sample Data'!$C$3:$M$98,8,FALSE))) | W22: =IF(C22="","",IF(VLOOKUP($C22,'Control Sample Data'!$C$3:$M$98,9,FALSE)=0,"",VLOOKUP($C22,'Control Sample Data'!$C$3:$M$98,9,FALSE))) | X22: =IF(C22="","",IF(VLOOKUP($C22,'Control Sample Data'!$C$3:$M$98,10,FALSE)=0,"",VLOOKUP($C22,'Control Sample Data'!$C$3:$M$98,10,FALSE))) | Y22: =IF(C22="","",IF(VLOOKUP($C22,'Control Sample Data'!$C$3:$M$98,11,FALSE)=0,"",VLOOKUP($C22,'Control Sample Data'!$C$3:$M$98,11,FALSE)))
B23: AVERAGE | D23: =IF(ISERROR(AVERAGE(D3:D22)),"",AVERAGE(D3:D22)) | E23: =IF(ISERROR(AVERAGE(E3:E22)),"",AVERAGE(E3:E22)) | F23: =IF(ISERROR(AVERAGE(F3:F22)),"",AVERAGE(F3:F22)) | G23: =IF(ISERROR(AVERAGE(G3:G22)),"",AVERAGE(G3:G22)) | H23: =IF(ISERROR(AVERAGE(H3:H22)),"",AVERAGE(H3:H22)) | I23: =IF(ISERROR(AVERAGE(I3:I22)),"",AVERAGE(I3:I22)) | J23: =IF(ISERROR(AVERAGE(J3:J22)),"",AVERAGE(J3:J22)) | K23: =IF(ISERROR(AVERAGE(K3:K22)),"",AVERAGE(K3:K22)) | ... M23: =IF(ISERROR(AVERAGE(M3:M22)),"",AVERAGE(M3:M22)) | N23: AVERAGE | P23: =IF(ISERROR(AVERAGE(P3:P22)),"",AVERAGE(P3:P22)) | Q23: =IF(ISERROR(AVERAGE(Q3:Q22)),"",AVERAGE(Q3:Q22)) | R23: =IF(ISERROR(AVERAGE(R3:R22)),"",AVERAGE(R3:R22)) | S23: =IF(ISERROR(AVERAGE(S3:S22)),"",AVERAGE(S3:S22)) | T23: =IF(ISERROR(AVERAGE(T3:T22)),"",AVERAGE(T3:T22)) | U23: =IF(ISERROR(AVERAGE(U3:U22)),"",AVERAGE(U3:U22)) | V23: =IF(ISERROR(AVERAGE(V3:V22)),"",AVERAGE(V3:V22)) | W23: =IF(ISERROR(AVERAGE(W3:W22)),"",AVERAGE(W3:W22)) | ... Y23: =IF(ISERROR(AVERAGE(Y3:Y22)),"",AVERAGE(Y3:Y22))
A24: Plate 2 | B24: =IF(C3="","",VLOOKUP(C3,'Gene Table'!B$99:D$194,2,FALSE)) -> HQP006940 | C24: =IF('Choose Housekeeping Genes'!C3=0,"",'Choose Housekeeping Genes'!C3) -> H03 | D24: =IF($C3="","",IF(VLOOKUP($C3,'Test Sample Data'!$C$99:$M$194,2,FALSE)=0,"",VLOOKUP($C3,'Test Sample Data'!$C$99:$M$194,2,FALSE))) | E24: =IF($C3="","",IF(VLOOKUP($C3,'Test Sample Data'!$C$99:$M$194,3,FALSE)=0,"",VLOOKUP($C3,'Test Sample Data'!$C$99:$M$194,3,FALSE))) | F24: =IF($C3="","",IF(VLOOKUP($C3,'Test Sample Data'!$C$99:$M$194,4,FALSE)=0,"",VLOOKUP($C3,'Test Sample Data'!$C$99:$M$194,4,FALSE))) | G24: =IF($C3="","",IF(VLOOKUP($C3,'Test Sample Data'!$C$99:$M$194,5,FALSE)=0,"",VLOOKUP($C3,'Test Sample Data'!$C$99:$M$194,5,FALSE))) | H24: =IF($C3="","",IF(VLOOKUP($C3,'Test Sample Data'!$C$99:$M$194,6,FALSE)=0,"",VLOOKUP($C3,'Test Sample Data'!$C$99:$M$194,6,FALSE))) | I24: =IF($C3="","",IF(VLOOKUP($C3,'Test Sample Data'!$C$99:$M$194,7,FALSE)=0,"",VLOOKUP($C3,'Test Sample Data'!$C$99:$M$194,7,FALSE))) | J24: =IF($C3="","",IF(VLOOKUP($C3,'Test Sample Data'!$C$99:$M$194,8,FALSE)=0,"",VLOOKUP($C3,'Test Sample Data'!$C$99:$M$194,8,FALSE))) | K24: =IF($C3="","",IF(VLOOKUP($C3,'Test Sample Data'!$C$99:$M$194,9,FALSE)=0,"",VLOOKUP($C3,'Test Sample Data'!$C$99:$M$194,9,FALSE))) | L24: =IF($C3="","",IF(VLOOKUP($C3,'Test Sample Data'!$C$99:$M$194,10,FALSE)=0,"",VLOOKUP($C3,'Test Sample Data'!$C$99:$M$194,10,FALSE))) | M24: =IF($C3="","",IF(VLOOKUP($C3,'Test Sample Data'!$C$99:$M$194,11,FALSE)=0,"",VLOOKUP($C3,'Test Sample Data'!$C$99:$M$194,11,FALSE))) | N24: =IF(B24=0,"",B24) -> HQP006940 | O24: =IF('Choose Housekeeping Genes'!C24=0,"",'Choose Housekeeping Genes'!C24) -> H03 | P24: =IF(C24="","",IF(VLOOKUP($C24,'Control Sample Data'!$C$99:$M$194,2,FALSE)=0,"",VLOOKUP($C24,'Control Sample Data'!$C$99:$M$194,2,FALSE))) | Q24: =IF(C24="","",IF(VLOOKUP($C24,'Control Sample Data'!$C$99:$M$194,3,FALSE)=0,"",VLOOKUP($C24,'Control Sample Data'!$C$99:$M$194,3,FALSE))) | R24: =IF(C24="","",IF(VLOOKUP($C24,'Control Sample Data'!$C$99:$M$194,4,FALSE)=0,"",VLOOKUP($C24,'Control Sample Data'!$C$99:$M$194,4,FALSE))) | S24: =IF(C24="","",IF(VLOOKUP($C24,'Control Sample Data'!$C$99:$M$194,5,FALSE)=0,"",VLOOKUP($C24,'Control Sample Data'!$C$99:$M$194,5,FALSE))) | T24: =IF(C24="","",IF(VLOOKUP($C24,'Control Sample Data'!$C$99:$M$194,6,FALSE)=0,"",VLOOKUP($C24,'Control Sample Data'!$C$99:$M$194,6,FALSE))) | U24: =IF(C24="","",IF(VLOOKUP($C24,'Control Sample Data'!$C$99:$M$194,7,FALSE)=0,"",VLOOKUP($C24,'Control Sample Data'!$C$99:$M$194,7,FALSE))) | V24: =IF(C24="","",IF(VLOOKUP($C24,'Control Sample Data'!$C$99:$M$194,8,FALSE)=0,"",VLOOKUP($C24,'Control Sample Data'!$C$99:$M$194,8,FALSE))) | W24: =IF(C24="","",IF(VLOOKUP($C24,'Control Sample Data'!$C$99:$M$194,9,FALSE)=0,"",VLOOKUP($C24,'Control Sample Data'!$C$99:$M$194,9,FALSE))) | X24: =IF(C24="","",IF(VLOOKUP($C24,'Control Sample Data'!$C$99:$M$194,10,FALSE)=0,"",VLOOKUP($C24,'Control Sample Data'!$C$99:$M$194,10,FALSE))) | Y24: =IF(C24="","",IF(VLOOKUP($C24,'Control Sample Data'!$C$99:$M$194,11,FALSE)=0,"",VLOOKUP($C24,'Control Sample Data'!$C$99:$M$194,11,FALSE)))
B25: =IF(C4="","",VLOOKUP(C4,'Gene Table'!B$99:D$194,2,FALSE)) -> HQP016381 | C25: =IF('Choose Housekeeping Genes'!C4=0,"",'Choose Housekeeping Genes'!C4) -> H04 | D25: =IF($C4="","",IF(VLOOKUP($C4,'Test Sample Data'!$C$99:$M$194,2,FALSE)=0,"",VLOOKUP($C4,'Test Sample Data'!$C$99:$M$194,2,FALSE))) | E25: =IF($C4="","",IF(VLOOKUP($C4,'Test Sample Data'!$C$99:$M$194,3,FALSE)=0,"",VLOOKUP($C4,'Test Sample Data'!$C$99:$M$194,3,FALSE))) | F25: =IF($C4="","",IF(VLOOKUP($C4,'Test Sample Data'!$C$99:$M$194,4,FALSE)=0,"",VLOOKUP($C4,'Test Sample Data'!$C$99:$M$194,4,FALSE))) | G25: =IF($C4="","",IF(VLOOKUP($C4,'Test Sample Data'!$C$99:$M$194,5,FALSE)=0,"",VLOOKUP($C4,'Test Sample Data'!$C$99:$M$194,5,FALSE))) | H25: =IF($C4="","",IF(VLOOKUP($C4,'Test Sample Data'!$C$99:$M$194,6,FALSE)=0,"",VLOOKUP($C4,'Test Sample Data'!$C$99:$M$194,6,FALSE))) | I25: =IF($C4="","",IF(VLOOKUP($C4,'Test Sample Data'!$C$99:$M$194,7,FALSE)=0,"",VLOOKUP($C4,'Test Sample Data'!$C$99:$M$194,7,FALSE))) | J25: =IF($C4="","",IF(VLOOKUP($C4,'Test Sample Data'!$C$99:$M$194,8,FALSE)=0,"",VLOOKUP($C4,'Test Sample Data'!$C$99:$M$194,8,FALSE))) | K25: =IF($C4="","",IF(VLOOKUP($C4,'Test Sample Data'!$C$99:$M$194,9,FALSE)=0,"",VLOOKUP($C4,'Test Sample Data'!$C$99:$M$194,9,FALSE))) | L25: =IF($C4="","",IF(VLOOKUP($C4,'Test Sample Data'!$C$99:$M$194,10,FALSE)=0,"",VLOOKUP($C4,'Test Sample Data'!$C$99:$M$194,10,FALSE))) | M25: =IF($C4="","",IF(VLOOKUP($C4,'Test Sample Data'!$C$99:$M$194,11,FALSE)=0,"",VLOOKUP($C4,'Test Sample Data'!$C$99:$M$194,11,FALSE))) | N25: =IF(B25=0,"",B25) -> HQP016381 | O25: =IF('Choose Housekeeping Genes'!C25=0,"",'Choose Housekeeping Genes'!C25) -> H04 | P25: =IF(C25="","",IF(VLOOKUP($C25,'Control Sample Data'!$C$99:$M$194,2,FALSE)=0,"",VLOOKUP($C25,'Control Sample Data'!$C$99:$M$194,2,FALSE))) | Q25: =IF(C25="","",IF(VLOOKUP($C25,'Control Sample Data'!$C$99:$M$194,3,FALSE)=0,"",VLOOKUP($C25,'Control Sample Data'!$C$99:$M$194,3,FALSE))) | R25: =IF(C25="","",IF(VLOOKUP($C25,'Control Sample Data'!$C$99:$M$194,4,FALSE)=0,"",VLOOKUP($C25,'Control Sample Data'!$C$99:$M$194,4,FALSE))) | S25: =IF(C25="","",IF(VLOOKUP($C25,'Control Sample Data'!$C$99:$M$194,5,FALSE)=0,"",VLOOKUP($C25,'Control Sample Data'!$C$99:$M$194,5,FALSE))) | T25: =IF(C25="","",IF(VLOOKUP($C25,'Control Sample Data'!$C$99:$M$194,6,FALSE)=0,"",VLOOKUP($C25,'Control Sample Data'!$C$99:$M$194,6,FALSE))) | U25: =IF(C25="","",IF(VLOOKUP($C25,'Control Sample Data'!$C$99:$M$194,7,FALSE)=0,"",VLOOKUP($C25,'Control Sample Data'!$C$99:$M$194,7,FALSE))) | V25: =IF(C25="","",IF(VLOOKUP($C25,'Control Sample Data'!$C$99:$M$194,8,FALSE)=0,"",VLOOKUP($C25,'Control Sample Data'!$C$99:$M$194,8,FALSE))) | W25: =IF(C25="","",IF(VLOOKUP($C25,'Control Sample Data'!$C$99:$M$194,9,FALSE)=0,"",VLOOKUP($C25,'Control Sample Data'!$C$99:$M$194,9,FALSE))) | X25: =IF(C25="","",IF(VLOOKUP($C25,'Control Sample Data'!$C$99:$M$194,10,FALSE)=0,"",VLOOKUP($C25,'Control Sample Data'!$C$99:$M$194,10,FALSE))) | Y25: =IF(C25="","",IF(VLOOKUP($C25,'Control Sample Data'!$C$99:$M$194,11,FALSE)=0,"",VLOOKUP($C25,'Control Sample Data'!$C$99:$M$194,11,FALSE)))
B26: =IF(C5="","",VLOOKUP(C5,'Gene Table'!B$99:D$194,2,FALSE)) -> HQP015171 | C26: =IF('Choose Housekeeping Genes'!C5=0,"",'Choose Housekeeping Genes'!C5) -> H05 | D26: =IF($C5="","",IF(VLOOKUP($C5,'Test Sample Data'!$C$99:$M$194,2,FALSE)=0,"",VLOOKUP($C5,'Test Sample Data'!$C$99:$M$194,2,FALSE))) | E26: =IF($C5="","",IF(VLOOKUP($C5,'Test Sample Data'!$C$99:$M$194,3,FALSE)=0,"",VLOOKUP($C5,'Test Sample Data'!$C$99:$M$194,3,FALSE))) | F26: =IF($C5="","",IF(VLOOKUP($C5,'Test Sample Data'!$C$99:$M$194,4,FALSE)=0,"",VLOOKUP($C5,'Test Sample Data'!$C$99:$M$194,4,FALSE))) | G26: =IF($C5="","",IF(VLOOKUP($C5,'Test Sample Data'!$C$99:$M$194,5,FALSE)=0,"",VLOOKUP($C5,'Test Sample Data'!$C$99:$M$194,5,FALSE))) | H26: =IF($C5="","",IF(VLOOKUP($C5,'Test Sample Data'!$C$99:$M$194,6,FALSE)=0,"",VLOOKUP($C5,'Test Sample Data'!$C$99:$M$194,6,FALSE))) | I26: =IF($C5="","",IF(VLOOKUP($C5,'Test Sample Data'!$C$99:$M$194,7,FALSE)=0,"",VLOOKUP($C5,'Test Sample Data'!$C$99:$M$194,7,FALSE))) | J26: =IF($C5="","",IF(VLOOKUP($C5,'Test Sample Data'!$C$99:$M$194,8,FALSE)=0,"",VLOOKUP($C5,'Test Sample Data'!$C$99:$M$194,8,FALSE))) | K26: =IF($C5="","",IF(VLOOKUP($C5,'Test Sample Data'!$C$99:$M$194,9,FALSE)=0,"",VLOOKUP($C5,'Test Sample Data'!$C$99:$M$194,9,FALSE))) | L26: =IF($C5="","",IF(VLOOKUP($C5,'Test Sample Data'!$C$99:$M$194,10,FALSE)=0,"",VLOOKUP($C5,'Test Sample Data'!$C$99:$M$194,10,FALSE))) | M26: =IF($C5="","",IF(VLOOKUP($C5,'Test Sample Data'!$C$99:$M$194,11,FALSE)=0,"",VLOOKUP($C5,'Test Sample Data'!$C$99:$M$194,11,FALSE))) | N26: =IF(B26=0,"",B26) -> HQP015171 | O26: =IF('Choose Housekeeping Genes'!C26=0,"",'Choose Housekeeping Genes'!C26) -> H05 | P26: =IF(C26="","",IF(VLOOKUP($C26,'Control Sample Data'!$C$99:$M$194,2,FALSE)=0,"",VLOOKUP($C26,'Control Sample Data'!$C$99:$M$194,2,FALSE))) | Q26: =IF(C26="","",IF(VLOOKUP($C26,'Control Sample Data'!$C$99:$M$194,3,FALSE)=0,"",VLOOKUP($C26,'Control Sample Data'!$C$99:$M$194,3,FALSE))) | R26: =IF(C26="","",IF(VLOOKUP($C26,'Control Sample Data'!$C$99:$M$194,4,FALSE)=0,"",VLOOKUP($C26,'Control Sample Data'!$C$99:$M$194,4,FALSE))) | S26: =IF(C26="","",IF(VLOOKUP($C26,'Control Sample Data'!$C$99:$M$194,5,FALSE)=0,"",VLOOKUP($C26,'Control Sample Data'!$C$99:$M$194,5,FALSE))) | T26: =IF(C26="","",IF(VLOOKUP($C26,'Control Sample Data'!$C$99:$M$194,6,FALSE)=0,"",VLOOKUP($C26,'Control Sample Data'!$C$99:$M$194,6,FALSE))) | U26: =IF(C26="","",IF(VLOOKUP($C26,'Control Sample Data'!$C$99:$M$194,7,FALSE)=0,"",VLOOKUP($C26,'Control Sample Data'!$C$99:$M$194,7,FALSE))) | V26: =IF(C26="","",IF(VLOOKUP($C26,'Control Sample Data'!$C$99:$M$194,8,FALSE)=0,"",VLOOKUP($C26,'Control Sample Data'!$C$99:$M$194,8,FALSE))) | W26: =IF(C26="","",IF(VLOOKUP($C26,'Control Sample Data'!$C$99:$M$194,9,FALSE)=0,"",VLOOKUP($C26,'Control Sample Data'!$C$99:$M$194,9,FALSE))) | X26: =IF(C26="","",IF(VLOOKUP($C26,'Control Sample Data'!$C$99:$M$194,10,FALSE)=0,"",VLOOKUP($C26,'Control Sample Data'!$C$99:$M$194,10,FALSE))) | Y26: =IF(C26="","",IF(VLOOKUP($C26,'Control Sample Data'!$C$99:$M$194,11,FALSE)=0,"",VLOOKUP($C26,'Control Sample Data'!$C$99:$M$194,11,FALSE)))
B27: =IF(C6="","",VLOOKUP(C6,'Gene Table'!B$99:D$194,2,FALSE)) -> HQP006171 | C27: =IF('Choose Housekeeping Genes'!C6=0,"",'Choose Housekeeping Genes'!C6) -> H06 | D27: =IF($C6="","",IF(VLOOKUP($C6,'Test Sample Data'!$C$99:$M$194,2,FALSE)=0,"",VLOOKUP($C6,'Test Sample Data'!$C$99:$M$194,2,FALSE))) | E27: =IF($C6="","",IF(VLOOKUP($C6,'Test Sample Data'!$C$99:$M$194,3,FALSE)=0,"",VLOOKUP($C6,'Test Sample Data'!$C$99:$M$194,3,FALSE))) | F27: =IF($C6="","",IF(VLOOKUP($C6,'Test Sample Data'!$C$99:$M$194,4,FALSE)=0,"",VLOOKUP($C6,'Test Sample Data'!$C$99:$M$194,4,FALSE))) | G27: =IF($C6="","",IF(VLOOKUP($C6,'Test Sample Data'!$C$99:$M$194,5,FALSE)=0,"",VLOOKUP($C6,'Test Sample Data'!$C$99:$M$194,5,FALSE))) | H27: =IF($C6="","",IF(VLOOKUP($C6,'Test Sample Data'!$C$99:$M$194,6,FALSE)=0,"",VLOOKUP($C6,'Test Sample Data'!$C$99:$M$194,6,FALSE))) | I27: =IF($C6="","",IF(VLOOKUP($C6,'Test Sample Data'!$C$99:$M$194,7,FALSE)=0,"",VLOOKUP($C6,'Test Sample Data'!$C$99:$M$194,7,FALSE))) | J27: =IF($C6="","",IF(VLOOKUP($C6,'Test Sample Data'!$C$99:$M$194,8,FALSE)=0,"",VLOOKUP($C6,'Test Sample Data'!$C$99:$M$194,8,FALSE))) | K27: =IF($C6="","",IF(VLOOKUP($C6,'Test Sample Data'!$C$99:$M$194,9,FALSE)=0,"",VLOOKUP($C6,'Test Sample Data'!$C$99:$M$194,9,FALSE))) | L27: =IF($C6="","",IF(VLOOKUP($C6,'Test Sample Data'!$C$99:$M$194,10,FALSE)=0,"",VLOOKUP($C6,'Test Sample Data'!$C$99:$M$194,10,FALSE))) | M27: =IF($C6="","",IF(VLOOKUP($C6,'Test Sample Data'!$C$99:$M$194,11,FALSE)=0,"",VLOOKUP($C6,'Test Sample Data'!$C$99:$M$194,11,FALSE))) | N27: =IF(B27=0,"",B27) -> HQP006171 | O27: =IF('Choose Housekeeping Genes'!C27=0,"",'Choose Housekeeping Genes'!C27) -> H06 | P27: =IF(C27="","",IF(VLOOKUP($C27,'Control Sample Data'!$C$99:$M$194,2,FALSE)=0,"",VLOOKUP($C27,'Control Sample Data'!$C$99:$M$194,2,FALSE))) | Q27: =IF(C27="","",IF(VLOOKUP($C27,'Control Sample Data'!$C$99:$M$194,3,FALSE)=0,"",VLOOKUP($C27,'Control Sample Data'!$C$99:$M$194,3,FALSE))) | R27: =IF(C27="","",IF(VLOOKUP($C27,'Control Sample Data'!$C$99:$M$194,4,FALSE)=0,"",VLOOKUP($C27,'Control Sample Data'!$C$99:$M$194,4,FALSE))) | S27: =IF(C27="","",IF(VLOOKUP($C27,'Control Sample Data'!$C$99:$M$194,5,FALSE)=0,"",VLOOKUP($C27,'Control Sample Data'!$C$99:$M$194,5,FALSE))) | T27: =IF(C27="","",IF(VLOOKUP($C27,'Control Sample Data'!$C$99:$M$194,6,FALSE)=0,"",VLOOKUP($C27,'Control Sample Data'!$C$99:$M$194,6,FALSE))) | U27: =IF(C27="","",IF(VLOOKUP($C27,'Control Sample Data'!$C$99:$M$194,7,FALSE)=0,"",VLOOKUP($C27,'Control Sample Data'!$C$99:$M$194,7,FALSE))) | V27: =IF(C27="","",IF(VLOOKUP($C27,'Control Sample Data'!$C$99:$M$194,8,FALSE)=0,"",VLOOKUP($C27,'Control Sample Data'!$C$99:$M$194,8,FALSE))) | W27: =IF(C27="","",IF(VLOOKUP($C27,'Control Sample Data'!$C$99:$M$194,9,FALSE)=0,"",VLOOKUP($C27,'Control Sample Data'!$C$99:$M$194,9,FALSE))) | X27: =IF(C27="","",IF(VLOOKUP($C27,'Control Sample Data'!$C$99:$M$194,10,FALSE)=0,"",VLOOKUP($C27,'Control Sample Data'!$C$99:$M$194,10,FALSE))) | Y27: =IF(C27="","",IF(VLOOKUP($C27,'Control Sample Data'!$C$99:$M$194,11,FALSE)=0,"",VLOOKUP($C27,'Control Sample Data'!$C$99:$M$194,11,FALSE)))
B28: =IF(C7="","",VLOOKUP(C7,'Gene Table'!B$99:D$194,2,FALSE)) -> HQP009026 | C28: =IF('Choose Housekeeping Genes'!C7=0,"",'Choose Housekeeping Genes'!C7) -> H07 | D28: =IF($C7="","",IF(VLOOKUP($C7,'Test Sample Data'!$C$99:$M$194,2,FALSE)=0,"",VLOOKUP($C7,'Test Sample Data'!$C$99:$M$194,2,FALSE))) | E28: =IF($C7="","",IF(VLOOKUP($C7,'Test Sample Data'!$C$99:$M$194,3,FALSE)=0,"",VLOOKUP($C7,'Test Sample Data'!$C$99:$M$194,3,FALSE))) | F28: =IF($C7="","",IF(VLOOKUP($C7,'Test Sample Data'!$C$99:$M$194,4,FALSE)=0,"",VLOOKUP($C7,'Test Sample Data'!$C$99:$M$194,4,FALSE))) | G28: =IF($C7="","",IF(VLOOKUP($C7,'Test Sample Data'!$C$99:$M$194,5,FALSE)=0,"",VLOOKUP($C7,'Test Sample Data'!$C$99:$M$194,5,FALSE))) | H28: =IF($C7="","",IF(VLOOKUP($C7,'Test Sample Data'!$C$99:$M$194,6,FALSE)=0,"",VLOOKUP($C7,'Test Sample Data'!$C$99:$M$194,6,FALSE))) | I28: =IF($C7="","",IF(VLOOKUP($C7,'Test Sample Data'!$C$99:$M$194,7,FALSE)=0,"",VLOOKUP($C7,'Test Sample Data'!$C$99:$M$194,7,FALSE))) | J28: =IF($C7="","",IF(VLOOKUP($C7,'Test Sample Data'!$C$99:$M$194,8,FALSE)=0,"",VLOOKUP($C7,'Test Sample Data'!$C$99:$M$194,8,FALSE))) | K28: =IF($C7="","",IF(VLOOKUP($C7,'Test Sample Data'!$C$99:$M$194,9,FALSE)=0,"",VLOOKUP($C7,'Test Sample Data'!$C$99:$M$194,9,FALSE))) | L28: =IF($C7="","",IF(VLOOKUP($C7,'Test Sample Data'!$C$99:$M$194,10,FALSE)=0,"",VLOOKUP($C7,'Test Sample Data'!$C$99:$M$194,10,FALSE))) | M28: =IF($C7="","",IF(VLOOKUP($C7,'Test Sample Data'!$C$99:$M$194,11,FALSE)=0,"",VLOOKUP($C7,'Test Sample Data'!$C$99:$M$194,11,FALSE))) | N28: =IF(B28=0,"",B28) -> HQP009026 | O28: =IF('Choose Housekeeping Genes'!C28=0,"",'Choose Housekeeping Genes'!C28) -> H07 | P28: =IF(C28="","",IF(VLOOKUP($C28,'Control Sample Data'!$C$99:$M$194,2,FALSE)=0,"",VLOOKUP($C28,'Control Sample Data'!$C$99:$M$194,2,FALSE))) | Q28: =IF(C28="","",IF(VLOOKUP($C28,'Control Sample Data'!$C$99:$M$194,3,FALSE)=0,"",VLOOKUP($C28,'Control Sample Data'!$C$99:$M$194,3,FALSE))) | R28: =IF(C28="","",IF(VLOOKUP($C28,'Control Sample Data'!$C$99:$M$194,4,FALSE)=0,"",VLOOKUP($C28,'Control Sample Data'!$C$99:$M$194,4,FALSE))) | S28: =IF(C28="","",IF(VLOOKUP($C28,'Control Sample Data'!$C$99:$M$194,5,FALSE)=0,"",VLOOKUP($C28,'Control Sample Data'!$C$99:$M$194,5,FALSE))) | T28: =IF(C28="","",IF(VLOOKUP($C28,'Control Sample Data'!$C$99:$M$194,6,FALSE)=0,"",VLOOKUP($C28,'Control Sample Data'!$C$99:$M$194,6,FALSE))) | U28: =IF(C28="","",IF(VLOOKUP($C28,'Control Sample Data'!$C$99:$M$194,7,FALSE)=0,"",VLOOKUP($C28,'Control Sample Data'!$C$99:$M$194,7,FALSE))) | V28: =IF(C28="","",IF(VLOOKUP($C28,'Control Sample Data'!$C$99:$M$194,8,FALSE)=0,"",VLOOKUP($C28,'Control Sample Data'!$C$99:$M$194,8,FALSE))) | W28: =IF(C28="","",IF(VLOOKUP($C28,'Control Sample Data'!$C$99:$M$194,9,FALSE)=0,"",VLOOKUP($C28,'Control Sample Data'!$C$99:$M$194,9,FALSE))) | X28: =IF(C28="","",IF(VLOOKUP($C28,'Control Sample Data'!$C$99:$M$194,10,FALSE)=0,"",VLOOKUP($C28,'Control Sample Data'!$C$99:$M$194,10,FALSE))) | Y28: =IF(C28="","",IF(VLOOKUP($C28,'Control Sample Data'!$C$99:$M$194,11,FALSE)=0,"",VLOOKUP($C28,'Control Sample Data'!$C$99:$M$194,11,FALSE)))
B29: =IF(C8="","",VLOOKUP(C8,'Gene Table'!B$99:D$194,2,FALSE)) -> HQP054253 | C29: =IF('Choose Housekeeping Genes'!C8=0,"",'Choose Housekeeping Genes'!C8) -> H08 | D29: =IF($C8="","",IF(VLOOKUP($C8,'Test Sample Data'!$C$99:$M$194,2,FALSE)=0,"",VLOOKUP($C8,'Test Sample Data'!$C$99:$M$194,2,FALSE))) | E29: =IF($C8="","",IF(VLOOKUP($C8,'Test Sample Data'!$C$99:$M$194,3,FALSE)=0,"",VLOOKUP($C8,'Test Sample Data'!$C$99:$M$194,3,FALSE))) | F29: =IF($C8="","",IF(VLOOKUP($C8,'Test Sample Data'!$C$99:$M$194,4,FALSE)=0,"",VLOOKUP($C8,'Test Sample Data'!$C$99:$M$194,4,FALSE))) | G29: =IF($C8="","",IF(VLOOKUP($C8,'Test Sample Data'!$C$99:$M$194,5,FALSE)=0,"",VLOOKUP($C8,'Test Sample Data'!$C$99:$M$194,5,FALSE))) | H29: =IF($C8="","",IF(VLOOKUP($C8,'Test Sample Data'!$C$99:$M$194,6,FALSE)=0,"",VLOOKUP($C8,'Test Sample Data'!$C$99:$M$194,6,FALSE))) | I29: =IF($C8="","",IF(VLOOKUP($C8,'Test Sample Data'!$C$99:$M$194,7,FALSE)=0,"",VLOOKUP($C8,'Test Sample Data'!$C$99:$M$194,7,FALSE))) | J29: =IF($C8="","",IF(VLOOKUP($C8,'Test Sample Data'!$C$99:$M$194,8,FALSE)=0,"",VLOOKUP($C8,'Test Sample Data'!$C$99:$M$194,8,FALSE))) | K29: =IF($C8="","",IF(VLOOKUP($C8,'Test Sample Data'!$C$99:$M$194,9,FALSE)=0,"",VLOOKUP($C8,'Test Sample Data'!$C$99:$M$194,9,FALSE))) | L29: =IF($C8="","",IF(VLOOKUP($C8,'Test Sample Data'!$C$99:$M$194,10,FALSE)=0,"",VLOOKUP($C8,'Test Sample Data'!$C$99:$M$194,10,FALSE))) | M29: =IF($C8="","",IF(VLOOKUP($C8,'Test Sample Data'!$C$99:$M$194,11,FALSE)=0,"",VLOOKUP($C8,'Test Sample Data'!$C$99:$M$194,11,FALSE))) | N29: =IF(B29=0,"",B29) -> HQP054253 | O29: =IF('Choose Housekeeping Genes'!C29=0,"",'Choose Housekeeping Genes'!C29) -> H08 | P29: =IF(C29="","",IF(VLOOKUP($C29,'Control Sample Data'!$C$99:$M$194,2,FALSE)=0,"",VLOOKUP($C29,'Control Sample Data'!$C$99:$M$194,2,FALSE))) | Q29: =IF(C29="","",IF(VLOOKUP($C29,'Control Sample Data'!$C$99:$M$194,3,FALSE)=0,"",VLOOKUP($C29,'Control Sample Data'!$C$99:$M$194,3,FALSE))) | R29: =IF(C29="","",IF(VLOOKUP($C29,'Control Sample Data'!$C$99:$M$194,4,FALSE)=0,"",VLOOKUP($C29,'Control Sample Data'!$C$99:$M$194,4,FALSE))) | S29: =IF(C29="","",IF(VLOOKUP($C29,'Control Sample Data'!$C$99:$M$194,5,FALSE)=0,"",VLOOKUP($C29,'Control Sample Data'!$C$99:$M$194,5,FALSE))) | T29: =IF(C29="","",IF(VLOOKUP($C29,'Control Sample Data'!$C$99:$M$194,6,FALSE)=0,"",VLOOKUP($C29,'Control Sample Data'!$C$99:$M$194,6,FALSE))) | U29: =IF(C29="","",IF(VLOOKUP($C29,'Control Sample Data'!$C$99:$M$194,7,FALSE)=0,"",VLOOKUP($C29,'Control Sample Data'!$C$99:$M$194,7,FALSE))) | V29: =IF(C29="","",IF(VLOOKUP($C29,'Control Sample Data'!$C$99:$M$194,8,FALSE)=0,"",VLOOKUP($C29,'Control Sample Data'!$C$99:$M$194,8,FALSE))) | W29: =IF(C29="","",IF(VLOOKUP($C29,'Control Sample Data'!$C$99:$M$194,9,FALSE)=0,"",VLOOKUP($C29,'Control Sample Data'!$C$99:$M$194,9,FALSE))) | X29: =IF(C29="","",IF(VLOOKUP($C29,'Control Sample Data'!$C$99:$M$194,10,FALSE)=0,"",VLOOKUP($C29,'Control Sample Data'!$C$99:$M$194,10,FALSE))) | Y29: =IF(C29="","",IF(VLOOKUP($C29,'Control Sample Data'!$C$99:$M$194,11,FALSE)=0,"",VLOOKUP($C29,'Control Sample Data'!$C$99:$M$194,11,FALSE)))
B30: =IF(C9="","",VLOOKUP(C9,'Gene Table'!B$99:D$194,2,FALSE)) | C30: =IF('Choose Housekeeping Genes'!C9=0,"",'Choose Housekeeping Genes'!C9) | D30: =IF($C9="","",IF(VLOOKUP($C9,'Test Sample Data'!$C$99:$M$194,2,FALSE)=0,"",VLOOKUP($C9,'Test Sample Data'!$C$99:$M$194,2,FALSE))) | E30: =IF($C9="","",IF(VLOOKUP($C9,'Test Sample Data'!$C$99:$M$194,3,FALSE)=0,"",VLOOKUP($C9,'Test Sample Data'!$C$99:$M$194,3,FALSE))) | F30: =IF($C9="","",IF(VLOOKUP($C9,'Test Sample Data'!$C$99:$M$194,4,FALSE)=0,"",VLOOKUP($C9,'Test Sample Data'!$C$99:$M$194,4,FALSE))) | G30: =IF($C9="","",IF(VLOOKUP($C9,'Test Sample Data'!$C$99:$M$194,5,FALSE)=0,"",VLOOKUP($C9,'Test Sample Data'!$C$99:$M$194,5,FALSE))) | H30: =IF($C9="","",IF(VLOOKUP($C9,'Test Sample Data'!$C$99:$M$194,6,FALSE)=0,"",VLOOKUP($C9,'Test Sample Data'!$C$99:$M$194,6,FALSE))) | I30: =IF($C9="","",IF(VLOOKUP($C9,'Test Sample Data'!$C$99:$M$194,7,FALSE)=0,"",VLOOKUP($C9,'Test Sample Data'!$C$99:$M$194,7,FALSE))) | J30: =IF($C9="","",IF(VLOOKUP($C9,'Test Sample Data'!$C$99:$M$194,8,FALSE)=0,"",VLOOKUP($C9,'Test Sample Data'!$C$99:$M$194,8,FALSE))) | K30: =IF($C9="","",IF(VLOOKUP($C9,'Test Sample Data'!$C$99:$M$194,9,FALSE)=0,"",VLOOKUP($C9,'Test Sample Data'!$C$99:$M$194,9,FALSE))) | L30: =IF($C9="","",IF(VLOOKUP($C9,'Test Sample Data'!$C$99:$M$194,10,FALSE)=0,"",VLOOKUP($C9,'Test Sample Data'!$C$99:$M$194,10,FALSE))) | M30: =IF($C9="","",IF(VLOOKUP($C9,'Test Sample Data'!$C$99:$M$194,11,FALSE)=0,"",VLOOKUP($C9,'Test Sample Data'!$C$99:$M$194,11,FALSE))) | N30: =IF(B30=0,"",B30) | O30: =IF('Choose Housekeeping Genes'!C30=0,"",'Choose Housekeeping Genes'!C30) | P30: =IF(C30="","",IF(VLOOKUP($C30,'Control Sample Data'!$C$99:$M$194,2,FALSE)=0,"",VLOOKUP($C30,'Control Sample Data'!$C$99:$M$194,2,FALSE))) | Q30: =IF(C30="","",IF(VLOOKUP($C30,'Control Sample Data'!$C$99:$M$194,3,FALSE)=0,"",VLOOKUP($C30,'Control Sample Data'!$C$99:$M$194,3,FALSE))) | R30: =IF(C30="","",IF(VLOOKUP($C30,'Control Sample Data'!$C$99:$M$194,4,FALSE)=0,"",VLOOKUP($C30,'Control Sample Data'!$C$99:$M$194,4,FALSE))) | S30: =IF(C30="","",IF(VLOOKUP($C30,'Control Sample Data'!$C$99:$M$194,5,FALSE)=0,"",VLOOKUP($C30,'Control Sample Data'!$C$99:$M$194,5,FALSE))) | T30: =IF(C30="","",IF(VLOOKUP($C30,'Control Sample Data'!$C$99:$M$194,6,FALSE)=0,"",VLOOKUP($C30,'Control Sample Data'!$C$99:$M$194,6,FALSE))) | U30: =IF(C30="","",IF(VLOOKUP($C30,'Control Sample Data'!$C$99:$M$194,7,FALSE)=0,"",VLOOKUP($C30,'Control Sample Data'!$C$99:$M$194,7,FALSE))) | V30: =IF(C30="","",IF(VLOOKUP($C30,'Control Sample Data'!$C$99:$M$194,8,FALSE)=0,"",VLOOKUP($C30,'Control Sample Data'!$C$99:$M$194,8,FALSE))) | W30: =IF(C30="","",IF(VLOOKUP($C30,'Control Sample Data'!$C$99:$M$194,9,FALSE)=0,"",VLOOKUP($C30,'Control Sample Data'!$C$99:$M$194,9,FALSE))) | X30: =IF(C30="","",IF(VLOOKUP($C30,'Control Sample Data'!$C$99:$M$194,10,FALSE)=0,"",VLOOKUP($C30,'Control Sample Data'!$C$99:$M$194,10,FALSE))) | Y30: =IF(C30="","",IF(VLOOKUP($C30,'Control Sample Data'!$C$99:$M$194,11,FALSE)=0,"",VLOOKUP($C30,'Control Sample Data'!$C$99:$M$194,11,FALSE)))
B31: =IF(C10="","",VLOOKUP(C10,'Gene Table'!B$99:D$194,2,FALSE)) | C31: =IF('Choose Housekeeping Genes'!C10=0,"",'Choose Housekeeping Genes'!C10) | D31: =IF($C10="","",IF(VLOOKUP($C10,'Test Sample Data'!$C$99:$M$194,2,FALSE)=0,"",VLOOKUP($C10,'Test Sample Data'!$C$99:$M$194,2,FALSE))) | E31: =IF($C10="","",IF(VLOOKUP($C10,'Test Sample Data'!$C$99:$M$194,3,FALSE)=0,"",VLOOKUP($C10,'Test Sample Data'!$C$99:$M$194,3,FALSE))) | F31: =IF($C10="","",IF(VLOOKUP($C10,'Test Sample Data'!$C$99:$M$194,4,FALSE)=0,"",VLOOKUP($C10,'Test Sample Data'!$C$99:$M$194,4,FALSE))) | G31: =IF($C10="","",IF(VLOOKUP($C10,'Test Sample Data'!$C$99:$M$194,5,FALSE)=0,"",VLOOKUP($C10,'Test Sample Data'!$C$99:$M$194,5,FALSE))) | H31: =IF($C10="","",IF(VLOOKUP($C10,'Test Sample Data'!$C$99:$M$194,6,FALSE)=0,"",VLOOKUP($C10,'Test Sample Data'!$C$99:$M$194,6,FALSE))) | I31: =IF($C10="","",IF(VLOOKUP($C10,'Test Sample Data'!$C$99:$M$194,7,FALSE)=0,"",VLOOKUP($C10,'Test Sample Data'!$C$99:$M$194,7,FALSE))) | J31: =IF($C10="","",IF(VLOOKUP($C10,'Test Sample Data'!$C$99:$M$194,8,FALSE)=0,"",VLOOKUP($C10,'Test Sample Data'!$C$99:$M$194,8,FALSE))) | K31: =IF($C10="","",IF(VLOOKUP($C10,'Test Sample Data'!$C$99:$M$194,9,FALSE)=0,"",VLOOKUP($C10,'Test Sample Data'!$C$99:$M$194,9,FALSE))) | L31: =IF($C10="","",IF(VLOOKUP($C10,'Test Sample Data'!$C$99:$M$194,10,FALSE)=0,"",VLOOKUP($C10,'Test Sample Data'!$C$99:$M$194,10,FALSE))) | M31: =IF($C10="","",IF(VLOOKUP($C10,'Test Sample Data'!$C$99:$M$194,11,FALSE)=0,"",VLOOKUP($C10,'Test Sample Data'!$C$99:$M$194,11,FALSE))) | N31: =IF(B31=0,"",B31) | O31: =IF('Choose Housekeeping Genes'!C31=0,"",'Choose Housekeeping Genes'!C31) | P31: =IF(C31="","",IF(VLOOKUP($C31,'Control Sample Data'!$C$99:$M$194,2,FALSE)=0,"",VLOOKUP($C31,'Control Sample Data'!$C$99:$M$194,2,FALSE))) | Q31: =IF(C31="","",IF(VLOOKUP($C31,'Control Sample Data'!$C$99:$M$194,3,FALSE)=0,"",VLOOKUP($C31,'Control Sample Data'!$C$99:$M$194,3,FALSE))) | R31: =IF(C31="","",IF(VLOOKUP($C31,'Control Sample Data'!$C$99:$M$194,4,FALSE)=0,"",VLOOKUP($C31,'Control Sample Data'!$C$99:$M$194,4,FALSE))) | S31: =IF(C31="","",IF(VLOOKUP($C31,'Control Sample Data'!$C$99:$M$194,5,FALSE)=0,"",VLOOKUP($C31,'Control Sample Data'!$C$99:$M$194,5,FALSE))) | T31: =IF(C31="","",IF(VLOOKUP($C31,'Control Sample Data'!$C$99:$M$194,6,FALSE)=0,"",VLOOKUP($C31,'Control Sample Data'!$C$99:$M$194,6,FALSE))) | U31: =IF(C31="","",IF(VLOOKUP($C31,'Control Sample Data'!$C$99:$M$194,7,FALSE)=0,"",VLOOKUP($C31,'Control Sample Data'!$C$99:$M$194,7,FALSE))) | V31: =IF(C31="","",IF(VLOOKUP($C31,'Control Sample Data'!$C$99:$M$194,8,FALSE)=0,"",VLOOKUP($C31,'Control Sample Data'!$C$99:$M$194,8,FALSE))) | W31: =IF(C31="","",IF(VLOOKUP($C31,'Control Sample Data'!$C$99:$M$194,9,FALSE)=0,"",VLOOKUP($C31,'Control Sample Data'!$C$99:$M$194,9,FALSE))) | X31: =IF(C31="","",IF(VLOOKUP($C31,'Control Sample Data'!$C$99:$M$194,10,FALSE)=0,"",VLOOKUP($C31,'Control Sample Data'!$C$99:$M$194,10,FALSE))) | Y31: =IF(C31="","",IF(VLOOKUP($C31,'Control Sample Data'!$C$99:$M$194,11,FALSE)=0,"",VLOOKUP($C31,'Control Sample Data'!$C$99:$M$194,11,FALSE)))
B32: =IF(C11="","",VLOOKUP(C11,'Gene Table'!B$99:D$194,2,FALSE)) | C32: =IF('Choose Housekeeping Genes'!C11=0,"",'Choose Housekeeping Genes'!C11) | D32: =IF($C11="","",IF(VLOOKUP($C11,'Test Sample Data'!$C$99:$M$194,2,FALSE)=0,"",VLOOKUP($C11,'Test Sample Data'!$C$99:$M$194,2,FALSE))) | E32: =IF($C11="","",IF(VLOOKUP($C11,'Test Sample Data'!$C$99:$M$194,3,FALSE)=0,"",VLOOKUP($C11,'Test Sample Data'!$C$99:$M$194,3,FALSE))) | F32: =IF($C11="","",IF(VLOOKUP($C11,'Test Sample Data'!$C$99:$M$194,4,FALSE)=0,"",VLOOKUP($C11,'Test Sample Data'!$C$99:$M$194,4,FALSE))) | G32: =IF($C11="","",IF(VLOOKUP($C11,'Test Sample Data'!$C$99:$M$194,5,FALSE)=0,"",VLOOKUP($C11,'Test Sample Data'!$C$99:$M$194,5,FALSE))) | H32: =IF($C11="","",IF(VLOOKUP($C11,'Test Sample Data'!$C$99:$M$194,6,FALSE)=0,"",VLOOKUP($C11,'Test Sample Data'!$C$99:$M$194,6,FALSE))) | I32: =IF($C11="","",IF(VLOOKUP($C11,'Test Sample Data'!$C$99:$M$194,7,FALSE)=0,"",VLOOKUP($C11,'Test Sample Data'!$C$99:$M$194,7,FALSE))) | J32: =IF($C11="","",IF(VLOOKUP($C11,'Test Sample Data'!$C$99:$M$194,8,FALSE)=0,"",VLOOKUP($C11,'Test Sample Data'!$C$99:$M$194,8,FALSE))) | K32: =IF($C11="","",IF(VLOOKUP($C11,'Test Sample Data'!$C$99:$M$194,9,FALSE)=0,"",VLOOKUP($C11,'Test Sample Data'!$C$99:$M$194,9,FALSE))) | L32: =IF($C11="","",IF(VLOOKUP($C11,'Test Sample Data'!$C$99:$M$194,10,FALSE)=0,"",VLOOKUP($C11,'Test Sample Data'!$C$99:$M$194,10,FALSE))) | M32: =IF($C11="","",IF(VLOOKUP($C11,'Test Sample Data'!$C$99:$M$194,11,FALSE)=0,"",VLOOKUP($C11,'Test Sample Data'!$C$99:$M$194,11,FALSE))) | N32: =IF(B32=0,"",B32) | O32: =IF('Choose Housekeeping Genes'!C32=0,"",'Choose Housekeeping Genes'!C32) | P32: =IF(C32="","",IF(VLOOKUP($C32,'Control Sample Data'!$C$99:$M$194,2,FALSE)=0,"",VLOOKUP($C32,'Control Sample Data'!$C$99:$M$194,2,FALSE))) | Q32: =IF(C32="","",IF(VLOOKUP($C32,'Control Sample Data'!$C$99:$M$194,3,FALSE)=0,"",VLOOKUP($C32,'Control Sample Data'!$C$99:$M$194,3,FALSE))) | R32: =IF(C32="","",IF(VLOOKUP($C32,'Control Sample Data'!$C$99:$M$194,4,FALSE)=0,"",VLOOKUP($C32,'Control Sample Data'!$C$99:$M$194,4,FALSE))) | S32: =IF(C32="","",IF(VLOOKUP($C32,'Control Sample Data'!$C$99:$M$194,5,FALSE)=0,"",VLOOKUP($C32,'Control Sample Data'!$C$99:$M$194,5,FALSE))) | T32: =IF(C32="","",IF(VLOOKUP($C32,'Control Sample Data'!$C$99:$M$194,6,FALSE)=0,"",VLOOKUP($C32,'Control Sample Data'!$C$99:$M$194,6,FALSE))) | U32: =IF(C32="","",IF(VLOOKUP($C32,'Control Sample Data'!$C$99:$M$194,7,FALSE)=0,"",VLOOKUP($C32,'Control Sample Data'!$C$99:$M$194,7,FALSE))) | V32: =IF(C32="","",IF(VLOOKUP($C32,'Control Sample Data'!$C$99:$M$194,8,FALSE)=0,"",VLOOKUP($C32,'Control Sample Data'!$C$99:$M$194,8,FALSE))) | W32: =IF(C32="","",IF(VLOOKUP($C32,'Control Sample Data'!$C$99:$M$194,9,FALSE)=0,"",VLOOKUP($C32,'Control Sample Data'!$C$99:$M$194,9,FALSE))) | X32: =IF(C32="","",IF(VLOOKUP($C32,'Control Sample Data'!$C$99:$M$194,10,FALSE)=0,"",VLOOKUP($C32,'Control Sample Data'!$C$99:$M$194,10,FALSE))) | Y32: =IF(C32="","",IF(VLOOKUP($C32,'Control Sample Data'!$C$99:$M$194,11,FALSE)=0,"",VLOOKUP($C32,'Control Sample Data'!$C$99:$M$194,11,FALSE)))
B33: =IF(C12="","",VLOOKUP(C12,'Gene Table'!B$99:D$194,2,FALSE)) | C33: =IF('Choose Housekeeping Genes'!C12=0,"",'Choose Housekeeping Genes'!C12) | D33: =IF($C12="","",IF(VLOOKUP($C12,'Test Sample Data'!$C$99:$M$194,2,FALSE)=0,"",VLOOKUP($C12,'Test Sample Data'!$C$99:$M$194,2,FALSE))) | E33: =IF($C12="","",IF(VLOOKUP($C12,'Test Sample Data'!$C$99:$M$194,3,FALSE)=0,"",VLOOKUP($C12,'Test Sample Data'!$C$99:$M$194,3,FALSE))) | F33: =IF($C12="","",IF(VLOOKUP($C12,'Test Sample Data'!$C$99:$M$194,4,FALSE)=0,"",VLOOKUP($C12,'Test Sample Data'!$C$99:$M$194,4,FALSE))) | G33: =IF($C12="","",IF(VLOOKUP($C12,'Test Sample Data'!$C$99:$M$194,5,FALSE)=0,"",VLOOKUP($C12,'Test Sample Data'!$C$99:$M$194,5,FALSE))) | H33: =IF($C12="","",IF(VLOOKUP($C12,'Test Sample Data'!$C$99:$M$194,6,FALSE)=0,"",VLOOKUP($C12,'Test Sample Data'!$C$99:$M$194,6,FALSE))) | I33: =IF($C12="","",IF(VLOOKUP($C12,'Test Sample Data'!$C$99:$M$194,7,FALSE)=0,"",VLOOKUP($C12,'Test Sample Data'!$C$99:$M$194,7,FALSE))) | J33: =IF($C12="","",IF(VLOOKUP($C12,'Test Sample Data'!$C$99:$M$194,8,FALSE)=0,"",VLOOKUP($C12,'Test Sample Data'!$C$99:$M$194,8,FALSE))) | K33: =IF($C12="","",IF(VLOOKUP($C12,'Test Sample Data'!$C$99:$M$194,9,FALSE)=0,"",VLOOKUP($C12,'Test Sample Data'!$C$99:$M$194,9,FALSE))) | L33: =IF($C12="","",IF(VLOOKUP($C12,'Test Sample Data'!$C$99:$M$194,10,FALSE)=0,"",VLOOKUP($C12,'Test Sample Data'!$C$99:$M$194,10,FALSE))) | M33: =IF($C12="","",IF(VLOOKUP($C12,'Test Sample Data'!$C$99:$M$194,11,FALSE)=0,"",VLOOKUP($C12,'Test Sample Data'!$C$99:$M$194,11,FALSE))) | N33: =IF(B33=0,"",B33) | O33: =IF('Choose Housekeeping Genes'!C33=0,"",'Choose Housekeeping Genes'!C33) | P33: =IF(C33="","",IF(VLOOKUP($C33,'Control Sample Data'!$C$99:$M$194,2,FALSE)=0,"",VLOOKUP($C33,'Control Sample Data'!$C$99:$M$194,2,FALSE))) | Q33: =IF(C33="","",IF(VLOOKUP($C33,'Control Sample Data'!$C$99:$M$194,3,FALSE)=0,"",VLOOKUP($C33,'Control Sample Data'!$C$99:$M$194,3,FALSE))) | R33: =IF(C33="","",IF(VLOOKUP($C33,'Control Sample Data'!$C$99:$M$194,4,FALSE)=0,"",VLOOKUP($C33,'Control Sample Data'!$C$99:$M$194,4,FALSE))) | S33: =IF(C33="","",IF(VLOOKUP($C33,'Control Sample Data'!$C$99:$M$194,5,FALSE)=0,"",VLOOKUP($C33,'Control Sample Data'!$C$99:$M$194,5,FALSE))) | T33: =IF(C33="","",IF(VLOOKUP($C33,'Control Sample Data'!$C$99:$M$194,6,FALSE)=0,"",VLOOKUP($C33,'Control Sample Data'!$C$99:$M$194,6,FALSE))) | U33: =IF(C33="","",IF(VLOOKUP($C33,'Control Sample Data'!$C$99:$M$194,7,FALSE)=0,"",VLOOKUP($C33,'Control Sample Data'!$C$99:$M$194,7,FALSE))) | V33: =IF(C33="","",IF(VLOOKUP($C33,'Control Sample Data'!$C$99:$M$194,8,FALSE)=0,"",VLOOKUP($C33,'Control Sample Data'!$C$99:$M$194,8,FALSE))) | W33: =IF(C33="","",IF(VLOOKUP($C33,'Control Sample Data'!$C$99:$M$194,9,FALSE)=0,"",VLOOKUP($C33,'Control Sample Data'!$C$99:$M$194,9,FALSE))) | X33: =IF(C33="","",IF(VLOOKUP($C33,'Control Sample Data'!$C$99:$M$194,10,FALSE)=0,"",VLOOKUP($C33,'Control Sample Data'!$C$99:$M$194,10,FALSE))) | Y33: =IF(C33="","",IF(VLOOKUP($C33,'Control Sample Data'!$C$99:$M$194,11,FALSE)=0,"",VLOOKUP($C33,'Control Sample Data'!$C$99:$M$194,11,FALSE)))
B34: =IF(C13="","",VLOOKUP(C13,'Gene Table'!B$99:D$194,2,FALSE)) | C34: =IF('Choose Housekeeping Genes'!C13=0,"",'Choose Housekeeping Genes'!C13) | D34: =IF($C13="","",IF(VLOOKUP($C13,'Test Sample Data'!$C$99:$M$194,2,FALSE)=0,"",VLOOKUP($C13,'Test Sample Data'!$C$99:$M$194,2,FALSE))) | E34: =IF($C13="","",IF(VLOOKUP($C13,'Test Sample Data'!$C$99:$M$194,3,FALSE)=0,"",VLOOKUP($C13,'Test Sample Data'!$C$99:$M$194,3,FALSE))) | F34: =IF($C13="","",IF(VLOOKUP($C13,'Test Sample Data'!$C$99:$M$194,4,FALSE)=0,"",VLOOKUP($C13,'Test Sample Data'!$C$99:$M$194,4,FALSE))) | G34: =IF($C13="","",IF(VLOOKUP($C13,'Test Sample Data'!$C$99:$M$194,5,FALSE)=0,"",VLOOKUP($C13,'Test Sample Data'!$C$99:$M$194,5,FALSE))) | H34: =IF($C13="","",IF(VLOOKUP($C13,'Test Sample Data'!$C$99:$M$194,6,FALSE)=0,"",VLOOKUP($C13,'Test Sample Data'!$C$99:$M$194,6,FALSE))) | I34: =IF($C13="","",IF(VLOOKUP($C13,'Test Sample Data'!$C$99:$M$194,7,FALSE)=0,"",VLOOKUP($C13,'Test Sample Data'!$C$99:$M$194,7,FALSE))) | J34: =IF($C13="","",IF(VLOOKUP($C13,'Test Sample Data'!$C$99:$M$194,8,FALSE)=0,"",VLOOKUP($C13,'Test Sample Data'!$C$99:$M$194,8,FALSE))) | K34: =IF($C13="","",IF(VLOOKUP($C13,'Test Sample Data'!$C$99:$M$194,9,FALSE)=0,"",VLOOKUP($C13,'Test Sample Data'!$C$99:$M$194,9,FALSE))) | L34: =IF($C13="","",IF(VLOOKUP($C13,'Test Sample Data'!$C$99:$M$194,10,FALSE)=0,"",VLOOKUP($C13,'Test Sample Data'!$C$99:$M$194,10,FALSE))) | M34: =IF($C13="","",IF(VLOOKUP($C13,'Test Sample Data'!$C$99:$M$194,11,FALSE)=0,"",VLOOKUP($C13,'Test Sample Data'!$C$99:$M$194,11,FALSE))) | N34: =IF(B34=0,"",B34) | O34: =IF('Choose Housekeeping Genes'!C34=0,"",'Choose Housekeeping Genes'!C34) | P34: =IF(C34="","",IF(VLOOKUP($C34,'Control Sample Data'!$C$99:$M$194,2,FALSE)=0,"",VLOOKUP($C34,'Control Sample Data'!$C$99:$M$194,2,FALSE))) | Q34: =IF(C34="","",IF(VLOOKUP($C34,'Control Sample Data'!$C$99:$M$194,3,FALSE)=0,"",VLOOKUP($C34,'Control Sample Data'!$C$99:$M$194,3,FALSE))) | R34: =IF(C34="","",IF(VLOOKUP($C34,'Control Sample Data'!$C$99:$M$194,4,FALSE)=0,"",VLOOKUP($C34,'Control Sample Data'!$C$99:$M$194,4,FALSE))) | S34: =IF(C34="","",IF(VLOOKUP($C34,'Control Sample Data'!$C$99:$M$194,5,FALSE)=0,"",VLOOKUP($C34,'Control Sample Data'!$C$99:$M$194,5,FALSE))) | T34: =IF(C34="","",IF(VLOOKUP($C34,'Control Sample Data'!$C$99:$M$194,6,FALSE)=0,"",VLOOKUP($C34,'Control Sample Data'!$C$99:$M$194,6,FALSE))) | U34: =IF(C34="","",IF(VLOOKUP($C34,'Control Sample Data'!$C$99:$M$194,7,FALSE)=0,"",VLOOKUP($C34,'Control Sample Data'!$C$99:$M$194,7,FALSE))) | V34: =IF(C34="","",IF(VLOOKUP($C34,'Control Sample Data'!$C$99:$M$194,8,FALSE)=0,"",VLOOKUP($C34,'Control Sample Data'!$C$99:$M$194,8,FALSE))) | W34: =IF(C34="","",IF(VLOOKUP($C34,'Control Sample Data'!$C$99:$M$194,9,FALSE)=0,"",VLOOKUP($C34,'Control Sample Data'!$C$99:$M$194,9,FALSE))) | X34: =IF(C34="","",IF(VLOOKUP($C34,'Control Sample Data'!$C$99:$M$194,10,FALSE)=0,"",VLOOKUP($C34,'Control Sample Data'!$C$99:$M$194,10,FALSE))) | Y34: =IF(C34="","",IF(VLOOKUP($C34,'Control Sample Data'!$C$99:$M$194,11,FALSE)=0,"",VLOOKUP($C34,'Control Sample Data'!$C$99:$M$194,11,FALSE)))
B35: =IF(C14="","",VLOOKUP(C14,'Gene Table'!B$99:D$194,2,FALSE)) | C35: =IF('Choose Housekeeping Genes'!C14=0,"",'Choose Housekeeping Genes'!C14) | D35: =IF($C14="","",IF(VLOOKUP($C14,'Test Sample Data'!$C$99:$M$194,2,FALSE)=0,"",VLOOKUP($C14,'Test Sample Data'!$C$99:$M$194,2,FALSE))) | E35: =IF($C14="","",IF(VLOOKUP($C14,'Test Sample Data'!$C$99:$M$194,3,FALSE)=0,"",VLOOKUP($C14,'Test Sample Data'!$C$99:$M$194,3,FALSE))) | F35: =IF($C14="","",IF(VLOOKUP($C14,'Test Sample Data'!$C$99:$M$194,4,FALSE)=0,"",VLOOKUP($C14,'Test Sample Data'!$C$99:$M$194,4,FALSE))) | G35: =IF($C14="","",IF(VLOOKUP($C14,'Test Sample Data'!$C$99:$M$194,5,FALSE)=0,"",VLOOKUP($C14,'Test Sample Data'!$C$99:$M$194,5,FALSE))) | H35: =IF($C14="","",IF(VLOOKUP($C14,'Test Sample Data'!$C$99:$M$194,6,FALSE)=0,"",VLOOKUP($C14,'Test Sample Data'!$C$99:$M$194,6,FALSE))) | I35: =IF($C14="","",IF(VLOOKUP($C14,'Test Sample Data'!$C$99:$M$194,7,FALSE)=0,"",VLOOKUP($C14,'Test Sample Data'!$C$99:$M$194,7,FALSE))) | J35: =IF($C14="","",IF(VLOOKUP($C14,'Test Sample Data'!$C$99:$M$194,8,FALSE)=0,"",VLOOKUP($C14,'Test Sample Data'!$C$99:$M$194,8,FALSE))) | K35: =IF($C14="","",IF(VLOOKUP($C14,'Test Sample Data'!$C$99:$M$194,9,FALSE)=0,"",VLOOKUP($C14,'Test Sample Data'!$C$99:$M$194,9,FALSE))) | L35: =IF($C14="","",IF(VLOOKUP($C14,'Test Sample Data'!$C$99:$M$194,10,FALSE)=0,"",VLOOKUP($C14,'Test Sample Data'!$C$99:$M$194,10,FALSE))) | M35: =IF($C14="","",IF(VLOOKUP($C14,'Test Sample Data'!$C$99:$M$194,11,FALSE)=0,"",VLOOKUP($C14,'Test Sample Data'!$C$99:$M$194,11,FALSE))) | N35: =IF(B35=0,"",B35) | O35: =IF('Choose Housekeeping Genes'!C35=0,"",'Choose Housekeeping Genes'!C35) | P35: =IF(C35="","",IF(VLOOKUP($C35,'Control Sample Data'!$C$99:$M$194,2,FALSE)=0,"",VLOOKUP($C35,'Control Sample Data'!$C$99:$M$194,2,FALSE))) | Q35: =IF(C35="","",IF(VLOOKUP($C35,'Control Sample Data'!$C$99:$M$194,3,FALSE)=0,"",VLOOKUP($C35,'Control Sample Data'!$C$99:$M$194,3,FALSE))) | R35: =IF(C35="","",IF(VLOOKUP($C35,'Control Sample Data'!$C$99:$M$194,4,FALSE)=0,"",VLOOKUP($C35,'Control Sample Data'!$C$99:$M$194,4,FALSE))) | S35: =IF(C35="","",IF(VLOOKUP($C35,'Control Sample Data'!$C$99:$M$194,5,FALSE)=0,"",VLOOKUP($C35,'Control Sample Data'!$C$99:$M$194,5,FALSE))) | T35: =IF(C35="","",IF(VLOOKUP($C35,'Control Sample Data'!$C$99:$M$194,6,FALSE)=0,"",VLOOKUP($C35,'Control Sample Data'!$C$99:$M$194,6,FALSE))) | U35: =IF(C35="","",IF(VLOOKUP($C35,'Control Sample Data'!$C$99:$M$194,7,FALSE)=0,"",VLOOKUP($C35,'Control Sample Data'!$C$99:$M$194,7,FALSE))) | V35: =IF(C35="","",IF(VLOOKUP($C35,'Control Sample Data'!$C$99:$M$194,8,FALSE)=0,"",VLOOKUP($C35,'Control Sample Data'!$C$99:$M$194,8,FALSE))) | W35: =IF(C35="","",IF(VLOOKUP($C35,'Control Sample Data'!$C$99:$M$194,9,FALSE)=0,"",VLOOKUP($C35,'Control Sample Data'!$C$99:$M$194,9,FALSE))) | X35: =IF(C35="","",IF(VLOOKUP($C35,'Control Sample Data'!$C$99:$M$194,10,FALSE)=0,"",VLOOKUP($C35,'Control Sample Data'!$C$99:$M$194,10,FALSE))) | Y35: =IF(C35="","",IF(VLOOKUP($C35,'Control Sample Data'!$C$99:$M$194,11,FALSE)=0,"",VLOOKUP($C35,'Control Sample Data'!$C$99:$M$194,11,FALSE)))
B36: =IF(C15="","",VLOOKUP(C15,'Gene Table'!B$99:D$194,2,FALSE)) | C36: =IF('Choose Housekeeping Genes'!C15=0,"",'Choose Housekeeping Genes'!C15) | D36: =IF($C15="","",IF(VLOOKUP($C15,'Test Sample Data'!$C$99:$M$194,2,FALSE)=0,"",VLOOKUP($C15,'Test Sample Data'!$C$99:$M$194,2,FALSE))) | E36: =IF($C15="","",IF(VLOOKUP($C15,'Test Sample Data'!$C$99:$M$194,3,FALSE)=0,"",VLOOKUP($C15,'Test Sample Data'!$C$99:$M$194,3,FALSE))) | F36: =IF($C15="","",IF(VLOOKUP($C15,'Test Sample Data'!$C$99:$M$194,4,FALSE)=0,"",VLOOKUP($C15,'Test Sample Data'!$C$99:$M$194,4,FALSE))) | G36: =IF($C15="","",IF(VLOOKUP($C15,'Test Sample Data'!$C$99:$M$194,5,FALSE)=0,"",VLOOKUP($C15,'Test Sample Data'!$C$99:$M$194,5,FALSE))) | H36: =IF($C15="","",IF(VLOOKUP($C15,'Test Sample Data'!$C$99:$M$194,6,FALSE)=0,"",VLOOKUP($C15,'Test Sample Data'!$C$99:$M$194,6,FALSE))) | I36: =IF($C15="","",IF(VLOOKUP($C15,'Test Sample Data'!$C$99:$M$194,7,FALSE)=0,"",VLOOKUP($C15,'Test Sample Data'!$C$99:$M$194,7,FALSE))) | J36: =IF($C15="","",IF(VLOOKUP($C15,'Test Sample Data'!$C$99:$M$194,8,FALSE)=0,"",VLOOKUP($C15,'Test Sample Data'!$C$99:$M$194,8,FALSE))) | K36: =IF($C15="","",IF(VLOOKUP($C15,'Test Sample Data'!$C$99:$M$194,9,FALSE)=0,"",VLOOKUP($C15,'Test Sample Data'!$C$99:$M$194,9,FALSE))) | L36: =IF($C15="","",IF(VLOOKUP($C15,'Test Sample Data'!$C$99:$M$194,10,FALSE)=0,"",VLOOKUP($C15,'Test Sample Data'!$C$99:$M$194,10,FALSE))) | M36: =IF($C15="","",IF(VLOOKUP($C15,'Test Sample Data'!$C$99:$M$194,11,FALSE)=0,"",VLOOKUP($C15,'Test Sample Data'!$C$99:$M$194,11,FALSE))) | N36: =IF(B36=0,"",B36) | O36: =IF('Choose Housekeeping Genes'!C36=0,"",'Choose Housekeeping Genes'!C36) | P36: =IF(C36="","",IF(VLOOKUP($C36,'Control Sample Data'!$C$99:$M$194,2,FALSE)=0,"",VLOOKUP($C36,'Control Sample Data'!$C$99:$M$194,2,FALSE))) | Q36: =IF(C36="","",IF(VLOOKUP($C36,'Control Sample Data'!$C$99:$M$194,3,FALSE)=0,"",VLOOKUP($C36,'Control Sample Data'!$C$99:$M$194,3,FALSE))) | R36: =IF(C36="","",IF(VLOOKUP($C36,'Control Sample Data'!$C$99:$M$194,4,FALSE)=0,"",VLOOKUP($C36,'Control Sample Data'!$C$99:$M$194,4,FALSE))) | S36: =IF(C36="","",IF(VLOOKUP($C36,'Control Sample Data'!$C$99:$M$194,5,FALSE)=0,"",VLOOKUP($C36,'Control Sample Data'!$C$99:$M$194,5,FALSE))) | T36: =IF(C36="","",IF(VLOOKUP($C36,'Control Sample Data'!$C$99:$M$194,6,FALSE)=0,"",VLOOKUP($C36,'Control Sample Data'!$C$99:$M$194,6,FALSE))) | U36: =IF(C36="","",IF(VLOOKUP($C36,'Control Sample Data'!$C$99:$M$194,7,FALSE)=0,"",VLOOKUP($C36,'Control Sample Data'!$C$99:$M$194,7,FALSE))) | V36: =IF(C36="","",IF(VLOOKUP($C36,'Control Sample Data'!$C$99:$M$194,8,FALSE)=0,"",VLOOKUP($C36,'Control Sample Data'!$C$99:$M$194,8,FALSE))) | W36: =IF(C36="","",IF(VLOOKUP($C36,'Control Sample Data'!$C$99:$M$194,9,FALSE)=0,"",VLOOKUP($C36,'Control Sample Data'!$C$99:$M$194,9,FALSE))) | X36: =IF(C36="","",IF(VLOOKUP($C36,'Control Sample Data'!$C$99:$M$194,10,FALSE)=0,"",VLOOKUP($C36,'Control Sample Data'!$C$99:$M$194,10,FALSE))) | Y36: =IF(C36="","",IF(VLOOKUP($C36,'Control Sample Data'!$C$99:$M$194,11,FALSE)=0,"",VLOOKUP($C36,'Control Sample Data'!$C$99:$M$194,11,FALSE)))
... B43: =IF(C22="","",VLOOKUP(C22,'Gene Table'!B$99:D$194,2,FALSE)) | C43: =IF('Choose Housekeeping Genes'!C22=0,"",'Choose Housekeeping Genes'!C22) | D43: =IF($C22="","",IF(VLOOKUP($C22,'Test Sample Data'!$C$99:$M$194,2,FALSE)=0,"",VLOOKUP($C22,'Test Sample Data'!$C$99:$M$194,2,FALSE))) | E43: =IF($C22="","",IF(VLOOKUP($C22,'Test Sample Data'!$C$99:$M$194,3,FALSE)=0,"",VLOOKUP($C22,'Test Sample Data'!$C$99:$M$194,3,FALSE))) | F43: =IF($C22="","",IF(VLOOKUP($C22,'Test Sample Data'!$C$99:$M$194,4,FALSE)=0,"",VLOOKUP($C22,'Test Sample Data'!$C$99:$M$194,4,FALSE))) | G43: =IF($C22="","",IF(VLOOKUP($C22,'Test Sample Data'!$C$99:$M$194,5,FALSE)=0,"",VLOOKUP($C22,'Test Sample Data'!$C$99:$M$194,5,FALSE))) | H43: =IF($C22="","",IF(VLOOKUP($C22,'Test Sample Data'!$C$99:$M$194,6,FALSE)=0,"",VLOOKUP($C22,'Test Sample Data'!$C$99:$M$194,6,FALSE))) | I43: =IF($C22="","",IF(VLOOKUP($C22,'Test Sample Data'!$C$99:$M$194,7,FALSE)=0,"",VLOOKUP($C22,'Test Sample Data'!$C$99:$M$194,7,FALSE))) | J43: =IF($C22="","",IF(VLOOKUP($C22,'Test Sample Data'!$C$99:$M$194,8,FALSE)=0,"",VLOOKUP($C22,'Test Sample Data'!$C$99:$M$194,8,FALSE))) | K43: =IF($C22="","",IF(VLOOKUP($C22,'Test Sample Data'!$C$99:$M$194,9,FALSE)=0,"",VLOOKUP($C22,'Test Sample Data'!$C$99:$M$194,9,FALSE))) | L43: =IF($C22="","",IF(VLOOKUP($C22,'Test Sample Data'!$C$99:$M$194,10,FALSE)=0,"",VLOOKUP($C22,'Test Sample Data'!$C$99:$M$194,10,FALSE))) | M43: =IF($C22="","",IF(VLOOKUP($C22,'Test Sample Data'!$C$99:$M$194,11,FALSE)=0,"",VLOOKUP($C22,'Test Sample Data'!$C$99:$M$194,11,FALSE))) | N43: =IF(B43=0,"",B43) | O43: =IF('Choose Housekeeping Genes'!C43=0,"",'Choose Housekeeping Genes'!C43) | P43: =IF(C43="","",IF(VLOOKUP($C43,'Control Sample Data'!$C$99:$M$194,2,FALSE)=0,"",VLOOKUP($C43,'Control Sample Data'!$C$99:$M$194,2,FALSE))) | Q43: =IF(C43="","",IF(VLOOKUP($C43,'Control Sample Data'!$C$99:$M$194,3,FALSE)=0,"",VLOOKUP($C43,'Control Sample Data'!$C$99:$M$194,3,FALSE))) | R43: =IF(C43="","",IF(VLOOKUP($C43,'Control Sample Data'!$C$99:$M$194,4,FALSE)=0,"",VLOOKUP($C43,'Control Sample Data'!$C$99:$M$194,4,FALSE))) | S43: =IF(C43="","",IF(VLOOKUP($C43,'Control Sample Data'!$C$99:$M$194,5,FALSE)=0,"",VLOOKUP($C43,'Control Sample Data'!$C$99:$M$194,5,FALSE))) | T43: =IF(C43="","",IF(VLOOKUP($C43,'Control Sample Data'!$C$99:$M$194,6,FALSE)=0,"",VLOOKUP($C43,'Control Sample Data'!$C$99:$M$194,6,FALSE))) | U43: =IF(C43="","",IF(VLOOKUP($C43,'Control Sample Data'!$C$99:$M$194,7,FALSE)=0,"",VLOOKUP($C43,'Control Sample Data'!$C$99:$M$194,7,FALSE))) | V43: =IF(C43="","",IF(VLOOKUP($C43,'Control Sample Data'!$C$99:$M$194,8,FALSE)=0,"",VLOOKUP($C43,'Control Sample Data'!$C$99:$M$194,8,FALSE))) | W43: =IF(C43="","",IF(VLOOKUP($C43,'Control Sample Data'!$C$99:$M$194,9,FALSE)=0,"",VLOOKUP($C43,'Control Sample Data'!$C$99:$M$194,9,FALSE))) | X43: =IF(C43="","",IF(VLOOKUP($C43,'Control Sample Data'!$C$99:$M$194,10,FALSE)=0,"",VLOOKUP($C43,'Control Sample Data'!$C$99:$M$194,10,FALSE))) | Y43: =IF(C43="","",IF(VLOOKUP($C43,'Control Sample Data'!$C$99:$M$194,11,FALSE)=0,"",VLOOKUP($C43,'Control Sample Data'!$C$99:$M$194,11,FALSE)))
B44: AVERAGE | D44: =IF(ISERROR(AVERAGE(D24:D43)),"",AVERAGE(D24:D43)) | E44: =IF(ISERROR(AVERAGE(E24:E43)),"",AVERAGE(E24:E43)) | F44: =IF(ISERROR(AVERAGE(F24:F43)),"",AVERAGE(F24:F43)) | G44: =IF(ISERROR(AVERAGE(G24:G43)),"",AVERAGE(G24:G43)) | H44: =IF(ISERROR(AVERAGE(H24:H43)),"",AVERAGE(H24:H43)) | I44: =IF(ISERROR(AVERAGE(I24:I43)),"",AVERAGE(I24:I43)) | J44: =IF(ISERROR(AVERAGE(J24:J43)),"",AVERAGE(J24:J43)) | K44: =IF(ISERROR(AVERAGE(K24:K43)),"",AVERAGE(K24:K43)) | ... M44: =IF(ISERROR(AVERAGE(M24:M43)),"",AVERAGE(M24:M43)) | N44: AVERAGE | P44: =IF(ISERROR(AVERAGE(P24:P43)),"",AVERAGE(P24:P43)) | Q44: =IF(ISERROR(AVERAGE(Q24:Q43)),"",AVERAGE(Q24:Q43)) | R44: =IF(ISERROR(AVERAGE(R24:R43)),"",AVERAGE(R24:R43)) | S44: =IF(ISERROR(AVERAGE(S24:S43)),"",AVERAGE(S24:S43)) | T44: =IF(ISERROR(AVERAGE(T24:T43)),"",AVERAGE(T24:T43)) | U44: =IF(ISERROR(AVERAGE(U24:U43)),"",AVERAGE(U24:U43)) | V44: =IF(ISERROR(AVERAGE(V24:V43)),"",AVERAGE(V24:V43)) | W44: =IF(ISERROR(AVERAGE(W24:W43)),"",AVERAGE(W24:W43)) | ... Y44: =IF(ISERROR(AVERAGE(Y24:Y43)),"",AVERAGE(Y24:Y43))
A45: Plate 3 | B45: =IF(B3="","",B3) -> HQP006940 | C45: =IF('Choose Housekeeping Genes'!C3=0,"",'Choose Housekeeping Genes'!C3) -> H03 | D45: =IF($C45="","",IF(VLOOKUP($C45,'Test Sample Data'!$C$195:$M$290,2,FALSE)=0,"",VLOOKUP($C45,'Test Sample Data'!$C$195:$M$290,2,FALSE))) | E45: =IF($C45="","",IF(VLOOKUP($C45,'Test Sample Data'!$C$195:$M$290,3,FALSE)=0,"",VLOOKUP($C45,'Test Sample Data'!$C$195:$M$290,3,FALSE))) | F45: =IF($C45="","",IF(VLOOKUP($C45,'Test Sample Data'!$C$195:$M$290,4,FALSE)=0,"",VLOOKUP($C45,'Test Sample Data'!$C$195:$M$290,4,FALSE))) | G45: =IF($C45="","",IF(VLOOKUP($C45,'Test Sample Data'!$C$195:$M$290,5,FALSE)=0,"",VLOOKUP($C45,'Test Sample Data'!$C$195:$M$290,5,FALSE))) | H45: =IF($C45="","",IF(VLOOKUP($C45,'Test Sample Data'!$C$195:$M$290,6,FALSE)=0,"",VLOOKUP($C45,'Test Sample Data'!$C$195:$M$290,6,FALSE))) | I45: =IF($C45="","",IF(VLOOKUP($C45,'Test Sample Data'!$C$195:$M$290,7,FALSE)=0,"",VLOOKUP($C45,'Test Sample Data'!$C$195:$M$290,7,FALSE))) | J45: =IF($C45="","",IF(VLOOKUP($C45,'Test Sample Data'!$C$195:$M$290,8,FALSE)=0,"",VLOOKUP($C45,'Test Sample Data'!$C$195:$M$290,8,FALSE))) | K45: =IF($C45="","",IF(VLOOKUP($C45,'Test Sample Data'!$C$195:$M$290,9,FALSE)=0,"",VLOOKUP($C45,'Test Sample Data'!$C$195:$M$290,9,FALSE))) | L45: =IF($C45="","",IF(VLOOKUP($C45,'Test Sample Data'!$C$195:$M$290,10,FALSE)=0,"",VLOOKUP($C45,'Test Sample Data'!$C$195:$M$290,10,FALSE))) | M45: =IF($C45="","",IF(VLOOKUP($C45,'Test Sample Data'!$C$195:$M$290,11,FALSE)=0,"",VLOOKUP($C45,'Test Sample Data'!$C$195:$M$290,11,FALSE))) | N45: =IF(B45=0,"",B45) -> HQP006940 | O45: =IF('Choose Housekeeping Genes'!C45=0,"",'Choose Housekeeping Genes'!C45) -> H03 | P45: =IF($C45="","",IF(VLOOKUP($C45,'Control Sample Data'!$C$195:$M$290,2,FALSE)=0,"",VLOOKUP($C45,'Control Sample Data'!$C$195:$M$290,2,FALSE))) | Q45: =IF($C45="","",IF(VLOOKUP($C45,'Control Sample Data'!$C$195:$M$290,3,FALSE)=0,"",VLOOKUP($C45,'Control Sample Data'!$C$195:$M$290,3,FALSE))) | R45: =IF($C45="","",IF(VLOOKUP($C45,'Control Sample Data'!$C$195:$M$290,4,FALSE)=0,"",VLOOKUP($C45,'Control Sample Data'!$C$195:$M$290,4,FALSE))) | S45: =IF($C45="","",IF(VLOOKUP($C45,'Control Sample Data'!$C$195:$M$290,5,FALSE)=0,"",VLOOKUP($C45,'Control Sample Data'!$C$195:$M$290,5,FALSE))) | T45: =IF($C45="","",IF(VLOOKUP($C45,'Control Sample Data'!$C$195:$M$290,6,FALSE)=0,"",VLOOKUP($C45,'Control Sample Data'!$C$195:$M$290,6,FALSE))) | U45: =IF($C45="","",IF(VLOOKUP($C45,'Control Sample Data'!$C$195:$M$290,7,FALSE)=0,"",VLOOKUP($C45,'Control Sample Data'!$C$195:$M$290,7,FALSE))) | V45: =IF($C45="","",IF(VLOOKUP($C45,'Control Sample Data'!$C$195:$M$290,8,FALSE)=0,"",VLOOKUP($C45,'Control Sample Data'!$C$195:$M$290,8,FALSE))) | W45: =IF($C45="","",IF(VLOOKUP($C45,'Control Sample Data'!$C$195:$M$290,9,FALSE)=0,"",VLOOKUP($C45,'Control Sample Data'!$C$195:$M$290,9,FALSE))) | X45: =IF($C45="","",IF(VLOOKUP($C45,'Control Sample Data'!$C$195:$M$290,10,FALSE)=0,"",VLOOKUP($C45,'Control Sample Data'!$C$195:$M$290,10,FALSE))) | Y45: =IF($C45="","",IF(VLOOKUP($C45,'Control Sample Data'!$C$195:$M$290,11,FALSE)=0,"",VLOOKUP($C45,'Control Sample Data'!$C$195:$M$290,11,FALSE)))
B46: =IF(B4="","",B4) -> HQP016381 | C46: =IF('Choose Housekeeping Genes'!C4=0,"",'Choose Housekeeping Genes'!C4) -> H04 | D46: =IF($C46="","",IF(VLOOKUP($C46,'Test Sample Data'!$C$195:$M$290,2,FALSE)=0,"",VLOOKUP($C46,'Test Sample Data'!$C$195:$M$290,2,FALSE))) | E46: =IF($C46="","",IF(VLOOKUP($C46,'Test Sample Data'!$C$195:$M$290,3,FALSE)=0,"",VLOOKUP($C46,'Test Sample Data'!$C$195:$M$290,3,FALSE))) | F46: =IF($C46="","",IF(VLOOKUP($C46,'Test Sample Data'!$C$195:$M$290,4,FALSE)=0,"",VLOOKUP($C46,'Test Sample Data'!$C$195:$M$290,4,FALSE))) | G46: =IF($C46="","",IF(VLOOKUP($C46,'Test Sample Data'!$C$195:$M$290,5,FALSE)=0,"",VLOOKUP($C46,'Test Sample Data'!$C$195:$M$290,5,FALSE))) | H46: =IF($C46="","",IF(VLOOKUP($C46,'Test Sample Data'!$C$195:$M$290,6,FALSE)=0,"",VLOOKUP($C46,'Test Sample Data'!$C$195:$M$290,6,FALSE))) | I46: =IF($C46="","",IF(VLOOKUP($C46,'Test Sample Data'!$C$195:$M$290,7,FALSE)=0,"",VLOOKUP($C46,'Test Sample Data'!$C$195:$M$290,7,FALSE))) | J46: =IF($C46="","",IF(VLOOKUP($C46,'Test Sample Data'!$C$195:$M$290,8,FALSE)=0,"",VLOOKUP($C46,'Test Sample Data'!$C$195:$M$290,8,FALSE))) | K46: =IF($C46="","",IF(VLOOKUP($C46,'Test Sample Data'!$C$195:$M$290,9,FALSE)=0,"",VLOOKUP($C46,'Test Sample Data'!$C$195:$M$290,9,FALSE))) | L46: =IF($C46="","",IF(VLOOKUP($C46,'Test Sample Data'!$C$195:$M$290,10,FALSE)=0,"",VLOOKUP($C46,'Test Sample Data'!$C$195:$M$290,10,FALSE))) | M46: =IF($C46="","",IF(VLOOKUP($C46,'Test Sample Data'!$C$195:$M$290,11,FALSE)=0,"",VLOOKUP($C46,'Test Sample Data'!$C$195:$M$290,11,FALSE))) | N46: =IF(B46=0,"",B46) -> HQP016381 | O46: =IF('Choose Housekeeping Genes'!C46=0,"",'Choose Housekeeping Genes'!C46) -> H04 | P46: =IF($C46="","",IF(VLOOKUP($C46,'Control Sample Data'!$C$195:$M$290,2,FALSE)=0,"",VLOOKUP($C46,'Control Sample Data'!$C$195:$M$290,2,FALSE))) | Q46: =IF($C46="","",IF(VLOOKUP($C46,'Control Sample Data'!$C$195:$M$290,3,FALSE)=0,"",VLOOKUP($C46,'Control Sample Data'!$C$195:$M$290,3,FALSE))) | R46: =IF($C46="","",IF(VLOOKUP($C46,'Control Sample Data'!$C$195:$M$290,4,FALSE)=0,"",VLOOKUP($C46,'Control Sample Data'!$C$195:$M$290,4,FALSE))) | S46: =IF($C46="","",IF(VLOOKUP($C46,'Control Sample Data'!$C$195:$M$290,5,FALSE)=0,"",VLOOKUP($C46,'Control Sample Data'!$C$195:$M$290,5,FALSE))) | T46: =IF($C46="","",IF(VLOOKUP($C46,'Control Sample Data'!$C$195:$M$290,6,FALSE)=0,"",VLOOKUP($C46,'Control Sample Data'!$C$195:$M$290,6,FALSE))) | U46: =IF($C46="","",IF(VLOOKUP($C46,'Control Sample Data'!$C$195:$M$290,7,FALSE)=0,"",VLOOKUP($C46,'Control Sample Data'!$C$195:$M$290,7,FALSE))) | V46: =IF($C46="","",IF(VLOOKUP($C46,'Control Sample Data'!$C$195:$M$290,8,FALSE)=0,"",VLOOKUP($C46,'Control Sample Data'!$C$195:$M$290,8,FALSE))) | W46: =IF($C46="","",IF(VLOOKUP($C46,'Control Sample Data'!$C$195:$M$290,9,FALSE)=0,"",VLOOKUP($C46,'Control Sample Data'!$C$195:$M$290,9,FALSE))) | X46: =IF($C46="","",IF(VLOOKUP($C46,'Control Sample Data'!$C$195:$M$290,10,FALSE)=0,"",VLOOKUP($C46,'Control Sample Data'!$C$195:$M$290,10,FALSE))) | Y46: =IF($C46="","",IF(VLOOKUP($C46,'Control Sample Data'!$C$195:$M$290,11,FALSE)=0,"",VLOOKUP($C46,'Control Sample Data'!$C$195:$M$290,11,FALSE)))
B47: =IF(B5="","",B5) -> HQP015171 | C47: =IF('Choose Housekeeping Genes'!C5=0,"",'Choose Housekeeping Genes'!C5) -> H05 | D47: =IF($C47="","",IF(VLOOKUP($C47,'Test Sample Data'!$C$195:$M$290,2,FALSE)=0,"",VLOOKUP($C47,'Test Sample Data'!$C$195:$M$290,2,FALSE))) | E47: =IF($C47="","",IF(VLOOKUP($C47,'Test Sample Data'!$C$195:$M$290,3,FALSE)=0,"",VLOOKUP($C47,'Test Sample Data'!$C$195:$M$290,3,FALSE))) | F47: =IF($C47="","",IF(VLOOKUP($C47,'Test Sample Data'!$C$195:$M$290,4,FALSE)=0,"",VLOOKUP($C47,'Test Sample Data'!$C$195:$M$290,4,FALSE))) | G47: =IF($C47="","",IF(VLOOKUP($C47,'Test Sample Data'!$C$195:$M$290,5,FALSE)=0,"",VLOOKUP($C47,'Test Sample Data'!$C$195:$M$290,5,FALSE))) | H47: =IF($C47="","",IF(VLOOKUP($C47,'Test Sample Data'!$C$195:$M$290,6,FALSE)=0,"",VLOOKUP($C47,'Test Sample Data'!$C$195:$M$290,6,FALSE))) | I47: =IF($C47="","",IF(VLOOKUP($C47,'Test Sample Data'!$C$195:$M$290,7,FALSE)=0,"",VLOOKUP($C47,'Test Sample Data'!$C$195:$M$290,7,FALSE))) | J47: =IF($C47="","",IF(VLOOKUP($C47,'Test Sample Data'!$C$195:$M$290,8,FALSE)=0,"",VLOOKUP($C47,'Test Sample Data'!$C$195:$M$290,8,FALSE))) | K47: =IF($C47="","",IF(VLOOKUP($C47,'Test Sample Data'!$C$195:$M$290,9,FALSE)=0,"",VLOOKUP($C47,'Test Sample Data'!$C$195:$M$290,9,FALSE))) | L47: =IF($C47="","",IF(VLOOKUP($C47,'Test Sample Data'!$C$195:$M$290,10,FALSE)=0,"",VLOOKUP($C47,'Test Sample Data'!$C$195:$M$290,10,FALSE))) | M47: =IF($C47="","",IF(VLOOKUP($C47,'Test Sample Data'!$C$195:$M$290,11,FALSE)=0,"",VLOOKUP($C47,'Test Sample Data'!$C$195:$M$290,11,FALSE))) | N47: =IF(B47=0,"",B47) -> HQP015171 | O47: =IF('Choose Housekeeping Genes'!C47=0,"",'Choose Housekeeping Genes'!C47) -> H05 | P47: =IF($C47="","",IF(VLOOKUP($C47,'Control Sample Data'!$C$195:$M$290,2,FALSE)=0,"",VLOOKUP($C47,'Control Sample Data'!$C$195:$M$290,2,FALSE))) | Q47: =IF($C47="","",IF(VLOOKUP($C47,'Control Sample Data'!$C$195:$M$290,3,FALSE)=0,"",VLOOKUP($C47,'Control Sample Data'!$C$195:$M$290,3,FALSE))) | R47: =IF($C47="","",IF(VLOOKUP($C47,'Control Sample Data'!$C$195:$M$290,4,FALSE)=0,"",VLOOKUP($C47,'Control Sample Data'!$C$195:$M$290,4,FALSE))) | S47: =IF($C47="","",IF(VLOOKUP($C47,'Control Sample Data'!$C$195:$M$290,5,FALSE)=0,"",VLOOKUP($C47,'Control Sample Data'!$C$195:$M$290,5,FALSE))) | T47: =IF($C47="","",IF(VLOOKUP($C47,'Control Sample Data'!$C$195:$M$290,6,FALSE)=0,"",VLOOKUP($C47,'Control Sample Data'!$C$195:$M$290,6,FALSE))) | U47: =IF($C47="","",IF(VLOOKUP($C47,'Control Sample Data'!$C$195:$M$290,7,FALSE)=0,"",VLOOKUP($C47,'Control Sample Data'!$C$195:$M$290,7,FALSE))) | V47: =IF($C47="","",IF(VLOOKUP($C47,'Control Sample Data'!$C$195:$M$290,8,FALSE)=0,"",VLOOKUP($C47,'Control Sample Data'!$C$195:$M$290,8,FALSE))) | W47: =IF($C47="","",IF(VLOOKUP($C47,'Control Sample Data'!$C$195:$M$290,9,FALSE)=0,"",VLOOKUP($C47,'Control Sample Data'!$C$195:$M$290,9,FALSE))) | X47: =IF($C47="","",IF(VLOOKUP($C47,'Control Sample Data'!$C$195:$M$290,10,FALSE)=0,"",VLOOKUP($C47,'Control Sample Data'!$C$195:$M$290,10,FALSE))) | Y47: =IF($C47="","",IF(VLOOKUP($C47,'Control Sample Data'!$C$195:$M$290,11,FALSE)=0,"",VLOOKUP($C47,'Control Sample Data'!$C$195:$M$290,11,FALSE)))
B48: =IF(B6="","",B6) -> HQP006171 | C48: =IF('Choose Housekeeping Genes'!C6=0,"",'Choose Housekeeping Genes'!C6) -> H06 | D48: =IF($C48="","",IF(VLOOKUP($C48,'Test Sample Data'!$C$195:$M$290,2,FALSE)=0,"",VLOOKUP($C48,'Test Sample Data'!$C$195:$M$290,2,FALSE))) | E48: =IF($C48="","",IF(VLOOKUP($C48,'Test Sample Data'!$C$195:$M$290,3,FALSE)=0,"",VLOOKUP($C48,'Test Sample Data'!$C$195:$M$290,3,FALSE))) | F48: =IF($C48="","",IF(VLOOKUP($C48,'Test Sample Data'!$C$195:$M$290,4,FALSE)=0,"",VLOOKUP($C48,'Test Sample Data'!$C$195:$M$290,4,FALSE))) | G48: =IF($C48="","",IF(VLOOKUP($C48,'Test Sample Data'!$C$195:$M$290,5,FALSE)=0,"",VLOOKUP($C48,'Test Sample Data'!$C$195:$M$290,5,FALSE))) | H48: =IF($C48="","",IF(VLOOKUP($C48,'Test Sample Data'!$C$195:$M$290,6,FALSE)=0,"",VLOOKUP($C48,'Test Sample Data'!$C$195:$M$290,6,FALSE))) | I48: =IF($C48="","",IF(VLOOKUP($C48,'Test Sample Data'!$C$195:$M$290,7,FALSE)=0,"",VLOOKUP($C48,'Test Sample Data'!$C$195:$M$290,7,FALSE))) | J48: =IF($C48="","",IF(VLOOKUP($C48,'Test Sample Data'!$C$195:$M$290,8,FALSE)=0,"",VLOOKUP($C48,'Test Sample Data'!$C$195:$M$290,8,FALSE))) | K48: =IF($C48="","",IF(VLOOKUP($C48,'Test Sample Data'!$C$195:$M$290,9,FALSE)=0,"",VLOOKUP($C48,'Test Sample Data'!$C$195:$M$290,9,FALSE))) | L48: =IF($C48="","",IF(VLOOKUP($C48,'Test Sample Data'!$C$195:$M$290,10,FALSE)=0,"",VLOOKUP($C48,'Test Sample Data'!$C$195:$M$290,10,FALSE))) | M48: =IF($C48="","",IF(VLOOKUP($C48,'Test Sample Data'!$C$195:$M$290,11,FALSE)=0,"",VLOOKUP($C48,'Test Sample Data'!$C$195:$M$290,11,FALSE))) | N48: =IF(B48=0,"",B48) -> HQP006171 | O48: =IF('Choose Housekeeping Genes'!C48=0,"",'Choose Housekeeping Genes'!C48) -> H06 | P48: =IF($C48="","",IF(VLOOKUP($C48,'Control Sample Data'!$C$195:$M$290,2,FALSE)=0,"",VLOOKUP($C48,'Control Sample Data'!$C$195:$M$290,2,FALSE))) | Q48: =IF($C48="","",IF(VLOOKUP($C48,'Control Sample Data'!$C$195:$M$290,3,FALSE)=0,"",VLOOKUP($C48,'Control Sample Data'!$C$195:$M$290,3,FALSE))) | R48: =IF($C48="","",IF(VLOOKUP($C48,'Control Sample Data'!$C$195:$M$290,4,FALSE)=0,"",VLOOKUP($C48,'Control Sample Data'!$C$195:$M$290,4,FALSE))) | S48: =IF($C48="","",IF(VLOOKUP($C48,'Control Sample Data'!$C$195:$M$290,5,FALSE)=0,"",VLOOKUP($C48,'Control Sample Data'!$C$195:$M$290,5,FALSE))) | T48: =IF($C48="","",IF(VLOOKUP($C48,'Control Sample Data'!$C$195:$M$290,6,FALSE)=0,"",VLOOKUP($C48,'Control Sample Data'!$C$195:$M$290,6,FALSE))) | U48: =IF($C48="","",IF(VLOOKUP($C48,'Control Sample Data'!$C$195:$M$290,7,FALSE)=0,"",VLOOKUP($C48,'Control Sample Data'!$C$195:$M$290,7,FALSE))) | V48: =IF($C48="","",IF(VLOOKUP($C48,'Control Sample Data'!$C$195:$M$290,8,FALSE)=0,"",VLOOKUP($C48,'Control Sample Data'!$C$195:$M$290,8,FALSE))) | W48: =IF($C48="","",IF(VLOOKUP($C48,'Control Sample Data'!$C$195:$M$290,9,FALSE)=0,"",VLOOKUP($C48,'Control Sample Data'!$C$195:$M$290,9,FALSE))) | X48: =IF($C48="","",IF(VLOOKUP($C48,'Control Sample Data'!$C$195:$M$290,10,FALSE)=0,"",VLOOKUP($C48,'Control Sample Data'!$C$195:$M$290,10,FALSE))) | Y48: =IF($C48="","",IF(VLOOKUP($C48,'Control Sample Data'!$C$195:$M$290,11,FALSE)=0,"",VLOOKUP($C48,'Control Sample Data'!$C$195:$M$290,11,FALSE)))
B49: =IF(B7="","",B7) -> HQP009026 | C49: =IF('Choose Housekeeping Genes'!C7=0,"",'Choose Housekeeping Genes'!C7) -> H07 | D49: =IF($C49="","",IF(VLOOKUP($C49,'Test Sample Data'!$C$195:$M$290,2,FALSE)=0,"",VLOOKUP($C49,'Test Sample Data'!$C$195:$M$290,2,FALSE))) | E49: =IF($C49="","",IF(VLOOKUP($C49,'Test Sample Data'!$C$195:$M$290,3,FALSE)=0,"",VLOOKUP($C49,'Test Sample Data'!$C$195:$M$290,3,FALSE))) | F49: =IF($C49="","",IF(VLOOKUP($C49,'Test Sample Data'!$C$195:$M$290,4,FALSE)=0,"",VLOOKUP($C49,'Test Sample Data'!$C$195:$M$290,4,FALSE))) | G49: =IF($C49="","",IF(VLOOKUP($C49,'Test Sample Data'!$C$195:$M$290,5,FALSE)=0,"",VLOOKUP($C49,'Test Sample Data'!$C$195:$M$290,5,FALSE))) | H49: =IF($C49="","",IF(VLOOKUP($C49,'Test Sample Data'!$C$195:$M$290,6,FALSE)=0,"",VLOOKUP($C49,'Test Sample Data'!$C$195:$M$290,6,FALSE))) | I49: =IF($C49="","",IF(VLOOKUP($C49,'Test Sample Data'!$C$195:$M$290,7,FALSE)=0,"",VLOOKUP($C49,'Test Sample Data'!$C$195:$M$290,7,FALSE))) | J49: =IF($C49="","",IF(VLOOKUP($C49,'Test Sample Data'!$C$195:$M$290,8,FALSE)=0,"",VLOOKUP($C49,'Test Sample Data'!$C$195:$M$290,8,FALSE))) | K49: =IF($C49="","",IF(VLOOKUP($C49,'Test Sample Data'!$C$195:$M$290,9,FALSE)=0,"",VLOOKUP($C49,'Test Sample Data'!$C$195:$M$290,9,FALSE))) | L49: =IF($C49="","",IF(VLOOKUP($C49,'Test Sample Data'!$C$195:$M$290,10,FALSE)=0,"",VLOOKUP($C49,'Test Sample Data'!$C$195:$M$290,10,FALSE))) | M49: =IF($C49="","",IF(VLOOKUP($C49,'Test Sample Data'!$C$195:$M$290,11,FALSE)=0,"",VLOOKUP($C49,'Test Sample Data'!$C$195:$M$290,11,FALSE))) | N49: =IF(B49=0,"",B49) -> HQP009026 | O49: =IF('Choose Housekeeping Genes'!C49=0,"",'Choose Housekeeping Genes'!C49) -> H07 | P49: =IF($C49="","",IF(VLOOKUP($C49,'Control Sample Data'!$C$195:$M$290,2,FALSE)=0,"",VLOOKUP($C49,'Control Sample Data'!$C$195:$M$290,2,FALSE))) | Q49: =IF($C49="","",IF(VLOOKUP($C49,'Control Sample Data'!$C$195:$M$290,3,FALSE)=0,"",VLOOKUP($C49,'Control Sample Data'!$C$195:$M$290,3,FALSE))) | R49: =IF($C49="","",IF(VLOOKUP($C49,'Control Sample Data'!$C$195:$M$290,4,FALSE)=0,"",VLOOKUP($C49,'Control Sample Data'!$C$195:$M$290,4,FALSE))) | S49: =IF($C49="","",IF(VLOOKUP($C49,'Control Sample Data'!$C$195:$M$290,5,FALSE)=0,"",VLOOKUP($C49,'Control Sample Data'!$C$195:$M$290,5,FALSE))) | T49: =IF($C49="","",IF(VLOOKUP($C49,'Control Sample Data'!$C$195:$M$290,6,FALSE)=0,"",VLOOKUP($C49,'Control Sample Data'!$C$195:$M$290,6,FALSE))) | U49: =IF($C49="","",IF(VLOOKUP($C49,'Control Sample Data'!$C$195:$M$290,7,FALSE)=0,"",VLOOKUP($C49,'Control Sample Data'!$C$195:$M$290,7,FALSE))) | V49: =IF($C49="","",IF(VLOOKUP($C49,'Control Sample Data'!$C$195:$M$290,8,FALSE)=0,"",VLOOKUP($C49,'Control Sample Data'!$C$195:$M$290,8,FALSE))) | W49: =IF($C49="","",IF(VLOOKUP($C49,'Control Sample Data'!$C$195:$M$290,9,FALSE)=0,"",VLOOKUP($C49,'Control Sample Data'!$C$195:$M$290,9,FALSE))) | X49: =IF($C49="","",IF(VLOOKUP($C49,'Control Sample Data'!$C$195:$M$290,10,FALSE)=0,"",VLOOKUP($C49,'Control Sample Data'!$C$195:$M$290,10,FALSE))) | Y49: =IF($C49="","",IF(VLOOKUP($C49,'Control Sample Data'!$C$195:$M$290,11,FALSE)=0,"",VLOOKUP($C49,'Control Sample Data'!$C$195:$M$290,11,FALSE)))
B50: =IF(B8="","",B8) -> HQP054253 | C50: =IF('Choose Housekeeping Genes'!C8=0,"",'Choose Housekeeping Genes'!C8) -> H08 | D50: =IF($C50="","",IF(VLOOKUP($C50,'Test Sample Data'!$C$195:$M$290,2,FALSE)=0,"",VLOOKUP($C50,'Test Sample Data'!$C$195:$M$290,2,FALSE))) | E50: =IF($C50="","",IF(VLOOKUP($C50,'Test Sample Data'!$C$195:$M$290,3,FALSE)=0,"",VLOOKUP($C50,'Test Sample Data'!$C$195:$M$290,3,FALSE))) | F50: =IF($C50="","",IF(VLOOKUP($C50,'Test Sample Data'!$C$195:$M$290,4,FALSE)=0,"",VLOOKUP($C50,'Test Sample Data'!$C$195:$M$290,4,FALSE))) | G50: =IF($C50="","",IF(VLOOKUP($C50,'Test Sample Data'!$C$195:$M$290,5,FALSE)=0,"",VLOOKUP($C50,'Test Sample Data'!$C$195:$M$290,5,FALSE))) | H50: =IF($C50="","",IF(VLOOKUP($C50,'Test Sample Data'!$C$195:$M$290,6,FALSE)=0,"",VLOOKUP($C50,'Test Sample Data'!$C$195:$M$290,6,FALSE))) | I50: =IF($C50="","",IF(VLOOKUP($C50,'Test Sample Data'!$C$195:$M$290,7,FALSE)=0,"",VLOOKUP($C50,'Test Sample Data'!$C$195:$M$290,7,FALSE))) | J50: =IF($C50="","",IF(VLOOKUP($C50,'Test Sample Data'!$C$195:$M$290,8,FALSE)=0,"",VLOOKUP($C50,'Test Sample Data'!$C$195:$M$290,8,FALSE))) | K50: =IF($C50="","",IF(VLOOKUP($C50,'Test Sample Data'!$C$195:$M$290,9,FALSE)=0,"",VLOOKUP($C50,'Test Sample Data'!$C$195:$M$290,9,FALSE))) | L50: =IF($C50="","",IF(VLOOKUP($C50,'Test Sample Data'!$C$195:$M$290,10,FALSE)=0,"",VLOOKUP($C50,'Test Sample Data'!$C$195:$M$290,10,FALSE))) | M50: =IF($C50="","",IF(VLOOKUP($C50,'Test Sample Data'!$C$195:$M$290,11,FALSE)=0,"",VLOOKUP($C50,'Test Sample Data'!$C$195:$M$290,11,FALSE))) | N50: =IF(B50=0,"",B50) -> HQP054253 | O50: =IF('Choose Housekeeping Genes'!C50=0,"",'Choose Housekeeping Genes'!C50) -> H08 | P50: =IF($C50="","",IF(VLOOKUP($C50,'Control Sample Data'!$C$195:$M$290,2,FALSE)=0,"",VLOOKUP($C50,'Control Sample Data'!$C$195:$M$290,2,FALSE))) | Q50: =IF($C50="","",IF(VLOOKUP($C50,'Control Sample Data'!$C$195:$M$290,3,FALSE)=0,"",VLOOKUP($C50,'Control Sample Data'!$C$195:$M$290,3,FALSE))) | R50: =IF($C50="","",IF(VLOOKUP($C50,'Control Sample Data'!$C$195:$M$290,4,FALSE)=0,"",VLOOKUP($C50,'Control Sample Data'!$C$195:$M$290,4,FALSE))) | S50: =IF($C50="","",IF(VLOOKUP($C50,'Control Sample Data'!$C$195:$M$290,5,FALSE)=0,"",VLOOKUP($C50,'Control Sample Data'!$C$195:$M$290,5,FALSE))) | T50: =IF($C50="","",IF(VLOOKUP($C50,'Control Sample Data'!$C$195:$M$290,6,FALSE)=0,"",VLOOKUP($C50,'Control Sample Data'!$C$195:$M$290,6,FALSE))) | U50: =IF($C50="","",IF(VLOOKUP($C50,'Control Sample Data'!$C$195:$M$290,7,FALSE)=0,"",VLOOKUP($C50,'Control Sample Data'!$C$195:$M$290,7,FALSE))) | V50: =IF($C50="","",IF(VLOOKUP($C50,'Control Sample Data'!$C$195:$M$290,8,FALSE)=0,"",VLOOKUP($C50,'Control Sample Data'!$C$195:$M$290,8,FALSE))) | W50: =IF($C50="","",IF(VLOOKUP($C50,'Control Sample Data'!$C$195:$M$290,9,FALSE)=0,"",VLOOKUP($C50,'Control Sample Data'!$C$195:$M$290,9,FALSE))) | X50: =IF($C50="","",IF(VLOOKUP($C50,'Control Sample Data'!$C$195:$M$290,10,FALSE)=0,"",VLOOKUP($C50,'Control Sample Data'!$C$195:$M$290,10,FALSE))) | Y50: =IF($C50="","",IF(VLOOKUP($C50,'Control Sample Data'!$C$195:$M$290,11,FALSE)=0,"",VLOOKUP($C50,'Control Sample Data'!$C$195:$M$290,11,FALSE)))
B51: =IF(B9="","",B9) | C51: =IF('Choose Housekeeping Genes'!C9=0,"",'Choose Housekeeping Genes'!C9) | D51: =IF($C51="","",IF(VLOOKUP($C51,'Test Sample Data'!$C$195:$M$290,2,FALSE)=0,"",VLOOKUP($C51,'Test Sample Data'!$C$195:$M$290,2,FALSE))) | E51: =IF($C51="","",IF(VLOOKUP($C51,'Test Sample Data'!$C$195:$M$290,3,FALSE)=0,"",VLOOKUP($C51,'Test Sample Data'!$C$195:$M$290,3,FALSE))) | F51: =IF($C51="","",IF(VLOOKUP($C51,'Test Sample Data'!$C$195:$M$290,4,FALSE)=0,"",VLOOKUP($C51,'Test Sample Data'!$C$195:$M$290,4,FALSE))) | G51: =IF($C51="","",IF(VLOOKUP($C51,'Test Sample Data'!$C$195:$M$290,5,FALSE)=0,"",VLOOKUP($C51,'Test Sample Data'!$C$195:$M$290,5,FALSE))) | H51: =IF($C51="","",IF(VLOOKUP($C51,'Test Sample Data'!$C$195:$M$290,6,FALSE)=0,"",VLOOKUP($C51,'Test Sample Data'!$C$195:$M$290,6,FALSE))) | I51: =IF($C51="","",IF(VLOOKUP($C51,'Test Sample Data'!$C$195:$M$290,7,FALSE)=0,"",VLOOKUP($C51,'Test Sample Data'!$C$195:$M$290,7,FALSE))) | J51: =IF($C51="","",IF(VLOOKUP($C51,'Test Sample Data'!$C$195:$M$290,8,FALSE)=0,"",VLOOKUP($C51,'Test Sample Data'!$C$195:$M$290,8,FALSE))) | K51: =IF($C51="","",IF(VLOOKUP($C51,'Test Sample Data'!$C$195:$M$290,9,FALSE)=0,"",VLOOKUP($C51,'Test Sample Data'!$C$195:$M$290,9,FALSE))) | L51: =IF($C51="","",IF(VLOOKUP($C51,'Test Sample Data'!$C$195:$M$290,10,FALSE)=0,"",VLOOKUP($C51,'Test Sample Data'!$C$195:$M$290,10,FALSE))) | M51: =IF($C51="","",IF(VLOOKUP($C51,'Test Sample Data'!$C$195:$M$290,11,FALSE)=0,"",VLOOKUP($C51,'Test Sample Data'!$C$195:$M$290,11,FALSE))) | N51: =IF(B51=0,"",B51) | O51: =IF('Choose Housekeeping Genes'!C51=0,"",'Choose Housekeeping Genes'!C51) | P51: =IF($C51="","",IF(VLOOKUP($C51,'Control Sample Data'!$C$195:$M$290,2,FALSE)=0,"",VLOOKUP($C51,'Control Sample Data'!$C$195:$M$290,2,FALSE))) | Q51: =IF($C51="","",IF(VLOOKUP($C51,'Control Sample Data'!$C$195:$M$290,3,FALSE)=0,"",VLOOKUP($C51,'Control Sample Data'!$C$195:$M$290,3,FALSE))) | R51: =IF($C51="","",IF(VLOOKUP($C51,'Control Sample Data'!$C$195:$M$290,4,FALSE)=0,"",VLOOKUP($C51,'Control Sample Data'!$C$195:$M$290,4,FALSE))) | S51: =IF($C51="","",IF(VLOOKUP($C51,'Control Sample Data'!$C$195:$M$290,5,FALSE)=0,"",VLOOKUP($C51,'Control Sample Data'!$C$195:$M$290,5,FALSE))) | T51: =IF($C51="","",IF(VLOOKUP($C51,'Control Sample Data'!$C$195:$M$290,6,FALSE)=0,"",VLOOKUP($C51,'Control Sample Data'!$C$195:$M$290,6,FALSE))) | U51: =IF($C51="","",IF(VLOOKUP($C51,'Control Sample Data'!$C$195:$M$290,7,FALSE)=0,"",VLOOKUP($C51,'Control Sample Data'!$C$195:$M$290,7,FALSE))) | V51: =IF($C51="","",IF(VLOOKUP($C51,'Control Sample Data'!$C$195:$M$290,8,FALSE)=0,"",VLOOKUP($C51,'Control Sample Data'!$C$195:$M$290,8,FALSE))) | W51: =IF($C51="","",IF(VLOOKUP($C51,'Control Sample Data'!$C$195:$M$290,9,FALSE)=0,"",VLOOKUP($C51,'Control Sample Data'!$C$195:$M$290,9,FALSE))) | X51: =IF($C51="","",IF(VLOOKUP($C51,'Control Sample Data'!$C$195:$M$290,10,FALSE)=0,"",VLOOKUP($C51,'Control Sample Data'!$C$195:$M$290,10,FALSE))) | Y51: =IF($C51="","",IF(VLOOKUP($C51,'Control Sample Data'!$C$195:$M$290,11,FALSE)=0,"",VLOOKUP($C51,'Control Sample Data'!$C$195:$M$290,11,FALSE)))
B52: =IF(B10="","",B10) | C52: =IF('Choose Housekeeping Genes'!C10=0,"",'Choose Housekeeping Genes'!C10) | D52: =IF($C52="","",IF(VLOOKUP($C52,'Test Sample Data'!$C$195:$M$290,2,FALSE)=0,"",VLOOKUP($C52,'Test Sample Data'!$C$195:$M$290,2,FALSE))) | E52: =IF($C52="","",IF(VLOOKUP($C52,'Test Sample Data'!$C$195:$M$290,3,FALSE)=0,"",VLOOKUP($C52,'Test Sample Data'!$C$195:$M$290,3,FALSE))) | F52: =IF($C52="","",IF(VLOOKUP($C52,'Test Sample Data'!$C$195:$M$290,4,FALSE)=0,"",VLOOKUP($C52,'Test Sample Data'!$C$195:$M$290,4,FALSE))) | G52: =IF($C52="","",IF(VLOOKUP($C52,'Test Sample Data'!$C$195:$M$290,5,FALSE)=0,"",VLOOKUP($C52,'Test Sample Data'!$C$195:$M$290,5,FALSE))) | H52: =IF($C52="","",IF(VLOOKUP($C52,'Test Sample Data'!$C$195:$M$290,6,FALSE)=0,"",VLOOKUP($C52,'Test Sample Data'!$C$195:$M$290,6,FALSE))) | I52: =IF($C52="","",IF(VLOOKUP($C52,'Test Sample Data'!$C$195:$M$290,7,FALSE)=0,"",VLOOKUP($C52,'Test Sample Data'!$C$195:$M$290,7,FALSE))) | J52: =IF($C52="","",IF(VLOOKUP($C52,'Test Sample Data'!$C$195:$M$290,8,FALSE)=0,"",VLOOKUP($C52,'Test Sample Data'!$C$195:$M$290,8,FALSE))) | K52: =IF($C52="","",IF(VLOOKUP($C52,'Test Sample Data'!$C$195:$M$290,9,FALSE)=0,"",VLOOKUP($C52,'Test Sample Data'!$C$195:$M$290,9,FALSE))) | L52: =IF($C52="","",IF(VLOOKUP($C52,'Test Sample Data'!$C$195:$M$290,10,FALSE)=0,"",VLOOKUP($C52,'Test Sample Data'!$C$195:$M$290,10,FALSE))) | M52: =IF($C52="","",IF(VLOOKUP($C52,'Test Sample Data'!$C$195:$M$290,11,FALSE)=0,"",VLOOKUP($C52,'Test Sample Data'!$C$195:$M$290,11,FALSE))) | N52: =IF(B52=0,"",B52) | O52: =IF('Choose Housekeeping Genes'!C52=0,"",'Choose Housekeeping Genes'!C52) | P52: =IF($C52="","",IF(VLOOKUP($C52,'Control Sample Data'!$C$195:$M$290,2,FALSE)=0,"",VLOOKUP($C52,'Control Sample Data'!$C$195:$M$290,2,FALSE))) | Q52: =IF($C52="","",IF(VLOOKUP($C52,'Control Sample Data'!$C$195:$M$290,3,FALSE)=0,"",VLOOKUP($C52,'Control Sample Data'!$C$195:$M$290,3,FALSE))) | R52: =IF($C52="","",IF(VLOOKUP($C52,'Control Sample Data'!$C$195:$M$290,4,FALSE)=0,"",VLOOKUP($C52,'Control Sample Data'!$C$195:$M$290,4,FALSE))) | S52: =IF($C52="","",IF(VLOOKUP($C52,'Control Sample Data'!$C$195:$M$290,5,FALSE)=0,"",VLOOKUP($C52,'Control Sample Data'!$C$195:$M$290,5,FALSE))) | T52: =IF($C52="","",IF(VLOOKUP($C52,'Control Sample Data'!$C$195:$M$290,6,FALSE)=0,"",VLOOKUP($C52,'Control Sample Data'!$C$195:$M$290,6,FALSE))) | U52: =IF($C52="","",IF(VLOOKUP($C52,'Control Sample Data'!$C$195:$M$290,7,FALSE)=0,"",VLOOKUP($C52,'Control Sample Data'!$C$195:$M$290,7,FALSE))) | V52: =IF($C52="","",IF(VLOOKUP($C52,'Control Sample Data'!$C$195:$M$290,8,FALSE)=0,"",VLOOKUP($C52,'Control Sample Data'!$C$195:$M$290,8,FALSE))) | W52: =IF($C52="","",IF(VLOOKUP($C52,'Control Sample Data'!$C$195:$M$290,9,FALSE)=0,"",VLOOKUP($C52,'Control Sample Data'!$C$195:$M$290,9,FALSE))) | X52: =IF($C52="","",IF(VLOOKUP($C52,'Control Sample Data'!$C$195:$M$290,10,FALSE)=0,"",VLOOKUP($C52,'Control Sample Data'!$C$195:$M$290,10,FALSE))) | Y52: =IF($C52="","",IF(VLOOKUP($C52,'Control Sample Data'!$C$195:$M$290,11,FALSE)=0,"",VLOOKUP($C52,'Control Sample Data'!$C$195:$M$290,11,FALSE)))
B53: =IF(B11="","",B11) | C53: =IF('Choose Housekeeping Genes'!C11=0,"",'Choose Housekeeping Genes'!C11) | D53: =IF($C53="","",IF(VLOOKUP($C53,'Test Sample Data'!$C$195:$M$290,2,FALSE)=0,"",VLOOKUP($C53,'Test Sample Data'!$C$195:$M$290,2,FALSE))) | E53: =IF($C53="","",IF(VLOOKUP($C53,'Test Sample Data'!$C$195:$M$290,3,FALSE)=0,"",VLOOKUP($C53,'Test Sample Data'!$C$195:$M$290,3,FALSE))) | F53: =IF($C53="","",IF(VLOOKUP($C53,'Test Sample Data'!$C$195:$M$290,4,FALSE)=0,"",VLOOKUP($C53,'Test Sample Data'!$C$195:$M$290,4,FALSE))) | G53: =IF($C53="","",IF(VLOOKUP($C53,'Test Sample Data'!$C$195:$M$290,5,FALSE)=0,"",VLOOKUP($C53,'Test Sample Data'!$C$195:$M$290,5,FALSE))) | H53: =IF($C53="","",IF(VLOOKUP($C53,'Test Sample Data'!$C$195:$M$290,6,FALSE)=0,"",VLOOKUP($C53,'Test Sample Data'!$C$195:$M$290,6,FALSE))) | I53: =IF($C53="","",IF(VLOOKUP($C53,'Test Sample Data'!$C$195:$M$290,7,FALSE)=0,"",VLOOKUP($C53,'Test Sample Data'!$C$195:$M$290,7,FALSE))) | J53: =IF($C53="","",IF(VLOOKUP($C53,'Test Sample Data'!$C$195:$M$290,8,FALSE)=0,"",VLOOKUP($C53,'Test Sample Data'!$C$195:$M$290,8,FALSE))) | K53: =IF($C53="","",IF(VLOOKUP($C53,'Test Sample Data'!$C$195:$M$290,9,FALSE)=0,"",VLOOKUP($C53,'Test Sample Data'!$C$195:$M$290,9,FALSE))) | L53: =IF($C53="","",IF(VLOOKUP($C53,'Test Sample Data'!$C$195:$M$290,10,FALSE)=0,"",VLOOKUP($C53,'Test Sample Data'!$C$195:$M$290,10,FALSE))) | M53: =IF($C53="","",IF(VLOOKUP($C53,'Test Sample Data'!$C$195:$M$290,11,FALSE)=0,"",VLOOKUP($C53,'Test Sample Data'!$C$195:$M$290,11,FALSE))) | N53: =IF(B53=0,"",B53) | O53: =IF('Choose Housekeeping Genes'!C53=0,"",'Choose Housekeeping Genes'!C53) | P53: =IF($C53="","",IF(VLOOKUP($C53,'Control Sample Data'!$C$195:$M$290,2,FALSE)=0,"",VLOOKUP($C53,'Control Sample Data'!$C$195:$M$290,2,FALSE))) | Q53: =IF($C53="","",IF(VLOOKUP($C53,'Control Sample Data'!$C$195:$M$290,3,FALSE)=0,"",VLOOKUP($C53,'Control Sample Data'!$C$195:$M$290,3,FALSE))) | R53: =IF($C53="","",IF(VLOOKUP($C53,'Control Sample Data'!$C$195:$M$290,4,FALSE)=0,"",VLOOKUP($C53,'Control Sample Data'!$C$195:$M$290,4,FALSE))) | S53: =IF($C53="","",IF(VLOOKUP($C53,'Control Sample Data'!$C$195:$M$290,5,FALSE)=0,"",VLOOKUP($C53,'Control Sample Data'!$C$195:$M$290,5,FALSE))) | T53: =IF($C53="","",IF(VLOOKUP($C53,'Control Sample Data'!$C$195:$M$290,6,FALSE)=0,"",VLOOKUP($C53,'Control Sample Data'!$C$195:$M$290,6,FALSE))) | U53: =IF($C53="","",IF(VLOOKUP($C53,'Control Sample Data'!$C$195:$M$290,7,FALSE)=0,"",VLOOKUP($C53,'Control Sample Data'!$C$195:$M$290,7,FALSE))) | V53: =IF($C53="","",IF(VLOOKUP($C53,'Control Sample Data'!$C$195:$M$290,8,FALSE)=0,"",VLOOKUP($C53,'Control Sample Data'!$C$195:$M$290,8,FALSE))) | W53: =IF($C53="","",IF(VLOOKUP($C53,'Control Sample Data'!$C$195:$M$290,9,FALSE)=0,"",VLOOKUP($C53,'Control Sample Data'!$C$195:$M$290,9,FALSE))) | X53: =IF($C53="","",IF(VLOOKUP($C53,'Control Sample Data'!$C$195:$M$290,10,FALSE)=0,"",VLOOKUP($C53,'Control Sample Data'!$C$195:$M$290,10,FALSE))) | Y53: =IF($C53="","",IF(VLOOKUP($C53,'Control Sample Data'!$C$195:$M$290,11,FALSE)=0,"",VLOOKUP($C53,'Control Sample Data'!$C$195:$M$290,11,FALSE)))
B54: =IF(B12="","",B12) | C54: =IF('Choose Housekeeping Genes'!C12=0,"",'Choose Housekeeping Genes'!C12) | D54: =IF($C54="","",IF(VLOOKUP($C54,'Test Sample Data'!$C$195:$M$290,2,FALSE)=0,"",VLOOKUP($C54,'Test Sample Data'!$C$195:$M$290,2,FALSE))) | E54: =IF($C54="","",IF(VLOOKUP($C54,'Test Sample Data'!$C$195:$M$290,3,FALSE)=0,"",VLOOKUP($C54,'Test Sample Data'!$C$195:$M$290,3,FALSE))) | F54: =IF($C54="","",IF(VLOOKUP($C54,'Test Sample Data'!$C$195:$M$290,4,FALSE)=0,"",VLOOKUP($C54,'Test Sample Data'!$C$195:$M$290,4,FALSE))) | G54: =IF($C54="","",IF(VLOOKUP($C54,'Test Sample Data'!$C$195:$M$290,5,FALSE)=0,"",VLOOKUP($C54,'Test Sample Data'!$C$195:$M$290,5,FALSE))) | H54: =IF($C54="","",IF(VLOOKUP($C54,'Test Sample Data'!$C$195:$M$290,6,FALSE)=0,"",VLOOKUP($C54,'Test Sample Data'!$C$195:$M$290,6,FALSE))) | I54: =IF($C54="","",IF(VLOOKUP($C54,'Test Sample Data'!$C$195:$M$290,7,FALSE)=0,"",VLOOKUP($C54,'Test Sample Data'!$C$195:$M$290,7,FALSE))) | J54: =IF($C54="","",IF(VLOOKUP($C54,'Test Sample Data'!$C$195:$M$290,8,FALSE)=0,"",VLOOKUP($C54,'Test Sample Data'!$C$195:$M$290,8,FALSE))) | K54: =IF($C54="","",IF(VLOOKUP($C54,'Test Sample Data'!$C$195:$M$290,9,FALSE)=0,"",VLOOKUP($C54,'Test Sample Data'!$C$195:$M$290,9,FALSE))) | L54: =IF($C54="","",IF(VLOOKUP($C54,'Test Sample Data'!$C$195:$M$290,10,FALSE)=0,"",VLOOKUP($C54,'Test Sample Data'!$C$195:$M$290,10,FALSE))) | M54: =IF($C54="","",IF(VLOOKUP($C54,'Test Sample Data'!$C$195:$M$290,11,FALSE)=0,"",VLOOKUP($C54,'Test Sample Data'!$C$195:$M$290,11,FALSE))) | N54: =IF(B54=0,"",B54) | O54: =IF('Choose Housekeeping Genes'!C54=0,"",'Choose Housekeeping Genes'!C54) | P54: =IF($C54="","",IF(VLOOKUP($C54,'Control Sample Data'!$C$195:$M$290,2,FALSE)=0,"",VLOOKUP($C54,'Control Sample Data'!$C$195:$M$290,2,FALSE))) | Q54: =IF($C54="","",IF(VLOOKUP($C54,'Control Sample Data'!$C$195:$M$290,3,FALSE)=0,"",VLOOKUP($C54,'Control Sample Data'!$C$195:$M$290,3,FALSE))) | R54: =IF($C54="","",IF(VLOOKUP($C54,'Control Sample Data'!$C$195:$M$290,4,FALSE)=0,"",VLOOKUP($C54,'Control Sample Data'!$C$195:$M$290,4,FALSE))) | S54: =IF($C54="","",IF(VLOOKUP($C54,'Control Sample Data'!$C$195:$M$290,5,FALSE)=0,"",VLOOKUP($C54,'Control Sample Data'!$C$195:$M$290,5,FALSE))) | T54: =IF($C54="","",IF(VLOOKUP($C54,'Control Sample Data'!$C$195:$M$290,6,FALSE)=0,"",VLOOKUP($C54,'Control Sample Data'!$C$195:$M$290,6,FALSE))) | U54: =IF($C54="","",IF(VLOOKUP($C54,'Control Sample Data'!$C$195:$M$290,7,FALSE)=0,"",VLOOKUP($C54,'Control Sample Data'!$C$195:$M$290,7,FALSE))) | V54: =IF($C54="","",IF(VLOOKUP($C54,'Control Sample Data'!$C$195:$M$290,8,FALSE)=0,"",VLOOKUP($C54,'Control Sample Data'!$C$195:$M$290,8,FALSE))) | W54: =IF($C54="","",IF(VLOOKUP($C54,'Control Sample Data'!$C$195:$M$290,9,FALSE)=0,"",VLOOKUP($C54,'Control Sample Data'!$C$195:$M$290,9,FALSE))) | X54: =IF($C54="","",IF(VLOOKUP($C54,'Control Sample Data'!$C$195:$M$290,10,FALSE)=0,"",VLOOKUP($C54,'Control Sample Data'!$C$195:$M$290,10,FALSE))) | Y54: =IF($C54="","",IF(VLOOKUP($C54,'Control Sample Data'!$C$195:$M$290,11,FALSE)=0,"",VLOOKUP($C54,'Control Sample Data'!$C$195:$M$290,11,FALSE)))
B55: =IF(B13="","",B13) | C55: =IF('Choose Housekeeping Genes'!C13=0,"",'Choose Housekeeping Genes'!C13) | D55: =IF($C55="","",IF(VLOOKUP($C55,'Test Sample Data'!$C$195:$M$290,2,FALSE)=0,"",VLOOKUP($C55,'Test Sample Data'!$C$195:$M$290,2,FALSE))) | E55: =IF($C55="","",IF(VLOOKUP($C55,'Test Sample Data'!$C$195:$M$290,3,FALSE)=0,"",VLOOKUP($C55,'Test Sample Data'!$C$195:$M$290,3,FALSE))) | F55: =IF($C55="","",IF(VLOOKUP($C55,'Test Sample Data'!$C$195:$M$290,4,FALSE)=0,"",VLOOKUP($C55,'Test Sample Data'!$C$195:$M$290,4,FALSE))) | G55: =IF($C55="","",IF(VLOOKUP($C55,'Test Sample Data'!$C$195:$M$290,5,FALSE)=0,"",VLOOKUP($C55,'Test Sample Data'!$C$195:$M$290,5,FALSE))) | H55: =IF($C55="","",IF(VLOOKUP($C55,'Test Sample Data'!$C$195:$M$290,6,FALSE)=0,"",VLOOKUP($C55,'Test Sample Data'!$C$195:$M$290,6,FALSE))) | I55: =IF($C55="","",IF(VLOOKUP($C55,'Test Sample Data'!$C$195:$M$290,7,FALSE)=0,"",VLOOKUP($C55,'Test Sample Data'!$C$195:$M$290,7,FALSE))) | J55: =IF($C55="","",IF(VLOOKUP($C55,'Test Sample Data'!$C$195:$M$290,8,FALSE)=0,"",VLOOKUP($C55,'Test Sample Data'!$C$195:$M$290,8,FALSE))) | K55: =IF($C55="","",IF(VLOOKUP($C55,'Test Sample Data'!$C$195:$M$290,9,FALSE)=0,"",VLOOKUP($C55,'Test Sample Data'!$C$195:$M$290,9,FALSE))) | L55: =IF($C55="","",IF(VLOOKUP($C55,'Test Sample Data'!$C$195:$M$290,10,FALSE)=0,"",VLOOKUP($C55,'Test Sample Data'!$C$195:$M$290,10,FALSE))) | M55: =IF($C55="","",IF(VLOOKUP($C55,'Test Sample Data'!$C$195:$M$290,11,FALSE)=0,"",VLOOKUP($C55,'Test Sample Data'!$C$195:$M$290,11,FALSE))) | N55: =IF(B55=0,"",B55) | O55: =IF('Choose Housekeeping Genes'!C55=0,"",'Choose Housekeeping Genes'!C55) | P55: =IF($C55="","",IF(VLOOKUP($C55,'Control Sample Data'!$C$195:$M$290,2,FALSE)=0,"",VLOOKUP($C55,'Control Sample Data'!$C$195:$M$290,2,FALSE))) | Q55: =IF($C55="","",IF(VLOOKUP($C55,'Control Sample Data'!$C$195:$M$290,3,FALSE)=0,"",VLOOKUP($C55,'Control Sample Data'!$C$195:$M$290,3,FALSE))) | R55: =IF($C55="","",IF(VLOOKUP($C55,'Control Sample Data'!$C$195:$M$290,4,FALSE)=0,"",VLOOKUP($C55,'Control Sample Data'!$C$195:$M$290,4,FALSE))) | S55: =IF($C55="","",IF(VLOOKUP($C55,'Control Sample Data'!$C$195:$M$290,5,FALSE)=0,"",VLOOKUP($C55,'Control Sample Data'!$C$195:$M$290,5,FALSE))) | T55: =IF($C55="","",IF(VLOOKUP($C55,'Control Sample Data'!$C$195:$M$290,6,FALSE)=0,"",VLOOKUP($C55,'Control Sample Data'!$C$195:$M$290,6,FALSE))) | U55: =IF($C55="","",IF(VLOOKUP($C55,'Control Sample Data'!$C$195:$M$290,7,FALSE)=0,"",VLOOKUP($C55,'Control Sample Data'!$C$195:$M$290,7,FALSE))) | V55: =IF($C55="","",IF(VLOOKUP($C55,'Control Sample Data'!$C$195:$M$290,8,FALSE)=0,"",VLOOKUP($C55,'Control Sample Data'!$C$195:$M$290,8,FALSE))) | W55: =IF($C55="","",IF(VLOOKUP($C55,'Control Sample Data'!$C$195:$M$290,9,FALSE)=0,"",VLOOKUP($C55,'Control Sample Data'!$C$195:$M$290,9,FALSE))) | X55: =IF($C55="","",IF(VLOOKUP($C55,'Control Sample Data'!$C$195:$M$290,10,FALSE)=0,"",VLOOKUP($C55,'Control Sample Data'!$C$195:$M$290,10,FALSE))) | Y55: =IF($C55="","",IF(VLOOKUP($C55,'Control Sample Data'!$C$195:$M$290,11,FALSE)=0,"",VLOOKUP($C55,'Control Sample Data'!$C$195:$M$290,11,FALSE)))
B56: =IF(B14="","",B14) | C56: =IF('Choose Housekeeping Genes'!C14=0,"",'Choose Housekeeping Genes'!C14) | D56: =IF($C56="","",IF(VLOOKUP($C56,'Test Sample Data'!$C$195:$M$290,2,FALSE)=0,"",VLOOKUP($C56,'Test Sample Data'!$C$195:$M$290,2,FALSE))) | E56: =IF($C56="","",IF(VLOOKUP($C56,'Test Sample Data'!$C$195:$M$290,3,FALSE)=0,"",VLOOKUP($C56,'Test Sample Data'!$C$195:$M$290,3,FALSE))) | F56: =IF($C56="","",IF(VLOOKUP($C56,'Test Sample Data'!$C$195:$M$290,4,FALSE)=0,"",VLOOKUP($C56,'Test Sample Data'!$C$195:$M$290,4,FALSE))) | G56: =IF($C56="","",IF(VLOOKUP($C56,'Test Sample Data'!$C$195:$M$290,5,FALSE)=0,"",VLOOKUP($C56,'Test Sample Data'!$C$195:$M$290,5,FALSE))) | H56: =IF($C56="","",IF(VLOOKUP($C56,'Test Sample Data'!$C$195:$M$290,6,FALSE)=0,"",VLOOKUP($C56,'Test Sample Data'!$C$195:$M$290,6,FALSE))) | I56: =IF($C56="","",IF(VLOOKUP($C56,'Test Sample Data'!$C$195:$M$290,7,FALSE)=0,"",VLOOKUP($C56,'Test Sample Data'!$C$195:$M$290,7,FALSE))) | J56: =IF($C56="","",IF(VLOOKUP($C56,'Test Sample Data'!$C$195:$M$290,8,FALSE)=0,"",VLOOKUP($C56,'Test Sample Data'!$C$195:$M$290,8,FALSE))) | K56: =IF($C56="","",IF(VLOOKUP($C56,'Test Sample Data'!$C$195:$M$290,9,FALSE)=0,"",VLOOKUP($C56,'Test Sample Data'!$C$195:$M$290,9,FALSE))) | L56: =IF($C56="","",IF(VLOOKUP($C56,'Test Sample Data'!$C$195:$M$290,10,FALSE)=0,"",VLOOKUP($C56,'Test Sample Data'!$C$195:$M$290,10,FALSE))) | M56: =IF($C56="","",IF(VLOOKUP($C56,'Test Sample Data'!$C$195:$M$290,11,FALSE)=0,"",VLOOKUP($C56,'Test Sample Data'!$C$195:$M$290,11,FALSE))) | N56: =IF(B56=0,"",B56) | O56: =IF('Choose Housekeeping Genes'!C56=0,"",'Choose Housekeeping Genes'!C56) | P56: =IF($C56="","",IF(VLOOKUP($C56,'Control Sample Data'!$C$195:$M$290,2,FALSE)=0,"",VLOOKUP($C56,'Control Sample Data'!$C$195:$M$290,2,FALSE))) | Q56: =IF($C56="","",IF(VLOOKUP($C56,'Control Sample Data'!$C$195:$M$290,3,FALSE)=0,"",VLOOKUP($C56,'Control Sample Data'!$C$195:$M$290,3,FALSE))) | R56: =IF($C56="","",IF(VLOOKUP($C56,'Control Sample Data'!$C$195:$M$290,4,FALSE)=0,"",VLOOKUP($C56,'Control Sample Data'!$C$195:$M$290,4,FALSE))) | S56: =IF($C56="","",IF(VLOOKUP($C56,'Control Sample Data'!$C$195:$M$290,5,FALSE)=0,"",VLOOKUP($C56,'Control Sample Data'!$C$195:$M$290,5,FALSE))) | T56: =IF($C56="","",IF(VLOOKUP($C56,'Control Sample Data'!$C$195:$M$290,6,FALSE)=0,"",VLOOKUP($C56,'Control Sample Data'!$C$195:$M$290,6,FALSE))) | U56: =IF($C56="","",IF(VLOOKUP($C56,'Control Sample Data'!$C$195:$M$290,7,FALSE)=0,"",VLOOKUP($C56,'Control Sample Data'!$C$195:$M$290,7,FALSE))) | V56: =IF($C56="","",IF(VLOOKUP($C56,'Control Sample Data'!$C$195:$M$290,8,FALSE)=0,"",VLOOKUP($C56,'Control Sample Data'!$C$195:$M$290,8,FALSE))) | W56: =IF($C56="","",IF(VLOOKUP($C56,'Control Sample Data'!$C$195:$M$290,9,FALSE)=0,"",VLOOKUP($C56,'Control Sample Data'!$C$195:$M$290,9,FALSE))) | X56: =IF($C56="","",IF(VLOOKUP($C56,'Control Sample Data'!$C$195:$M$290,10,FALSE)=0,"",VLOOKUP($C56,'Control Sample Data'!$C$195:$M$290,10,FALSE))) | Y56: =IF($C56="","",IF(VLOOKUP($C56,'Control Sample Data'!$C$195:$M$290,11,FALSE)=0,"",VLOOKUP($C56,'Control Sample Data'!$C$195:$M$290,11,FALSE)))
B57: =IF(B15="","",B15) | C57: =IF('Choose Housekeeping Genes'!C15=0,"",'Choose Housekeeping Genes'!C15) | D57: =IF($C57="","",IF(VLOOKUP($C57,'Test Sample Data'!$C$195:$M$290,2,FALSE)=0,"",VLOOKUP($C57,'Test Sample Data'!$C$195:$M$290,2,FALSE))) | E57: =IF($C57="","",IF(VLOOKUP($C57,'Test Sample Data'!$C$195:$M$290,3,FALSE)=0,"",VLOOKUP($C57,'Test Sample Data'!$C$195:$M$290,3,FALSE))) | F57: =IF($C57="","",IF(VLOOKUP($C57,'Test Sample Data'!$C$195:$M$290,4,FALSE)=0,"",VLOOKUP($C57,'Test Sample Data'!$C$195:$M$290,4,FALSE))) | G57: =IF($C57="","",IF(VLOOKUP($C57,'Test Sample Data'!$C$195:$M$290,5,FALSE)=0,"",VLOOKUP($C57,'Test Sample Data'!$C$195:$M$290,5,FALSE))) | H57: =IF($C57="","",IF(VLOOKUP($C57,'Test Sample Data'!$C$195:$M$290,6,FALSE)=0,"",VLOOKUP($C57,'Test Sample Data'!$C$195:$M$290,6,FALSE))) | I57: =IF($C57="","",IF(VLOOKUP($C57,'Test Sample Data'!$C$195:$M$290,7,FALSE)=0,"",VLOOKUP($C57,'Test Sample Data'!$C$195:$M$290,7,FALSE))) | J57: =IF($C57="","",IF(VLOOKUP($C57,'Test Sample Data'!$C$195:$M$290,8,FALSE)=0,"",VLOOKUP($C57,'Test Sample Data'!$C$195:$M$290,8,FALSE))) | K57: =IF($C57="","",IF(VLOOKUP($C57,'Test Sample Data'!$C$195:$M$290,9,FALSE)=0,"",VLOOKUP($C57,'Test Sample Data'!$C$195:$M$290,9,FALSE))) | L57: =IF($C57="","",IF(VLOOKUP($C57,'Test Sample Data'!$C$195:$M$290,10,FALSE)=0,"",VLOOKUP($C57,'Test Sample Data'!$C$195:$M$290,10,FALSE))) | M57: =IF($C57="","",IF(VLOOKUP($C57,'Test Sample Data'!$C$195:$M$290,11,FALSE)=0,"",VLOOKUP($C57,'Test Sample Data'!$C$195:$M$290,11,FALSE))) | N57: =IF(B57=0,"",B57) | O57: =IF('Choose Housekeeping Genes'!C57=0,"",'Choose Housekeeping Genes'!C57) | P57: =IF($C57="","",IF(VLOOKUP($C57,'Control Sample Data'!$C$195:$M$290,2,FALSE)=0,"",VLOOKUP($C57,'Control Sample Data'!$C$195:$M$290,2,FALSE))) | Q57: =IF($C57="","",IF(VLOOKUP($C57,'Control Sample Data'!$C$195:$M$290,3,FALSE)=0,"",VLOOKUP($C57,'Control Sample Data'!$C$195:$M$290,3,FALSE))) | R57: =IF($C57="","",IF(VLOOKUP($C57,'Control Sample Data'!$C$195:$M$290,4,FALSE)=0,"",VLOOKUP($C57,'Control Sample Data'!$C$195:$M$290,4,FALSE))) | S57: =IF($C57="","",IF(VLOOKUP($C57,'Control Sample Data'!$C$195:$M$290,5,FALSE)=0,"",VLOOKUP($C57,'Control Sample Data'!$C$195:$M$290,5,FALSE))) | T57: =IF($C57="","",IF(VLOOKUP($C57,'Control Sample Data'!$C$195:$M$290,6,FALSE)=0,"",VLOOKUP($C57,'Control Sample Data'!$C$195:$M$290,6,FALSE))) | U57: =IF($C57="","",IF(VLOOKUP($C57,'Control Sample Data'!$C$195:$M$290,7,FALSE)=0,"",VLOOKUP($C57,'Control Sample Data'!$C$195:$M$290,7,FALSE))) | V57: =IF($C57="","",IF(VLOOKUP($C57,'Control Sample Data'!$C$195:$M$290,8,FALSE)=0,"",VLOOKUP($C57,'Control Sample Data'!$C$195:$M$290,8,FALSE))) | W57: =IF($C57="","",IF(VLOOKUP($C57,'Control Sample Data'!$C$195:$M$290,9,FALSE)=0,"",VLOOKUP($C57,'Control Sample Data'!$C$195:$M$290,9,FALSE))) | X57: =IF($C57="","",IF(VLOOKUP($C57,'Control Sample Data'!$C$195:$M$290,10,FALSE)=0,"",VLOOKUP($C57,'Control Sample Data'!$C$195:$M$290,10,FALSE))) | Y57: =IF($C57="","",IF(VLOOKUP($C57,'Control Sample Data'!$C$195:$M$290,11,FALSE)=0,"",VLOOKUP($C57,'Control Sample Data'!$C$195:$M$290,11,FALSE)))
... B64: =IF(B22="","",B22) | C64: =IF('Choose Housekeeping Genes'!C22=0,"",'Choose Housekeeping Genes'!C22) | D64: =IF($C64="","",IF(VLOOKUP($C64,'Test Sample Data'!$C$195:$M$290,2,FALSE)=0,"",VLOOKUP($C64,'Test Sample Data'!$C$195:$M$290,2,FALSE))) | E64: =IF($C64="","",IF(VLOOKUP($C64,'Test Sample Data'!$C$195:$M$290,3,FALSE)=0,"",VLOOKUP($C64,'Test Sample Data'!$C$195:$M$290,3,FALSE))) | F64: =IF($C64="","",IF(VLOOKUP($C64,'Test Sample Data'!$C$195:$M$290,4,FALSE)=0,"",VLOOKUP($C64,'Test Sample Data'!$C$195:$M$290,4,FALSE))) | G64: =IF($C64="","",IF(VLOOKUP($C64,'Test Sample Data'!$C$195:$M$290,5,FALSE)=0,"",VLOOKUP($C64,'Test Sample Data'!$C$195:$M$290,5,FALSE))) | H64: =IF($C64="","",IF(VLOOKUP($C64,'Test Sample Data'!$C$195:$M$290,6,FALSE)=0,"",VLOOKUP($C64,'Test Sample Data'!$C$195:$M$290,6,FALSE))) | I64: =IF($C64="","",IF(VLOOKUP($C64,'Test Sample Data'!$C$195:$M$290,7,FALSE)=0,"",VLOOKUP($C64,'Test Sample Data'!$C$195:$M$290,7,FALSE))) | J64: =IF($C64="","",IF(VLOOKUP($C64,'Test Sample Data'!$C$195:$M$290,8,FALSE)=0,"",VLOOKUP($C64,'Test Sample Data'!$C$195:$M$290,8,FALSE))) | K64: =IF($C64="","",IF(VLOOKUP($C64,'Test Sample Data'!$C$195:$M$290,9,FALSE)=0,"",VLOOKUP($C64,'Test Sample Data'!$C$195:$M$290,9,FALSE))) | L64: =IF($C64="","",IF(VLOOKUP($C64,'Test Sample Data'!$C$195:$M$290,10,FALSE)=0,"",VLOOKUP($C64,'Test Sample Data'!$C$195:$M$290,10,FALSE))) | M64: =IF($C64="","",IF(VLOOKUP($C64,'Test Sample Data'!$C$195:$M$290,11,FALSE)=0,"",VLOOKUP($C64,'Test Sample Data'!$C$195:$M$290,11,FALSE))) | N64: =IF(B64=0,"",B64) | O64: =IF('Choose Housekeeping Genes'!C64=0,"",'Choose Housekeeping Genes'!C64) | P64: =IF($C64="","",IF(VLOOKUP($C64,'Control Sample Data'!$C$195:$M$290,2,FALSE)=0,"",VLOOKUP($C64,'Control Sample Data'!$C$195:$M$290,2,FALSE))) | Q64: =IF($C64="","",IF(VLOOKUP($C64,'Control Sample Data'!$C$195:$M$290,3,FALSE)=0,"",VLOOKUP($C64,'Control Sample Data'!$C$195:$M$290,3,FALSE))) | R64: =IF($C64="","",IF(VLOOKUP($C64,'Control Sample Data'!$C$195:$M$290,4,FALSE)=0,"",VLOOKUP($C64,'Control Sample Data'!$C$195:$M$290,4,FALSE))) | S64: =IF($C64="","",IF(VLOOKUP($C64,'Control Sample Data'!$C$195:$M$290,5,FALSE)=0,"",VLOOKUP($C64,'Control Sample Data'!$C$195:$M$290,5,FALSE))) | T64: =IF($C64="","",IF(VLOOKUP($C64,'Control Sample Data'!$C$195:$M$290,6,FALSE)=0,"",VLOOKUP($C64,'Control Sample Data'!$C$195:$M$290,6,FALSE))) | U64: =IF($C64="","",IF(VLOOKUP($C64,'Control Sample Data'!$C$195:$M$290,7,FALSE)=0,"",VLOOKUP($C64,'Control Sample Data'!$C$195:$M$290,7,FALSE))) | V64: =IF($C64="","",IF(VLOOKUP($C64,'Control Sample Data'!$C$195:$M$290,8,FALSE)=0,"",VLOOKUP($C64,'Control Sample Data'!$C$195:$M$290,8,FALSE))) | W64: =IF($C64="","",IF(VLOOKUP($C64,'Control Sample Data'!$C$195:$M$290,9,FALSE)=0,"",VLOOKUP($C64,'Control Sample Data'!$C$195:$M$290,9,FALSE))) | X64: =IF($C64="","",IF(VLOOKUP($C64,'Control Sample Data'!$C$195:$M$290,10,FALSE)=0,"",VLOOKUP($C64,'Control Sample Data'!$C$195:$M$290,10,FALSE))) | Y64: =IF($C64="","",IF(VLOOKUP($C64,'Control Sample Data'!$C$195:$M$290,11,FALSE)=0,"",VLOOKUP($C64,'Control Sample Data'!$C$195:$M$290,11,FALSE)))
B65: AVERAGE | D65: =IF(ISERROR(AVERAGE(D45:D64)),"",AVERAGE(D45:D64)) | E65: =IF(ISERROR(AVERAGE(E45:E64)),"",AVERAGE(E45:E64)) | F65: =IF(ISERROR(AVERAGE(F45:F64)),"",AVERAGE(F45:F64)) | G65: =IF(ISERROR(AVERAGE(G45:G64)),"",AVERAGE(G45:G64)) | H65: =IF(ISERROR(AVERAGE(H45:H64)),"",AVERAGE(H45:H64)) | I65: =IF(ISERROR(AVERAGE(I45:I64)),"",AVERAGE(I45:I64)) | J65: =IF(ISERROR(AVERAGE(J45:J64)),"",AVERAGE(J45:J64)) | K65: =IF(ISERROR(AVERAGE(K45:K64)),"",AVERAGE(K45:K64)) | ... M65: =IF(ISERROR(AVERAGE(M45:M64)),"",AVERAGE(M45:M64)) | N65: AVERAGE | P65: =IF(ISERROR(AVERAGE(P45:P64)),"",AVERAGE(P45:P64)) | Q65: =IF(ISERROR(AVERAGE(Q45:Q64)),"",AVERAGE(Q45:Q64)) | R65: =IF(ISERROR(AVERAGE(R45:R64)),"",AVERAGE(R45:R64)) | S65: =IF(ISERROR(AVERAGE(S45:S64)),"",AVERAGE(S45:S64)) | T65: =IF(ISERROR(AVERAGE(T45:T64)),"",AVERAGE(T45:T64)) | U65: =IF(ISERROR(AVERAGE(U45:U64)),"",AVERAGE(U45:U64)) | V65: =IF(ISERROR(AVERAGE(V45:V64)),"",AVERAGE(V45:V64)) | W65: =IF(ISERROR(AVERAGE(W45:W64)),"",AVERAGE(W45:W64)) | ... Y65: =IF(ISERROR(AVERAGE(Y45:Y64)),"",AVERAGE(Y45:Y64))
A66: Plate 4 | B66: =IF(B3="","",B3) -> HQP006940 | C66: =IF('Choose Housekeeping Genes'!C3=0,"",'Choose Housekeeping Genes'!C3) -> H03 | D66: =IF($C66="","",IF(VLOOKUP($C66,'Test Sample Data'!$C$291:$M$386,2,FALSE)=0,"",VLOOKUP($C66,'Test Sample Data'!$C$291:$M$386,2,FALSE))) | E66: =IF($C66="","",IF(VLOOKUP($C66,'Test Sample Data'!$C$291:$M$386,3,FALSE)=0,"",VLOOKUP($C66,'Test Sample Data'!$C$291:$M$386,3,FALSE))) | F66: =IF($C66="","",IF(VLOOKUP($C66,'Test Sample Data'!$C$291:$M$386,4,FALSE)=0,"",VLOOKUP($C66,'Test Sample Data'!$C$291:$M$386,4,FALSE))) | G66: =IF($C66="","",IF(VLOOKUP($C66,'Test Sample Data'!$C$291:$M$386,5,FALSE)=0,"",VLOOKUP($C66,'Test Sample Data'!$C$291:$M$386,5,FALSE))) | H66: =IF($C66="","",IF(VLOOKUP($C66,'Test Sample Data'!$C$291:$M$386,6,FALSE)=0,"",VLOOKUP($C66,'Test Sample Data'!$C$291:$M$386,6,FALSE))) | I66: =IF($C66="","",IF(VLOOKUP($C66,'Test Sample Data'!$C$291:$M$386,7,FALSE)=0,"",VLOOKUP($C66,'Test Sample Data'!$C$291:$M$386,7,FALSE))) | J66: =IF($C66="","",IF(VLOOKUP($C66,'Test Sample Data'!$C$291:$M$386,8,FALSE)=0,"",VLOOKUP($C66,'Test Sample Data'!$C$291:$M$386,8,FALSE))) | K66: =IF($C66="","",IF(VLOOKUP($C66,'Test Sample Data'!$C$291:$M$386,9,FALSE)=0,"",VLOOKUP($C66,'Test Sample Data'!$C$291:$M$386,9,FALSE))) | L66: =IF($C66="","",IF(VLOOKUP($C66,'Test Sample Data'!$C$291:$M$386,10,FALSE)=0,"",VLOOKUP($C66,'Test Sample Data'!$C$291:$M$386,10,FALSE))) | M66: =IF($C66="","",IF(VLOOKUP($C66,'Test Sample Data'!$C$291:$M$386,11,FALSE)=0,"",VLOOKUP($C66,'Test Sample Data'!$C$291:$M$386,11,FALSE))) | N66: =IF(B66=0,"",B66) -> HQP006940 | O66: =IF('Choose Housekeeping Genes'!C66=0,"",'Choose Housekeeping Genes'!C66) -> H03 | P66: =IF($C66="","",IF(VLOOKUP($C66,'Control Sample Data'!$C$291:$M$386,2,FALSE)=0,"",VLOOKUP($C66,'Control Sample Data'!$C$291:$M$386,2,FALSE))) | Q66: =IF($C66="","",IF(VLOOKUP($C66,'Control Sample Data'!$C$291:$M$386,3,FALSE)=0,"",VLOOKUP($C66,'Control Sample Data'!$C$291:$M$386,3,FALSE))) | R66: =IF($C66="","",IF(VLOOKUP($C66,'Control Sample Data'!$C$291:$M$386,4,FALSE)=0,"",VLOOKUP($C66,'Control Sample Data'!$C$291:$M$386,4,FALSE))) | S66: =IF($C66="","",IF(VLOOKUP($C66,'Control Sample Data'!$C$291:$M$386,5,FALSE)=0,"",VLOOKUP($C66,'Control Sample Data'!$C$291:$M$386,5,FALSE))) | T66: =IF($C66="","",IF(VLOOKUP($C66,'Control Sample Data'!$C$291:$M$386,6,FALSE)=0,"",VLOOKUP($C66,'Control Sample Data'!$C$291:$M$386,6,FALSE))) | U66: =IF($C66="","",IF(VLOOKUP($C66,'Control Sample Data'!$C$291:$M$386,7,FALSE)=0,"",VLOOKUP($C66,'Control Sample Data'!$C$291:$M$386,7,FALSE))) | V66: =IF($C66="","",IF(VLOOKUP($C66,'Control Sample Data'!$C$291:$M$386,8,FALSE)=0,"",VLOOKUP($C66,'Control Sample Data'!$C$291:$M$386,8,FALSE))) | W66: =IF($C66="","",IF(VLOOKUP($C66,'Control Sample Data'!$C$291:$M$386,9,FALSE)=0,"",VLOOKUP($C66,'Control Sample Data'!$C$291:$M$386,9,FALSE))) | X66: =IF($C66="","",IF(VLOOKUP($C66,'Control Sample Data'!$C$291:$M$386,10,FALSE)=0,"",VLOOKUP($C66,'Control Sample Data'!$C$291:$M$386,10,FALSE))) | Y66: =IF($C66="","",IF(VLOOKUP($C66,'Control Sample Data'!$C$291:$M$386,11,FALSE)=0,"",VLOOKUP($C66,'Control Sample Data'!$C$291:$M$386,11,FALSE)))
B67: =IF(B4="","",B4) -> HQP016381 | C67: =IF('Choose Housekeeping Genes'!C4=0,"",'Choose Housekeeping Genes'!C4) -> H04 | D67: =IF($C67="","",IF(VLOOKUP($C67,'Test Sample Data'!$C$291:$M$386,2,FALSE)=0,"",VLOOKUP($C67,'Test Sample Data'!$C$291:$M$386,2,FALSE))) | E67: =IF($C67="","",IF(VLOOKUP($C67,'Test Sample Data'!$C$291:$M$386,3,FALSE)=0,"",VLOOKUP($C67,'Test Sample Data'!$C$291:$M$386,3,FALSE))) | F67: =IF($C67="","",IF(VLOOKUP($C67,'Test Sample Data'!$C$291:$M$386,4,FALSE)=0,"",VLOOKUP($C67,'Test Sample Data'!$C$291:$M$386,4,FALSE))) | G67: =IF($C67="","",IF(VLOOKUP($C67,'Test Sample Data'!$C$291:$M$386,5,FALSE)=0,"",VLOOKUP($C67,'Test Sample Data'!$C$291:$M$386,5,FALSE))) | H67: =IF($C67="","",IF(VLOOKUP($C67,'Test Sample Data'!$C$291:$M$386,6,FALSE)=0,"",VLOOKUP($C67,'Test Sample Data'!$C$291:$M$386,6,FALSE))) | I67: =IF($C67="","",IF(VLOOKUP($C67,'Test Sample Data'!$C$291:$M$386,7,FALSE)=0,"",VLOOKUP($C67,'Test Sample Data'!$C$291:$M$386,7,FALSE))) | J67: =IF($C67="","",IF(VLOOKUP($C67,'Test Sample Data'!$C$291:$M$386,8,FALSE)=0,"",VLOOKUP($C67,'Test Sample Data'!$C$291:$M$386,8,FALSE))) | K67: =IF($C67="","",IF(VLOOKUP($C67,'Test Sample Data'!$C$291:$M$386,9,FALSE)=0,"",VLOOKUP($C67,'Test Sample Data'!$C$291:$M$386,9,FALSE))) | L67: =IF($C67="","",IF(VLOOKUP($C67,'Test Sample Data'!$C$291:$M$386,10,FALSE)=0,"",VLOOKUP($C67,'Test Sample Data'!$C$291:$M$386,10,FALSE))) | M67: =IF($C67="","",IF(VLOOKUP($C67,'Test Sample Data'!$C$291:$M$386,11,FALSE)=0,"",VLOOKUP($C67,'Test Sample Data'!$C$291:$M$386,11,FALSE))) | N67: =IF(B67=0,"",B67) -> HQP016381 | O67: =IF('Choose Housekeeping Genes'!C67=0,"",'Choose Housekeeping Genes'!C67) -> H04 | P67: =IF($C67="","",IF(VLOOKUP($C67,'Control Sample Data'!$C$291:$M$386,2,FALSE)=0,"",VLOOKUP($C67,'Control Sample Data'!$C$291:$M$386,2,FALSE))) | Q67: =IF($C67="","",IF(VLOOKUP($C67,'Control Sample Data'!$C$291:$M$386,3,FALSE)=0,"",VLOOKUP($C67,'Control Sample Data'!$C$291:$M$386,3,FALSE))) | R67: =IF($C67="","",IF(VLOOKUP($C67,'Control Sample Data'!$C$291:$M$386,4,FALSE)=0,"",VLOOKUP($C67,'Control Sample Data'!$C$291:$M$386,4,FALSE))) | S67: =IF($C67="","",IF(VLOOKUP($C67,'Control Sample Data'!$C$291:$M$386,5,FALSE)=0,"",VLOOKUP($C67,'Control Sample Data'!$C$291:$M$386,5,FALSE))) | T67: =IF($C67="","",IF(VLOOKUP($C67,'Control Sample Data'!$C$291:$M$386,6,FALSE)=0,"",VLOOKUP($C67,'Control Sample Data'!$C$291:$M$386,6,FALSE))) | U67: =IF($C67="","",IF(VLOOKUP($C67,'Control Sample Data'!$C$291:$M$386,7,FALSE)=0,"",VLOOKUP($C67,'Control Sample Data'!$C$291:$M$386,7,FALSE))) | V67: =IF($C67="","",IF(VLOOKUP($C67,'Control Sample Data'!$C$291:$M$386,8,FALSE)=0,"",VLOOKUP($C67,'Control Sample Data'!$C$291:$M$386,8,FALSE))) | W67: =IF($C67="","",IF(VLOOKUP($C67,'Control Sample Data'!$C$291:$M$386,9,FALSE)=0,"",VLOOKUP($C67,'Control Sample Data'!$C$291:$M$386,9,FALSE))) | X67: =IF($C67="","",IF(VLOOKUP($C67,'Control Sample Data'!$C$291:$M$386,10,FALSE)=0,"",VLOOKUP($C67,'Control Sample Data'!$C$291:$M$386,10,FALSE))) | Y67: =IF($C67="","",IF(VLOOKUP($C67,'Control Sample Data'!$C$291:$M$386,11,FALSE)=0,"",VLOOKUP($C67,'Control Sample Data'!$C$291:$M$386,11,FALSE)))
B68: =IF(B5="","",B5) -> HQP015171 | C68: =IF('Choose Housekeeping Genes'!C5=0,"",'Choose Housekeeping Genes'!C5) -> H05 | D68: =IF($C68="","",IF(VLOOKUP($C68,'Test Sample Data'!$C$291:$M$386,2,FALSE)=0,"",VLOOKUP($C68,'Test Sample Data'!$C$291:$M$386,2,FALSE))) | E68: =IF($C68="","",IF(VLOOKUP($C68,'Test Sample Data'!$C$291:$M$386,3,FALSE)=0,"",VLOOKUP($C68,'Test Sample Data'!$C$291:$M$386,3,FALSE))) | F68: =IF($C68="","",IF(VLOOKUP($C68,'Test Sample Data'!$C$291:$M$386,4,FALSE)=0,"",VLOOKUP($C68,'Test Sample Data'!$C$291:$M$386,4,FALSE))) | G68: =IF($C68="","",IF(VLOOKUP($C68,'Test Sample Data'!$C$291:$M$386,5,FALSE)=0,"",VLOOKUP($C68,'Test Sample Data'!$C$291:$M$386,5,FALSE))) | H68: =IF($C68="","",IF(VLOOKUP($C68,'Test Sample Data'!$C$291:$M$386,6,FALSE)=0,"",VLOOKUP($C68,'Test Sample Data'!$C$291:$M$386,6,FALSE))) | I68: =IF($C68="","",IF(VLOOKUP($C68,'Test Sample Data'!$C$291:$M$386,7,FALSE)=0,"",VLOOKUP($C68,'Test Sample Data'!$C$291:$M$386,7,FALSE))) | J68: =IF($C68="","",IF(VLOOKUP($C68,'Test Sample Data'!$C$291:$M$386,8,FALSE)=0,"",VLOOKUP($C68,'Test Sample Data'!$C$291:$M$386,8,FALSE))) | K68: =IF($C68="","",IF(VLOOKUP($C68,'Test Sample Data'!$C$291:$M$386,9,FALSE)=0,"",VLOOKUP($C68,'Test Sample Data'!$C$291:$M$386,9,FALSE))) | L68: =IF($C68="","",IF(VLOOKUP($C68,'Test Sample Data'!$C$291:$M$386,10,FALSE)=0,"",VLOOKUP($C68,'Test Sample Data'!$C$291:$M$386,10,FALSE))) | M68: =IF($C68="","",IF(VLOOKUP($C68,'Test Sample Data'!$C$291:$M$386,11,FALSE)=0,"",VLOOKUP($C68,'Test Sample Data'!$C$291:$M$386,11,FALSE))) | N68: =IF(B68=0,"",B68) -> HQP015171 | O68: =IF('Choose Housekeeping Genes'!C68=0,"",'Choose Housekeeping Genes'!C68) -> H05 | P68: =IF($C68="","",IF(VLOOKUP($C68,'Control Sample Data'!$C$291:$M$386,2,FALSE)=0,"",VLOOKUP($C68,'Control Sample Data'!$C$291:$M$386,2,FALSE))) | Q68: =IF($C68="","",IF(VLOOKUP($C68,'Control Sample Data'!$C$291:$M$386,3,FALSE)=0,"",VLOOKUP($C68,'Control Sample Data'!$C$291:$M$386,3,FALSE))) | R68: =IF($C68="","",IF(VLOOKUP($C68,'Control Sample Data'!$C$291:$M$386,4,FALSE)=0,"",VLOOKUP($C68,'Control Sample Data'!$C$291:$M$386,4,FALSE))) | S68: =IF($C68="","",IF(VLOOKUP($C68,'Control Sample Data'!$C$291:$M$386,5,FALSE)=0,"",VLOOKUP($C68,'Control Sample Data'!$C$291:$M$386,5,FALSE))) | T68: =IF($C68="","",IF(VLOOKUP($C68,'Control Sample Data'!$C$291:$M$386,6,FALSE)=0,"",VLOOKUP($C68,'Control Sample Data'!$C$291:$M$386,6,FALSE))) | U68: =IF($C68="","",IF(VLOOKUP($C68,'Control Sample Data'!$C$291:$M$386,7,FALSE)=0,"",VLOOKUP($C68,'Control Sample Data'!$C$291:$M$386,7,FALSE))) | V68: =IF($C68="","",IF(VLOOKUP($C68,'Control Sample Data'!$C$291:$M$386,8,FALSE)=0,"",VLOOKUP($C68,'Control Sample Data'!$C$291:$M$386,8,FALSE))) | W68: =IF($C68="","",IF(VLOOKUP($C68,'Control Sample Data'!$C$291:$M$386,9,FALSE)=0,"",VLOOKUP($C68,'Control Sample Data'!$C$291:$M$386,9,FALSE))) | X68: =IF($C68="","",IF(VLOOKUP($C68,'Control Sample Data'!$C$291:$M$386,10,FALSE)=0,"",VLOOKUP($C68,'Control Sample Data'!$C$291:$M$386,10,FALSE))) | Y68: =IF($C68="","",IF(VLOOKUP($C68,'Control Sample Data'!$C$291:$M$386,11,FALSE)=0,"",VLOOKUP($C68,'Control Sample Data'!$C$291:$M$386,11,FALSE)))
