Workbook
Name new: [1]newLot!$E$5:$E$132
Name old: [1]oldLot!$E$5:$E$132

Sheet Instructions
A2: Instructions for using the analysis worksheets Important notes: 1. Data cells are yellow. You can change and input values in these cells. 2. Formulas cells are gray or white. Please do not touch these cells. They contain formulas for calculation use. 3. A set of sample data is displayed for illustration purpose. Follow the instruction and replace sample data with your array info and experimental Ct values. 4. To ensure the best performance, use GeneCopoeia recommended and supported reagents. Test sample data: input test sample Ct values (see example) 1. Yellow cells: copy and paste your test sample Ct values by clicking “paste special” then selecting “paste values” 2. Up to 10 replicated samples’ Ct values can be uploaded Control sample data: input control sample Ct values 1. Yellow cells: copy and paste your control sample Ct values by clicking “paste special” then selecting “paste values” 2. Up to 10 replicated samples’ Ct values can be uploaded Normalization: choose housekeeping genes 1. Yellow cells: type the gene symbols of housekeeping (HK) genes that will be used for normalization. 2. Up to 20 HK genes can be used. Results: display fold difference 1. The fold changes of the differential expression (test vs. control) are displayed here automatically. 2. T-test p values will be automatically displayed if sample replicates are included. 3D plot: Illustrate fold difference in 3D 1. Up-regulation: z-axis values >1 2. Down-regulation: z-axis values <1 3. The title of each axis can be changed by clicking and editing it Scatter plot: Display fold change with defined threshold 1. Graphs the expression level ((2 ^ (-ΔCt)) of each gene (control vs. test). 2. Black line: indicates fold change ((2 ^ (-ΔΔCt)) of 1, which means no change. 3. Yellow cell: enter and define your desired threshold of fold change. 4. Pink line: indicates the desired threshold of fold change. 5. The scale and title of each axis can be adjusted and edited by clicking and reformatting it. 6. Note: ΔCt = Ct (GOI) – avg. (Ct (HKG)). GOI stands for each gene of interest. HKG stands for the housekeeping genes. Volcano plot: Display fold change with defined threshold and p-value 1. Yellow cells: define threshold of fold change and p-value 2. Black line: indicates fold change of 1. 3. Pink line: indicates the desired threshold of fold change 4. Blue line: indicates the desired p value of the t-test threshold. 5. The scale and title of each axis can be adjusted and edited. QC report: display the analysis of array control wells 1. Display analysis of PCR, RT and GDC control wells.

Sheet Gene Table
A1: PCR Array Catalog # | D1: QG064
A2: Plate | B2: Position | C2: Catalog # | D2: Accession No. of Gene | E2: Symbol
A3: Plate 1 | B3: A01 | C3: HQP001136 | D3: NM_000015 | E3: NAT2
B4: A02 | C4: HQP018562 | D4: NM_006297 | E4: XRCC1
B5: A03 | C5: HQP018175 | D5: NM_000546 | E5: TP53
B6: A04 | C6: HQP004976 | D6: NM_000400 | E6: ERCC2
B7: A05 | C7: HQP018564 | D7: NM_005432 | E7: XRCC3
B8: A06 | C8: HQP023467 | D8: NM_000662 | E8: NAT1
B9: A07 | C9: HQP011547 | D9: NM_005957 | E9: MTHFR
B10: A08 | C10: HQP003772 | D10: NM_000499 | E10: CYP1A1
B11: A09 | C11: HQP018556 | D11: NM_004628 | E11: XPC
B12: A10 | C12: HQP005434 | D12: NM_000142 | E12: FGFR3
B13: A11 | C13: HQP012021 | D13: NM_002542 | E13: OGG1
B14: A12 | C14: HQP004317 | D14: NM_000903 | E14: NQO1
B15: B01 | C15: HQP009061 | D15: NM_001641 | E15: APEX1
... B98: H12 | C98: PCR | D98: PCR | E98: PCR
A99: Plate 2 | B99: A01 | C99: HQP013614 | D99: NM_007120 | E99: UGT1A4
B100: A02 | C100: HQP013352 | D100: NM_000535 | E100: PMS2
B101: A03 | C101: HQP013312 | D101: NM_000534 | E101: PMS1
B102: A04 | C102: HQP011597 | D102: NM_002467 | E102: MYC
B103: A05 | C103: HQP011492 | D103: NM_002439 | E103: MSH3
B104: A06 | C104: HQP011266 | D104: NM_002426 | E104: MMP12
B105: A07 | C105: HQP011262 | D105: NM_002424 | E105: MMP8
B106: A08 | C106: HQP011256 | D106: NM_004530 | E106: MMP2
B107: A09 | C107: HQP010924 | D107: NM_001668 | E107: ARNT
B108: A10 | C108: HQP010612 | D108: NM_013975 | E108: LIG3
B109: A11 | C109: HQP009801 | D109: NM_000044 | E109: AR
B110: A12 | C110: HQP009692 | D110: NM_000882 | E110: IL12A
B111: B01 | C111: HQP009671 | D111: NM_000639 | E111: FASLG
... B194: H12 | C194: PCR | D194: PCR | E194: PCR
A195: Plate 3 | B195: A01 | C195: HQP019768 | D195: NM_130445 | E195: COL18A1
B196: A02 | C196: HQP019764 | D196: NM_030578 | E196: MGC4093
B197: A03 | C197: HQP019689 | D197: NM_001042529 | E197: COASY
B198: A04 | C198: HQP019452 | D198: NM_001742 | E198: CALCR
B199: A05 | C199: HQP018747 | D199: NM_013309 | E199: SLC30A4
B200: A06 | C200: HQP018739 | D200: NM_006300 | E200: ZNF230
B201: A07 | C201: HQP018550 | D201: NM_001079539 | E201: XBP1
B202: A08 | C202: HQP018545 | D202: NM_000553 | E202: WRN
B203: A09 | C203: HQP018488 | D203: NM_003379 | E203: VIL2
B204: A10 | C204: HQP018466 | D204: NM_080682 | E204: VCAM1
...

Sheet Test Sample Data
A1: Plate | B1: Accession No. of Gene | C1: Well | D1: =Results!D2 -> Test Sample | Q1: Ct Range | R1: Distribution of Ct Values | AB1: AVG | AC1: STD
D2: exp1 | E2: exp2 | F2: exp3 | G2: exp4 | H2: exp5 | I2: exp6 | J2: exp7 | K2: exp8 | L2: exp9 | M2: exp10 | N2: AVG | O2: SD | R2: exp1 | S2: exp2 | T2: exp3 | U2: exp4 | V2: exp5 | W2: exp6 | X2: exp7 | Y2: exp8 | Z2: exp9 | AA2: exp10
A3: ='Gene Table'!A3 -> Plate 1 | B3: ='Gene Table'!D3 -> NM_000015 | C3: A01 | N3: =AVERAGE(Calculations!D4:M4) -> #DIV/0! | O3: =STDEV(Calculations!D4:M4) -> #DIV/0! | Q3: <25 | R3: =IF(COUNTIF(D$3:D$482,"<35")=0,"",COUNTIF(D$3:D$482,"<25")) | S3: =IF(COUNTIF(E$3:E$482,"<35")=0,"",COUNTIF(E$3:E$482,"<25")) | T3: =IF(COUNTIF(F$3:F$482,"<35")=0,"",COUNTIF(F$3:F$482,"<25")) | U3: =IF(COUNTIF(G$3:G$482,"<35")=0,"",COUNTIF(G$3:G$482,"<25")) | V3: =IF(COUNTIF(H$3:H$482,"<35")=0,"",COUNTIF(H$3:H$482,"<25")) | W3: =IF(COUNTIF(I$3:I$482,"<35")=0,"",COUNTIF(I$3:I$482,"<25")) | X3: =IF(COUNTIF(J$3:J$482,"<35")=0,"",COUNTIF(J$3:J$482,"<25")) | Y3: =IF(COUNTIF(K$3:K$482,"<35")=0,"",COUNTIF(K$3:K$482,"<25")) | ... AA3: =IF(COUNTIF(M$3:M$482,"<35")=0,"",COUNTIF(M$3:M$482,"<25")) | AB3: =AVERAGE(R3:AA3) -> #DIV/0! | AC3: =STDEV(R3:AA3) -> #DIV/0!
B4: ='Gene Table'!D4 -> NM_006297 | C4: A02 | N4: =AVERAGE(Calculations!D5:M5) -> #DIV/0! | O4: =STDEV(Calculations!D5:M5) -> #DIV/0! | Q4: 25-30 | R4: =IF(COUNTIF(D$3:D$482,"<35")=0,"",COUNTIF(D$3:D$482,"<30")-R3) | S4: =IF(COUNTIF(E$3:E$482,"<35")=0,"",COUNTIF(E$3:E$482,"<30")-S3) | T4: =IF(COUNTIF(F$3:F$482,"<35")=0,"",COUNTIF(F$3:F$482,"<30")-T3) | U4: =IF(COUNTIF(G$3:G$482,"<35")=0,"",COUNTIF(G$3:G$482,"<30")-U3) | V4: =IF(COUNTIF(H$3:H$482,"<35")=0,"",COUNTIF(H$3:H$482,"<30")-V3) | W4: =IF(COUNTIF(I$3:I$482,"<35")=0,"",COUNTIF(I$3:I$482,"<30")-W3) | X4: =IF(COUNTIF(J$3:J$482,"<35")=0,"",COUNTIF(J$3:J$482,"<30")-X3) | Y4: =IF(COUNTIF(K$3:K$482,"<35")=0,"",COUNTIF(K$3:K$482,"<30")-Y3) | ... AA4: =IF(COUNTIF(M$3:M$482,"<35")=0,"",COUNTIF(M$3:M$482,"<30")-AA3) | AB4: =AVERAGE(R4:AA4) -> #DIV/0! | AC4: =STDEV(R4:AA4) -> #DIV/0!
B5: ='Gene Table'!D5 -> NM_000546 | C5: A03 | N5: =AVERAGE(Calculations!D6:M6) -> #DIV/0! | O5: =STDEV(Calculations!D6:M6) -> #DIV/0! | Q5: 30-35 | R5: =IF(COUNTIF(D$3:D$482,"<35")=0,"",COUNTIF(D$3:D$482,"<35")-SUM(R3:R4)) | S5: =IF(COUNTIF(E$3:E$482,"<35")=0,"",COUNTIF(E$3:E$482,"<35")-SUM(S3:S4)) | T5: =IF(COUNTIF(F$3:F$482,"<35")=0,"",COUNTIF(F$3:F$482,"<35")-SUM(T3:T4)) | U5: =IF(COUNTIF(G$3:G$482,"<35")=0,"",COUNTIF(G$3:G$482,"<35")-SUM(U3:U4)) | V5: =IF(COUNTIF(H$3:H$482,"<35")=0,"",COUNTIF(H$3:H$482,"<35")-SUM(V3:V4)) | W5: =IF(COUNTIF(I$3:I$482,"<35")=0,"",COUNTIF(I$3:I$482,"<35")-SUM(W3:W4)) | X5: =IF(COUNTIF(J$3:J$482,"<35")=0,"",COUNTIF(J$3:J$482,"<35")-SUM(X3:X4)) | Y5: =IF(COUNTIF(K$3:K$482,"<35")=0,"",COUNTIF(K$3:K$482,"<35")-SUM(Y3:Y4)) | ... AA5: =IF(COUNTIF(M$3:M$482,"<35")=0,"",COUNTIF(M$3:M$482,"<35")-SUM(AA3:AA4)) | AB5: =AVERAGE(R5:AA5) -> #DIV/0! | AC5: =STDEV(R5:AA5) -> #DIV/0!
B6: ='Gene Table'!D6 -> NM_000400 | C6: A04 | N6: =AVERAGE(Calculations!D7:M7) -> #DIV/0! | O6: =STDEV(Calculations!D7:M7) -> #DIV/0! | Q6: Absent Calls | R6: =IF(COUNTIF(D$3:D$482,"<40")=0,"",COUNTIF(D$3:D$482,"N/A")+COUNTBLANK(D$3:D$482)+COUNTIF(D$3:D$482,">=35")+COUNTIF(D$3:D$482,"=0")+COUNTIF(D$3:D$482,"Undetermined")) | S6: =IF(COUNTIF(E$3:E$482,"<40")=0,"",COUNTIF(E$3:E$482,"N/A")+COUNTBLANK(E$3:E$482)+COUNTIF(E$3:E$482,">=35")+COUNTIF(E$3:E$482,"=0")+COUNTIF(E$3:E$482,"Undetermined")) | T6: =IF(COUNTIF(F$3:F$482,"<40")=0,"",COUNTIF(F$3:F$482,"N/A")+COUNTBLANK(F$3:F$482)+COUNTIF(F$3:F$482,">=35")+COUNTIF(F$3:F$482,"=0")+COUNTIF(F$3:F$482,"Undetermined")) | U6: =IF(COUNTIF(G$3:G$482,"<40")=0,"",COUNTIF(G$3:G$482,"N/A")+COUNTBLANK(G$3:G$482)+COUNTIF(G$3:G$482,">=35")+COUNTIF(G$3:G$482,"=0")+COUNTIF(G$3:G$482,"Undetermined")) | V6: =IF(COUNTIF(H$3:H$482,"<40")=0,"",COUNTIF(H$3:H$482,"N/A")+COUNTBLANK(H$3:H$482)+COUNTIF(H$3:H$482,">=35")+COUNTIF(H$3:H$482,"=0")+COUNTIF(H$3:H$482,"Undetermined")) | W6: =IF(COUNTIF(I$3:I$482,"<40")=0,"",COUNTIF(I$3:I$482,"N/A")+COUNTBLANK(I$3:I$482)+COUNTIF(I$3:I$482,">=35")+COUNTIF(I$3:I$482,"=0")+COUNTIF(I$3:I$482,"Undetermined")) | X6: =IF(COUNTIF(J$3:J$482,"<40")=0,"",COUNTIF(J$3:J$482,"N/A")+COUNTBLANK(J$3:J$482)+COUNTIF(J$3:J$482,">=35")+COUNTIF(J$3:J$482,"=0")+COUNTIF(J$3:J$482,"Undetermined")) | Y6: =IF(COUNTIF(K$3:K$482,"<40")=0,"",COUNTIF(K$3:K$482,"N/A")+COUNTBLANK(K$3:K$482)+COUNTIF(K$3:K$482,">=35")+COUNTIF(K$3:K$482,"=0")+COUNTIF(K$3:K$482,"Undetermined")) | ... AA6: =IF(COUNTIF(M$3:M$482,"<40")=0,"",COUNTIF(M$3:M$482,"N/A")+COUNTBLANK(M$3:M$482)+COUNTIF(M$3:M$482,">=35")+COUNTIF(M$3:M$482,"=0")+COUNTIF(M$3:M$482,"Undetermined")) | AB6: =AVERAGE(R6:AA6) -> #DIV/0! | AC6: =STDEV(R6:AA6) -> #DIV/0!
B7: ='Gene Table'!D7 -> NM_005432 | C7: A05 | N7: =AVERAGE(Calculations!D8:M8) -> #DIV/0! | O7: =STDEV(Calculations!D8:M8) -> #DIV/0! | Q7: Percent Distribution of Ct Values
B8: ='Gene Table'!D8 -> NM_000662 | C8: A06 | N8: =AVERAGE(Calculations!D9:M9) -> #DIV/0! | O8: =STDEV(Calculations!D9:M9) -> #DIV/0! | Q8: <25 | R8: =IF(R3="","",R3/SUM(R$3:R$6)) | S8: =IF(S3="","",S3/SUM(S$3:S$6)) | T8: =IF(T3="","",T3/SUM(T$3:T$6)) | U8: =IF(U3="","",U3/SUM(U$3:U$6)) | V8: =IF(V3="","",V3/SUM(V$3:V$6)) | W8: =IF(W3="","",W3/SUM(W$3:W$6)) | X8: =IF(X3="","",X3/SUM(X$3:X$6)) | Y8: =IF(Y3="","",Y3/SUM(Y$3:Y$6)) | ... AA8: =IF(AA3="","",AA3/SUM(AA$3:AA$6)) | AB8: =AVERAGE(R8:AA8) -> #DIV/0! | AC8: =STDEV(R8:AA8) -> #DIV/0!
B9: ='Gene Table'!D9 -> NM_005957 | C9: A07 | N9: =AVERAGE(Calculations!D10:M10) -> #DIV/0! | O9: =STDEV(Calculations!D10:M10) -> #DIV/0! | Q9: 25-30 | R9: =IF(R4="","",R4/SUM(R$3:R$6)) | S9: =IF(S4="","",S4/SUM(S$3:S$6)) | T9: =IF(T4="","",T4/SUM(T$3:T$6)) | U9: =IF(U4="","",U4/SUM(U$3:U$6)) | V9: =IF(V4="","",V4/SUM(V$3:V$6)) | W9: =IF(W4="","",W4/SUM(W$3:W$6)) | X9: =IF(X4="","",X4/SUM(X$3:X$6)) | Y9: =IF(Y4="","",Y4/SUM(Y$3:Y$6)) | ... AA9: =IF(AA4="","",AA4/SUM(AA$3:AA$6)) | AB9: =AVERAGE(R9:AA9) -> #DIV/0! | AC9: =STDEV(R9:AA9) -> #DIV/0!
B10: ='Gene Table'!D10 -> NM_000499 | C10: A08 | N10: =AVERAGE(Calculations!D11:M11) -> #DIV/0! | O10: =STDEV(Calculations!D11:M11) -> #DIV/0! | Q10: 30-35 | R10: =IF(R5="","",R5/SUM(R$3:R$6)) | S10: =IF(S5="","",S5/SUM(S$3:S$6)) | T10: =IF(T5="","",T5/SUM(T$3:T$6)) | U10: =IF(U5="","",U5/SUM(U$3:U$6)) | V10: =IF(V5="","",V5/SUM(V$3:V$6)) | W10: =IF(W5="","",W5/SUM(W$3:W$6)) | X10: =IF(X5="","",X5/SUM(X$3:X$6)) | Y10: =IF(Y5="","",Y5/SUM(Y$3:Y$6)) | ... AA10: =IF(AA5="","",AA5/SUM(AA$3:AA$6)) | AB10: =AVERAGE(R10:AA10) -> #DIV/0! | AC10: =STDEV(R10:AA10) -> #DIV/0!
B11: ='Gene Table'!D11 -> NM_004628 | C11: A09 | N11: =AVERAGE(Calculations!D12:M12) -> #DIV/0! | O11: =STDEV(Calculations!D12:M12) -> #DIV/0! | Q11: Absent Calls | R11: =IF(R6="","",R6/SUM(R$3:R$6)) | S11: =IF(S6="","",S6/SUM(S$3:S$6)) | T11: =IF(T6="","",T6/SUM(T$3:T$6)) | U11: =IF(U6="","",U6/SUM(U$3:U$6)) | V11: =IF(V6="","",V6/SUM(V$3:V$6)) | W11: =IF(W6="","",W6/SUM(W$3:W$6)) | X11: =IF(X6="","",X6/SUM(X$3:X$6)) | Y11: =IF(Y6="","",Y6/SUM(Y$3:Y$6)) | ... AA11: =IF(AA6="","",AA6/SUM(AA$3:AA$6)) | AB11: =AVERAGE(R11:AA11) -> #DIV/0! | AC11: =STDEV(R11:AA11) -> #DIV/0!
B12: ='Gene Table'!D12 -> NM_000142 | C12: A10 | N12: =AVERAGE(Calculations!D13:M13) -> #DIV/0! | O12: =STDEV(Calculations!D13:M13) -> #DIV/0!
B13: ='Gene Table'!D13 -> NM_002542 | C13: A11 | N13: =AVERAGE(Calculations!D14:M14) -> #DIV/0! | O13: =STDEV(Calculations!D14:M14) -> #DIV/0!
B14: ='Gene Table'!D14 -> NM_000903 | C14: A12 | N14: =AVERAGE(Calculations!D15:M15) -> #DIV/0! | O14: =STDEV(Calculations!D15:M15) -> #DIV/0!
B15: ='Gene Table'!D15 -> NM_001641 | C15: B01 | N15: =AVERAGE(Calculations!D16:M16) -> #DIV/0! | O15: =STDEV(Calculations!D16:M16) -> #DIV/0!
B16: ='Gene Table'!D16 -> NM_000594 | C16: B02 | N16: =AVERAGE(Calculations!D17:M17) -> #DIV/0! | O16: =STDEV(Calculations!D17:M17) -> #DIV/0!
B17: ='Gene Table'!D17 -> NM_053056 | C17: B03 | N17: =AVERAGE(Calculations!D18:M18) -> #DIV/0! | O17: =STDEV(Calculations!D18:M18) -> #DIV/0!
B18: ='Gene Table'!D18 -> NM_000123 | C18: B04 | N18: =AVERAGE(Calculations!D19:M19) -> #DIV/0! | O18: =STDEV(Calculations!D19:M19) -> #DIV/0!
B19: ='Gene Table'!D19 -> NM_177536 | C19: B05 | N19: =AVERAGE(Calculations!D20:M20) -> #DIV/0! | O19: =STDEV(Calculations!D20:M20) -> #DIV/0!
B20: ='Gene Table'!D20 -> NM_000636 | C20: B06 | N20: =AVERAGE(Calculations!D21:M21) -> #DIV/0! | O20: =STDEV(Calculations!D21:M21) -> #DIV/0!
B21: ='Gene Table'!D21 -> NM_002485 | C21: B07 | N21: =AVERAGE(Calculations!D22:M22) -> #DIV/0! | O21: =STDEV(Calculations!D22:M22) -> #DIV/0!
B22: ='Gene Table'!D22 -> NM_000254 | C22: B08 | N22: =AVERAGE(Calculations!D23:M23) -> #DIV/0! | O22: =STDEV(Calculations!D23:M23) -> #DIV/0!
B23: ='Gene Table'!D23 -> NM_002392 | C23: B09 | N23: =AVERAGE(Calculations!D24:M24) -> #DIV/0! | O23: =STDEV(Calculations!D24:M24) -> #DIV/0!
... B98: ='Gene Table'!D98 -> PCR | C98: H12 | N98: =AVERAGE(Calculations!D99:M99) -> #DIV/0! | O98: =STDEV(Calculations!D99:M99) -> #DIV/0!
A99: ='Gene Table'!A99 -> Plate 2 | B99: ='Gene Table'!D99 -> NM_007120 | C99: A01 | N99: =AVERAGE(Calculations!D100:M100) -> #DIV/0! | O99: =STDEV(Calculations!D100:M100) -> #DIV/0!
B100: ='Gene Table'!D100 -> NM_000535 | C100: A02 | N100: =AVERAGE(Calculations!D101:M101) -> #DIV/0! | O100: =STDEV(Calculations!D101:M101) -> #DIV/0!
B101: ='Gene Table'!D101 -> NM_000534 | C101: A03 | N101: =AVERAGE(Calculations!D102:M102) -> #DIV/0! | O101: =STDEV(Calculations!D102:M102) -> #DIV/0!
B102: ='Gene Table'!D102 -> NM_002467 | C102: A04 | N102: =AVERAGE(Calculations!D103:M103) -> #DIV/0! | O102: =STDEV(Calculations!D103:M103) -> #DIV/0!
B103: ='Gene Table'!D103 -> NM_002439 | C103: A05 | N103: =AVERAGE(Calculations!D104:M104) -> #DIV/0! | O103: =STDEV(Calculations!D104:M104) -> #DIV/0!
B104: ='Gene Table'!D104 -> NM_002426 | C104: A06 | N104: =AVERAGE(Calculations!D105:M105) -> #DIV/0! | O104: =STDEV(Calculations!D105:M105) -> #DIV/0!
B105: ='Gene Table'!D105 -> NM_002424 | C105: A07 | N105: =AVERAGE(Calculations!D106:M106) -> #DIV/0! | O105: =STDEV(Calculations!D106:M106) -> #DIV/0!
B106: ='Gene Table'!D106 -> NM_004530 | C106: A08 | N106: =AVERAGE(Calculations!D107:M107) -> #DIV/0! | O106: =STDEV(Calculations!D107:M107) -> #DIV/0!
B107: ='Gene Table'!D107 -> NM_001668 | C107: A09 | N107: =AVERAGE(Calculations!D108:M108) -> #DIV/0! | O107: =STDEV(Calculations!D108:M108) -> #DIV/0!
B108: ='Gene Table'!D108 -> NM_013975 | C108: A10 | N108: =AVERAGE(Calculations!D109:M109) -> #DIV/0! | O108: =STDEV(Calculations!D109:M109) -> #DIV/0!
B109: ='Gene Table'!D109 -> NM_000044 | C109: A11 | N109: =AVERAGE(Calculations!D110:M110) -> #DIV/0! | O109: =STDEV(Calculations!D110:M110) -> #DIV/0!
B110: ='Gene Table'!D110 -> NM_000882 | C110: A12 | N110: =AVERAGE(Calculations!D111:M111) -> #DIV/0! | O110: =STDEV(Calculations!D111:M111) -> #DIV/0!
B111: ='Gene Table'!D111 -> NM_000639 | C111: B01 | N111: =AVERAGE(Calculations!D112:M112) -> #DIV/0! | O111: =STDEV(Calculations!D112:M112) -> #DIV/0!
... B194: ='Gene Table'!D194 -> PCR | C194: H12 | N194: =AVERAGE(Calculations!D195:M195) -> #DIV/0! | O194: =STDEV(Calculations!D195:M195) -> #DIV/0!
A195: ='Gene Table'!A195 -> Plate 3 | B195: ='Gene Table'!D195 -> NM_130445 | C195: A01 | N195: =AVERAGE(Calculations!D196:M196) -> #DIV/0! | O195: =STDEV(Calculations!D196:M196) -> #DIV/0!
B196: ='Gene Table'!D196 -> NM_030578 | C196: A02 | N196: =AVERAGE(Calculations!D197:M197) -> #DIV/0! | O196: =STDEV(Calculations!D197:M197) -> #DIV/0!
...

Sheet Control Sample Data
A1: Plate | B1: Accession No. of Gene | C1: Well | D1: =Results!E2 -> Control Sample | Q1: Ct Range | R1: Distribution of Ct Values | AB1: AVG | AC1: STD
D2: exp1 | E2: exp2 | F2: exp3 | G2: exp4 | H2: exp5 | I2: exp6 | J2: exp7 | K2: exp8 | L2: exp9 | M2: exp10 | N2: AVG | O2: SD | R2: exp1 | S2: exp2 | T2: exp3 | U2: exp4 | V2: exp5 | W2: exp6 | X2: exp7 | Y2: exp8 | Z2: exp9 | AA2: exp10
A3: ='Gene Table'!A3 -> Plate 1 | B3: ='Gene Table'!D3 -> NM_000015 | C3: A01 | N3: =AVERAGE(Calculations!P4:Y4) -> #DIV/0! | O3: =STDEV(Calculations!P4:Y4) -> #DIV/0! | Q3: <25 | R3: =IF(COUNTIF(D$3:D$482,"<35")=0,"",COUNTIF(D$3:D$482,"<25")) | S3: =IF(COUNTIF(E$3:E$482,"<35")=0,"",COUNTIF(E$3:E$482,"<25")) | T3: =IF(COUNTIF(F$3:F$482,"<35")=0,"",COUNTIF(F$3:F$482,"<25")) | U3: =IF(COUNTIF(G$3:G$482,"<35")=0,"",COUNTIF(G$3:G$482,"<25")) | V3: =IF(COUNTIF(H$3:H$482,"<35")=0,"",COUNTIF(H$3:H$482,"<25")) | W3: =IF(COUNTIF(I$3:I$482,"<35")=0,"",COUNTIF(I$3:I$482,"<25")) | X3: =IF(COUNTIF(J$3:J$482,"<35")=0,"",COUNTIF(J$3:J$482,"<25")) | Y3: =IF(COUNTIF(K$3:K$482,"<35")=0,"",COUNTIF(K$3:K$482,"<25")) | ... AA3: =IF(COUNTIF(M$3:M$482,"<35")=0,"",COUNTIF(M$3:M$482,"<25")) | AB3: =AVERAGE(R3:AA3) -> #DIV/0! | AC3: =STDEV(R3:AA3) -> #DIV/0!
B4: ='Gene Table'!D4 -> NM_006297 | C4: A02 | N4: =AVERAGE(Calculations!P5:Y5) -> #DIV/0! | O4: =STDEV(Calculations!P5:Y5) -> #DIV/0! | Q4: 25-30 | R4: =IF(COUNTIF(D$3:D$482,"<35")=0,"",COUNTIF(D$3:D$482,"<30")-R3) | S4: =IF(COUNTIF(E$3:E$482,"<35")=0,"",COUNTIF(E$3:E$482,"<30")-S3) | T4: =IF(COUNTIF(F$3:F$482,"<35")=0,"",COUNTIF(F$3:F$482,"<30")-T3) | U4: =IF(COUNTIF(G$3:G$482,"<35")=0,"",COUNTIF(G$3:G$482,"<30")-U3) | V4: =IF(COUNTIF(H$3:H$482,"<35")=0,"",COUNTIF(H$3:H$482,"<30")-V3) | W4: =IF(COUNTIF(I$3:I$482,"<35")=0,"",COUNTIF(I$3:I$482,"<30")-W3) | X4: =IF(COUNTIF(J$3:J$482,"<35")=0,"",COUNTIF(J$3:J$482,"<30")-X3) | Y4: =IF(COUNTIF(K$3:K$482,"<35")=0,"",COUNTIF(K$3:K$482,"<30")-Y3) | ... AA4: =IF(COUNTIF(M$3:M$482,"<35")=0,"",COUNTIF(M$3:M$482,"<30")-AA3) | AB4: =AVERAGE(R4:AA4) -> #DIV/0! | AC4: =STDEV(R4:AA4) -> #DIV/0!
B5: ='Gene Table'!D5 -> NM_000546 | C5: A03 | N5: =AVERAGE(Calculations!P6:Y6) -> #DIV/0! | O5: =STDEV(Calculations!P6:Y6) -> #DIV/0! | Q5: 30-35 | R5: =IF(COUNTIF(D$3:D$482,"<35")=0,"",COUNTIF(D$3:D$482,"<35")-SUM(R3:R4)) | S5: =IF(COUNTIF(E$3:E$482,"<35")=0,"",COUNTIF(E$3:E$482,"<35")-SUM(S3:S4)) | T5: =IF(COUNTIF(F$3:F$482,"<35")=0,"",COUNTIF(F$3:F$482,"<35")-SUM(T3:T4)) | U5: =IF(COUNTIF(G$3:G$482,"<35")=0,"",COUNTIF(G$3:G$482,"<35")-SUM(U3:U4)) | V5: =IF(COUNTIF(H$3:H$482,"<35")=0,"",COUNTIF(H$3:H$482,"<35")-SUM(V3:V4)) | W5: =IF(COUNTIF(I$3:I$482,"<35")=0,"",COUNTIF(I$3:I$482,"<35")-SUM(W3:W4)) | X5: =IF(COUNTIF(J$3:J$482,"<35")=0,"",COUNTIF(J$3:J$482,"<35")-SUM(X3:X4)) | Y5: =IF(COUNTIF(K$3:K$482,"<35")=0,"",COUNTIF(K$3:K$482,"<35")-SUM(Y3:Y4)) | ... AA5: =IF(COUNTIF(M$3:M$482,"<35")=0,"",COUNTIF(M$3:M$482,"<35")-SUM(AA3:AA4)) | AB5: =AVERAGE(R5:AA5) -> #DIV/0! | AC5: =STDEV(R5:AA5) -> #DIV/0!
B6: ='Gene Table'!D6 -> NM_000400 | C6: A04 | N6: =AVERAGE(Calculations!P7:Y7) -> #DIV/0! | O6: =STDEV(Calculations!P7:Y7) -> #DIV/0! | Q6: Absent Calls | R6: =IF(COUNTIF(D$3:D$482,"<40")=0,"",COUNTIF(D$3:D$482,"N/A")+COUNTBLANK(D$3:D$482)+COUNTIF(D$3:D$482,">=35")+COUNTIF(D$3:D$482,"=0")+COUNTIF(D$3:D$482,"Undetermined")) | S6: =IF(COUNTIF(E$3:E$482,"<40")=0,"",COUNTIF(E$3:E$482,"N/A")+COUNTBLANK(E$3:E$482)+COUNTIF(E$3:E$482,">=35")+COUNTIF(E$3:E$482,"=0")+COUNTIF(E$3:E$482,"Undetermined")) | T6: =IF(COUNTIF(F$3:F$482,"<40")=0,"",COUNTIF(F$3:F$482,"N/A")+COUNTBLANK(F$3:F$482)+COUNTIF(F$3:F$482,">=35")+COUNTIF(F$3:F$482,"=0")+COUNTIF(F$3:F$482,"Undetermined")) | U6: =IF(COUNTIF(G$3:G$482,"<40")=0,"",COUNTIF(G$3:G$482,"N/A")+COUNTBLANK(G$3:G$482)+COUNTIF(G$3:G$482,">=35")+COUNTIF(G$3:G$482,"=0")+COUNTIF(G$3:G$482,"Undetermined")) | V6: =IF(COUNTIF(H$3:H$482,"<40")=0,"",COUNTIF(H$3:H$482,"N/A")+COUNTBLANK(H$3:H$482)+COUNTIF(H$3:H$482,">=35")+COUNTIF(H$3:H$482,"=0")+COUNTIF(H$3:H$482,"Undetermined")) | W6: =IF(COUNTIF(I$3:I$482,"<40")=0,"",COUNTIF(I$3:I$482,"N/A")+COUNTBLANK(I$3:I$482)+COUNTIF(I$3:I$482,">=35")+COUNTIF(I$3:I$482,"=0")+COUNTIF(I$3:I$482,"Undetermined")) | X6: =IF(COUNTIF(J$3:J$482,"<40")=0,"",COUNTIF(J$3:J$482,"N/A")+COUNTBLANK(J$3:J$482)+COUNTIF(J$3:J$482,">=35")+COUNTIF(J$3:J$482,"=0")+COUNTIF(J$3:J$482,"Undetermined")) | Y6: =IF(COUNTIF(K$3:K$482,"<40")=0,"",COUNTIF(K$3:K$482,"N/A")+COUNTBLANK(K$3:K$482)+COUNTIF(K$3:K$482,">=35")+COUNTIF(K$3:K$482,"=0")+COUNTIF(K$3:K$482,"Undetermined")) | ... AA6: =IF(COUNTIF(M$3:M$482,"<40")=0,"",COUNTIF(M$3:M$482,"N/A")+COUNTBLANK(M$3:M$482)+COUNTIF(M$3:M$482,">=35")+COUNTIF(M$3:M$482,"=0")+COUNTIF(M$3:M$482,"Undetermined")) | AB6: =AVERAGE(R6:AA6) -> #DIV/0! | AC6: =STDEV(R6:AA6) -> #DIV/0!
B7: ='Gene Table'!D7 -> NM_005432 | C7: A05 | N7: =AVERAGE(Calculations!P8:Y8) -> #DIV/0! | O7: =STDEV(Calculations!P8:Y8) -> #DIV/0! | Q7: Percent Distribution of Ct Values
B8: ='Gene Table'!D8 -> NM_000662 | C8: A06 | N8: =AVERAGE(Calculations!P9:Y9) -> #DIV/0! | O8: =STDEV(Calculations!P9:Y9) -> #DIV/0! | Q8: <25 | R8: =IF(R3="","",R3/SUM(R$3:R$6)) | S8: =IF(S3="","",S3/SUM(S$3:S$6)) | T8: =IF(T3="","",T3/SUM(T$3:T$6)) | U8: =IF(U3="","",U3/SUM(U$3:U$6)) | V8: =IF(V3="","",V3/SUM(V$3:V$6)) | W8: =IF(W3="","",W3/SUM(W$3:W$6)) | X8: =IF(X3="","",X3/SUM(X$3:X$6)) | Y8: =IF(Y3="","",Y3/SUM(Y$3:Y$6)) | ... AB8: =IF(AB3="","",AB3/SUM(AB$3:AB$6)) -> #DIV/0! | AC8: =STDEV(R8:AA8) -> #DIV/0!
B9: ='Gene Table'!D9 -> NM_005957 | C9: A07 | N9: =AVERAGE(Calculations!P10:Y10) -> #DIV/0! | O9: =STDEV(Calculations!P10:Y10) -> #DIV/0! | Q9: 25-30 | R9: =IF(R4="","",R4/SUM(R$3:R$6)) | S9: =IF(S4="","",S4/SUM(S$3:S$6)) | T9: =IF(T4="","",T4/SUM(T$3:T$6)) | U9: =IF(U4="","",U4/SUM(U$3:U$6)) | V9: =IF(V4="","",V4/SUM(V$3:V$6)) | W9: =IF(W4="","",W4/SUM(W$3:W$6)) | X9: =IF(X4="","",X4/SUM(X$3:X$6)) | Y9: =IF(Y4="","",Y4/SUM(Y$3:Y$6)) | ... AB9: =IF(AB4="","",AB4/SUM(AB$3:AB$6)) -> #DIV/0! | AC9: =STDEV(R9:AA9) -> #DIV/0!
B10: ='Gene Table'!D10 -> NM_000499 | C10: A08 | N10: =AVERAGE(Calculations!P11:Y11) -> #DIV/0! | O10: =STDEV(Calculations!P11:Y11) -> #DIV/0! | Q10: 30-35 | R10: =IF(R5="","",R5/SUM(R$3:R$6)) | S10: =IF(S5="","",S5/SUM(S$3:S$6)) | T10: =IF(T5="","",T5/SUM(T$3:T$6)) | U10: =IF(U5="","",U5/SUM(U$3:U$6)) | V10: =IF(V5="","",V5/SUM(V$3:V$6)) | W10: =IF(W5="","",W5/SUM(W$3:W$6)) | X10: =IF(X5="","",X5/SUM(X$3:X$6)) | Y10: =IF(Y5="","",Y5/SUM(Y$3:Y$6)) | ... AB10: =IF(AB5="","",AB5/SUM(AB$3:AB$6)) -> #DIV/0! | AC10: =STDEV(R10:AA10) -> #DIV/0!
B11: ='Gene Table'!D11 -> NM_004628 | C11: A09 | N11: =AVERAGE(Calculations!P12:Y12) -> #DIV/0! | O11: =STDEV(Calculations!P12:Y12) -> #DIV/0! | Q11: Absent Calls | R11: =IF(R6="","",R6/SUM(R$3:R$6)) | S11: =IF(S6="","",S6/SUM(S$3:S$6)) | T11: =IF(T6="","",T6/SUM(T$3:T$6)) | U11: =IF(U6="","",U6/SUM(U$3:U$6)) | V11: =IF(V6="","",V6/SUM(V$3:V$6)) | W11: =IF(W6="","",W6/SUM(W$3:W$6)) | X11: =IF(X6="","",X6/SUM(X$3:X$6)) | Y11: =IF(Y6="","",Y6/SUM(Y$3:Y$6)) | ... AB11: =IF(AB6="","",AB6/SUM(AB$3:AB$6)) -> #DIV/0! | AC11: =STDEV(R11:AA11) -> #DIV/0!
B12: ='Gene Table'!D12 -> NM_000142 | C12: A10 | N12: =AVERAGE(Calculations!P13:Y13) -> #DIV/0! | O12: =STDEV(Calculations!P13:Y13) -> #DIV/0!
B13: ='Gene Table'!D13 -> NM_002542 | C13: A11 | N13: =AVERAGE(Calculations!P14:Y14) -> #DIV/0! | O13: =STDEV(Calculations!P14:Y14) -> #DIV/0!
B14: ='Gene Table'!D14 -> NM_000903 | C14: A12 | N14: =AVERAGE(Calculations!P15:Y15) -> #DIV/0! | O14: =STDEV(Calculations!P15:Y15) -> #DIV/0!
B15: ='Gene Table'!D15 -> NM_001641 | C15: B01 | N15: =AVERAGE(Calculations!P16:Y16) -> #DIV/0! | O15: =STDEV(Calculations!P16:Y16) -> #DIV/0!
B16: ='Gene Table'!D16 -> NM_000594 | C16: B02 | N16: =AVERAGE(Calculations!P17:Y17) -> #DIV/0! | O16: =STDEV(Calculations!P17:Y17) -> #DIV/0!
B17: ='Gene Table'!D17 -> NM_053056 | C17: B03 | N17: =AVERAGE(Calculations!P18:Y18) -> #DIV/0! | O17: =STDEV(Calculations!P18:Y18) -> #DIV/0!
B18: ='Gene Table'!D18 -> NM_000123 | C18: B04 | N18: =AVERAGE(Calculations!P19:Y19) -> #DIV/0! | O18: =STDEV(Calculations!P19:Y19) -> #DIV/0!
B19: ='Gene Table'!D19 -> NM_177536 | C19: B05 | N19: =AVERAGE(Calculations!P20:Y20) -> #DIV/0! | O19: =STDEV(Calculations!P20:Y20) -> #DIV/0!
B20: ='Gene Table'!D20 -> NM_000636 | C20: B06 | N20: =AVERAGE(Calculations!P21:Y21) -> #DIV/0! | O20: =STDEV(Calculations!P21:Y21) -> #DIV/0!
B21: ='Gene Table'!D21 -> NM_002485 | C21: B07 | N21: =AVERAGE(Calculations!P22:Y22) -> #DIV/0! | O21: =STDEV(Calculations!P22:Y22) -> #DIV/0!
B22: ='Gene Table'!D22 -> NM_000254 | C22: B08 | N22: =AVERAGE(Calculations!P23:Y23) -> #DIV/0! | O22: =STDEV(Calculations!P23:Y23) -> #DIV/0!
B23: ='Gene Table'!D23 -> NM_002392 | C23: B09 | N23: =AVERAGE(Calculations!P24:Y24) -> #DIV/0! | O23: =STDEV(Calculations!P24:Y24) -> #DIV/0!
... B98: ='Gene Table'!D98 -> PCR | C98: H12 | N98: =AVERAGE(Calculations!P99:Y99) -> #DIV/0! | O98: =STDEV(Calculations!P99:Y99) -> #DIV/0!
A99: ='Gene Table'!A99 -> Plate 2 | B99: ='Gene Table'!D99 -> NM_007120 | C99: A01 | N99: =AVERAGE(Calculations!P100:Y100) -> #DIV/0! | O99: =STDEV(Calculations!P100:Y100) -> #DIV/0!
B100: ='Gene Table'!D100 -> NM_000535 | C100: A02 | N100: =AVERAGE(Calculations!P101:Y101) -> #DIV/0! | O100: =STDEV(Calculations!P101:Y101) -> #DIV/0!
B101: ='Gene Table'!D101 -> NM_000534 | C101: A03 | N101: =AVERAGE(Calculations!P102:Y102) -> #DIV/0! | O101: =STDEV(Calculations!P102:Y102) -> #DIV/0!
B102: ='Gene Table'!D102 -> NM_002467 | C102: A04 | N102: =AVERAGE(Calculations!P103:Y103) -> #DIV/0! | O102: =STDEV(Calculations!P103:Y103) -> #DIV/0!
B103: ='Gene Table'!D103 -> NM_002439 | C103: A05 | N103: =AVERAGE(Calculations!P104:Y104) -> #DIV/0! | O103: =STDEV(Calculations!P104:Y104) -> #DIV/0!
B104: ='Gene Table'!D104 -> NM_002426 | C104: A06 | N104: =AVERAGE(Calculations!P105:Y105) -> #DIV/0! | O104: =STDEV(Calculations!P105:Y105) -> #DIV/0!
B105: ='Gene Table'!D105 -> NM_002424 | C105: A07 | N105: =AVERAGE(Calculations!P106:Y106) -> #DIV/0! | O105: =STDEV(Calculations!P106:Y106) -> #DIV/0!
B106: ='Gene Table'!D106 -> NM_004530 | C106: A08 | N106: =AVERAGE(Calculations!P107:Y107) -> #DIV/0! | O106: =STDEV(Calculations!P107:Y107) -> #DIV/0!
B107: ='Gene Table'!D107 -> NM_001668 | C107: A09 | N107: =AVERAGE(Calculations!P108:Y108) -> #DIV/0! | O107: =STDEV(Calculations!P108:Y108) -> #DIV/0!
B108: ='Gene Table'!D108 -> NM_013975 | C108: A10 | N108: =AVERAGE(Calculations!P109:Y109) -> #DIV/0! | O108: =STDEV(Calculations!P109:Y109) -> #DIV/0!
B109: ='Gene Table'!D109 -> NM_000044 | C109: A11 | N109: =AVERAGE(Calculations!P110:Y110) -> #DIV/0! | O109: =STDEV(Calculations!P110:Y110) -> #DIV/0!
B110: ='Gene Table'!D110 -> NM_000882 | C110: A12 | N110: =AVERAGE(Calculations!P111:Y111) -> #DIV/0! | O110: =STDEV(Calculations!P111:Y111) -> #DIV/0!
B111: ='Gene Table'!D111 -> NM_000639 | C111: B01 | N111: =AVERAGE(Calculations!P112:Y112) -> #DIV/0! | O111: =STDEV(Calculations!P112:Y112) -> #DIV/0!
... B194: ='Gene Table'!D194 -> PCR | C194: H12 | N194: =AVERAGE(Calculations!P195:Y195) -> #DIV/0! | O194: =STDEV(Calculations!P195:Y195) -> #DIV/0!
A195: ='Gene Table'!A195 -> Plate 3 | B195: ='Gene Table'!D195 -> NM_130445 | C195: A01 | N195: =AVERAGE(Calculations!P196:Y196) -> #DIV/0! | O195: =STDEV(Calculations!P196:Y196) -> #DIV/0!
B196: ='Gene Table'!D196 -> NM_030578 | C196: A02 | N196: =AVERAGE(Calculations!P197:Y197) -> #DIV/0! | O196: =STDEV(Calculations!P197:Y197) -> #DIV/0!
...

Sheet Choose Housekeeping Genes
A1: Plate | B1: Housekeeping Gene Symbol | C1: Well | D1: =Results!D2 -> Test Sample | N1: Housekeeping Gene Symbol | O1: Well | P1: =Results!E2 -> Control Sample
D2: exp1 | E2: exp2 | F2: exp3 | G2: exp4 | H2: exp5 | I2: exp6 | J2: exp7 | K2: exp8 | L2: exp9 | M2: exp10 | P2: exp1 | Q2: exp2 | R2: exp3 | S2: exp4 | T2: exp5 | U2: exp6 | V2: exp7 | W2: exp8 | X2: exp9 | Y2: exp10
A3: Plate 1 | B3: =IF(C3="","",VLOOKUP(C3,'Gene Table'!B$3:D$98,2,FALSE)) -> HQP006940 | C3: H03 | D3: =IF(C3="","",IF(VLOOKUP($C3,'Test Sample Data'!$C$3:$M$98,2,FALSE)=0,"",VLOOKUP($C3,'Test Sample Data'!$C$3:$M$98,2,FALSE))) | E3: =IF(C3="","",IF(VLOOKUP($C3,'Test Sample Data'!$C$3:$M$98,3,FALSE)=0,"",VLOOKUP($C3,'Test Sample Data'!$C$3:$M$98,3,FALSE))) | F3: =IF(C3="","",IF(VLOOKUP($C3,'Test Sample Data'!$C$3:$M$98,4,FALSE)=0,"",VLOOKUP($C3,'Test Sample Data'!$C$3:$M$98,4,FALSE))) | G3: =IF(C3="","",IF(VLOOKUP($C3,'Test Sample Data'!$C$3:$M$98,5,FALSE)=0,"",VLOOKUP($C3,'Test Sample Data'!$C$3:$M$98,5,FALSE))) | H3: =IF(C3="","",IF(VLOOKUP($C3,'Test Sample Data'!$C$3:$M$98,6,FALSE)=0,"",VLOOKUP($C3,'Test Sample Data'!$C$3:$M$98,6,FALSE))) | I3: =IF(C3="","",IF(VLOOKUP($C3,'Test Sample Data'!$C$3:$M$98,7,FALSE)=0,"",VLOOKUP($C3,'Test Sample Data'!$C$3:$M$98,7,FALSE))) | J3: =IF(C3="","",IF(VLOOKUP($C3,'Test Sample Data'!$C$3:$M$98,8,FALSE)=0,"",VLOOKUP($C3,'Test Sample Data'!$C$3:$M$98,8,FALSE))) | K3: =IF(C3="","",IF(VLOOKUP($C3,'Test Sample Data'!$C$3:$M$98,9,FALSE)=0,"",VLOOKUP($C3,'Test Sample Data'!$C$3:$M$98,9,FALSE))) | L3: =IF(C3="","",IF(VLOOKUP($C3,'Test Sample Data'!$C$3:$M$98,10,FALSE)=0,"",VLOOKUP($C3,'Test Sample Data'!$C$3:$M$98,10,FALSE))) | M3: =IF(C3="","",IF(VLOOKUP($C3,'Test Sample Data'!$C$3:$M$98,11,FALSE)=0,"",VLOOKUP($C3,'Test Sample Data'!$C$3:$M$98,11,FALSE))) | N3: =IF(B3=0,"",B3) -> HQP006940 | O3: =IF('Choose Housekeeping Genes'!C3=0,"",'Choose Housekeeping Genes'!C3) -> H03 | P3: =IF(C3="","",IF(VLOOKUP($C3,'Control Sample Data'!$C$3:$M$98,2,FALSE)=0,"",VLOOKUP($C3,'Control Sample Data'!$C$3:$M$98,2,FALSE))) | Q3: =IF(C3="","",IF(VLOOKUP($C3,'Control Sample Data'!$C$3:$M$98,3,FALSE)=0,"",VLOOKUP($C3,'Control Sample Data'!$C$3:$M$98,3,FALSE))) | R3: =IF(C3="","",IF(VLOOKUP($C3,'Control Sample Data'!$C$3:$M$98,4,FALSE)=0,"",VLOOKUP($C3,'Control Sample Data'!$C$3:$M$98,4,FALSE))) | S3: =IF(C3="","",IF(VLOOKUP($C3,'Control Sample Data'!$C$3:$M$98,5,FALSE)=0,"",VLOOKUP($C3,'Control Sample Data'!$C$3:$M$98,5,FALSE))) | T3: =IF(C3="","",IF(VLOOKUP($C3,'Control Sample Data'!$C$3:$M$98,6,FALSE)=0,"",VLOOKUP($C3,'Control Sample Data'!$C$3:$M$98,6,FALSE))) | U3: =IF(C3="","",IF(VLOOKUP($C3,'Control Sample Data'!$C$3:$M$98,7,FALSE)=0,"",VLOOKUP($C3,'Control Sample Data'!$C$3:$M$98,7,FALSE))) | V3: =IF(C3="","",IF(VLOOKUP($C3,'Control Sample Data'!$C$3:$M$98,8,FALSE)=0,"",VLOOKUP($C3,'Control Sample Data'!$C$3:$M$98,8,FALSE))) | W3: =IF(C3="","",IF(VLOOKUP($C3,'Control Sample Data'!$C$3:$M$98,9,FALSE)=0,"",VLOOKUP($C3,'Control Sample Data'!$C$3:$M$98,9,FALSE))) | X3: =IF(C3="","",IF(VLOOKUP($C3,'Control Sample Data'!$C$3:$M$98,10,FALSE)=0,"",VLOOKUP($C3,'Control Sample Data'!$C$3:$M$98,10,FALSE))) | Y3: =IF(C3="","",IF(VLOOKUP($C3,'Control Sample Data'!$C$3:$M$98,11,FALSE)=0,"",VLOOKUP($C3,'Control Sample Data'!$C$3:$M$98,11,FALSE)))
B4: =IF(C4="","",VLOOKUP(C4,'Gene Table'!B$3:D$98,2,FALSE)) -> HQP016381 | C4: H04 | D4: =IF(C4="","",IF(VLOOKUP($C4,'Test Sample Data'!$C$3:$M$98,2,FALSE)=0,"",VLOOKUP($C4,'Test Sample Data'!$C$3:$M$98,2,FALSE))) | E4: =IF(C4="","",IF(VLOOKUP($C4,'Test Sample Data'!$C$3:$M$98,3,FALSE)=0,"",VLOOKUP($C4,'Test Sample Data'!$C$3:$M$98,3,FALSE))) | F4: =IF(C4="","",IF(VLOOKUP($C4,'Test Sample Data'!$C$3:$M$98,4,FALSE)=0,"",VLOOKUP($C4,'Test Sample Data'!$C$3:$M$98,4,FALSE))) | G4: =IF(C4="","",IF(VLOOKUP($C4,'Test Sample Data'!$C$3:$M$98,5,FALSE)=0,"",VLOOKUP($C4,'Test Sample Data'!$C$3:$M$98,5,FALSE))) | H4: =IF(C4="","",IF(VLOOKUP($C4,'Test Sample Data'!$C$3:$M$98,6,FALSE)=0,"",VLOOKUP($C4,'Test Sample Data'!$C$3:$M$98,6,FALSE))) | I4: =IF(C4="","",IF(VLOOKUP($C4,'Test Sample Data'!$C$3:$M$98,7,FALSE)=0,"",VLOOKUP($C4,'Test Sample Data'!$C$3:$M$98,7,FALSE))) | J4: =IF(C4="","",IF(VLOOKUP($C4,'Test Sample Data'!$C$3:$M$98,8,FALSE)=0,"",VLOOKUP($C4,'Test Sample Data'!$C$3:$M$98,8,FALSE))) | K4: =IF(C4="","",IF(VLOOKUP($C4,'Test Sample Data'!$C$3:$M$98,9,FALSE)=0,"",VLOOKUP($C4,'Test Sample Data'!$C$3:$M$98,9,FALSE))) | L4: =IF(C4="","",IF(VLOOKUP($C4,'Test Sample Data'!$C$3:$M$98,10,FALSE)=0,"",VLOOKUP($C4,'Test Sample Data'!$C$3:$M$98,10,FALSE))) | M4: =IF(C4="","",IF(VLOOKUP($C4,'Test Sample Data'!$C$3:$M$98,11,FALSE)=0,"",VLOOKUP($C4,'Test Sample Data'!$C$3:$M$98,11,FALSE))) | N4: =IF(B4=0,"",B4) -> HQP016381 | O4: =IF('Choose Housekeeping Genes'!C4=0,"",'Choose Housekeeping Genes'!C4) -> H04 | P4: =IF(C4="","",IF(VLOOKUP($C4,'Control Sample Data'!$C$3:$M$98,2,FALSE)=0,"",VLOOKUP($C4,'Control Sample Data'!$C$3:$M$98,2,FALSE))) | Q4: =IF(C4="","",IF(VLOOKUP($C4,'Control Sample Data'!$C$3:$M$98,3,FALSE)=0,"",VLOOKUP($C4,'Control Sample Data'!$C$3:$M$98,3,FALSE))) | R4: =IF(C4="","",IF(VLOOKUP($C4,'Control Sample Data'!$C$3:$M$98,4,FALSE)=0,"",VLOOKUP($C4,'Control Sample Data'!$C$3:$M$98,4,FALSE))) | S4: =IF(C4="","",IF(VLOOKUP($C4,'Control Sample Data'!$C$3:$M$98,5,FALSE)=0,"",VLOOKUP($C4,'Control Sample Data'!$C$3:$M$98,5,FALSE))) | T4: =IF(C4="","",IF(VLOOKUP($C4,'Control Sample Data'!$C$3:$M$98,6,FALSE)=0,"",VLOOKUP($C4,'Control Sample Data'!$C$3:$M$98,6,FALSE))) | U4: =IF(C4="","",IF(VLOOKUP($C4,'Control Sample Data'!$C$3:$M$98,7,FALSE)=0,"",VLOOKUP($C4,'Control Sample Data'!$C$3:$M$98,7,FALSE))) | V4: =IF(C4="","",IF(VLOOKUP($C4,'Control Sample Data'!$C$3:$M$98,8,FALSE)=0,"",VLOOKUP($C4,'Control Sample Data'!$C$3:$M$98,8,FALSE))) | W4: =IF(C4="","",IF(VLOOKUP($C4,'Control Sample Data'!$C$3:$M$98,9,FALSE)=0,"",VLOOKUP($C4,'Control Sample Data'!$C$3:$M$98,9,FALSE))) | X4: =IF(C4="","",IF(VLOOKUP($C4,'Control Sample Data'!$C$3:$M$98,10,FALSE)=0,"",VLOOKUP($C4,'Control Sample Data'!$C$3:$M$98,10,FALSE))) | Y4: =IF(C4="","",IF(VLOOKUP($C4,'Control Sample Data'!$C$3:$M$98,11,FALSE)=0,"",VLOOKUP($C4,'Control Sample Data'!$C$3:$M$98,11,FALSE)))
B5: =IF(C5="","",VLOOKUP(C5,'Gene Table'!B$3:D$98,2,FALSE)) -> HQP015171 | C5: H05 | D5: =IF(C5="","",IF(VLOOKUP($C5,'Test Sample Data'!$C$3:$M$98,2,FALSE)=0,"",VLOOKUP($C5,'Test Sample Data'!$C$3:$M$98,2,FALSE))) | E5: =IF(C5="","",IF(VLOOKUP($C5,'Test Sample Data'!$C$3:$M$98,3,FALSE)=0,"",VLOOKUP($C5,'Test Sample Data'!$C$3:$M$98,3,FALSE))) | F5: =IF(C5="","",IF(VLOOKUP($C5,'Test Sample Data'!$C$3:$M$98,4,FALSE)=0,"",VLOOKUP($C5,'Test Sample Data'!$C$3:$M$98,4,FALSE))) | G5: =IF(C5="","",IF(VLOOKUP($C5,'Test Sample Data'!$C$3:$M$98,5,FALSE)=0,"",VLOOKUP($C5,'Test Sample Data'!$C$3:$M$98,5,FALSE))) | H5: =IF(C5="","",IF(VLOOKUP($C5,'Test Sample Data'!$C$3:$M$98,6,FALSE)=0,"",VLOOKUP($C5,'Test Sample Data'!$C$3:$M$98,6,FALSE))) | I5: =IF(C5="","",IF(VLOOKUP($C5,'Test Sample Data'!$C$3:$M$98,7,FALSE)=0,"",VLOOKUP($C5,'Test Sample Data'!$C$3:$M$98,7,FALSE))) | J5: =IF(C5="","",IF(VLOOKUP($C5,'Test Sample Data'!$C$3:$M$98,8,FALSE)=0,"",VLOOKUP($C5,'Test Sample Data'!$C$3:$M$98,8,FALSE))) | K5: =IF(C5="","",IF(VLOOKUP($C5,'Test Sample Data'!$C$3:$M$98,9,FALSE)=0,"",VLOOKUP($C5,'Test Sample Data'!$C$3:$M$98,9,FALSE))) | L5: =IF(C5="","",IF(VLOOKUP($C5,'Test Sample Data'!$C$3:$M$98,10,FALSE)=0,"",VLOOKUP($C5,'Test Sample Data'!$C$3:$M$98,10,FALSE))) | M5: =IF(C5="","",IF(VLOOKUP($C5,'Test Sample Data'!$C$3:$M$98,11,FALSE)=0,"",VLOOKUP($C5,'Test Sample Data'!$C$3:$M$98,11,FALSE))) | N5: =IF(B5=0,"",B5) -> HQP015171 | O5: =IF('Choose Housekeeping Genes'!C5=0,"",'Choose Housekeeping Genes'!C5) -> H05 | P5: =IF(C5="","",IF(VLOOKUP($C5,'Control Sample Data'!$C$3:$M$98,2,FALSE)=0,"",VLOOKUP($C5,'Control Sample Data'!$C$3:$M$98,2,FALSE))) | Q5: =IF(C5="","",IF(VLOOKUP($C5,'Control Sample Data'!$C$3:$M$98,3,FALSE)=0,"",VLOOKUP($C5,'Control Sample Data'!$C$3:$M$98,3,FALSE))) | R5: =IF(C5="","",IF(VLOOKUP($C5,'Control Sample Data'!$C$3:$M$98,4,FALSE)=0,"",VLOOKUP($C5,'Control Sample Data'!$C$3:$M$98,4,FALSE))) | S5: =IF(C5="","",IF(VLOOKUP($C5,'Control Sample Data'!$C$3:$M$98,5,FALSE)=0,"",VLOOKUP($C5,'Control Sample Data'!$C$3:$M$98,5,FALSE))) | T5: =IF(C5="","",IF(VLOOKUP($C5,'Control Sample Data'!$C$3:$M$98,6,FALSE)=0,"",VLOOKUP($C5,'Control Sample Data'!$C$3:$M$98,6,FALSE))) | U5: =IF(C5="","",IF(VLOOKUP($C5,'Control Sample Data'!$C$3:$M$98,7,FALSE)=0,"",VLOOKUP($C5,'Control Sample Data'!$C$3:$M$98,7,FALSE))) | V5: =IF(C5="","",IF(VLOOKUP($C5,'Control Sample Data'!$C$3:$M$98,8,FALSE)=0,"",VLOOKUP($C5,'Control Sample Data'!$C$3:$M$98,8,FALSE))) | W5: =IF(C5="","",IF(VLOOKUP($C5,'Control Sample Data'!$C$3:$M$98,9,FALSE)=0,"",VLOOKUP($C5,'Control Sample Data'!$C$3:$M$98,9,FALSE))) | X5: =IF(C5="","",IF(VLOOKUP($C5,'Control Sample Data'!$C$3:$M$98,10,FALSE)=0,"",VLOOKUP($C5,'Control Sample Data'!$C$3:$M$98,10,FALSE))) | Y5: =IF(C5="","",IF(VLOOKUP($C5,'Control Sample Data'!$C$3:$M$98,11,FALSE)=0,"",VLOOKUP($C5,'Control Sample Data'!$C$3:$M$98,11,FALSE)))
B6: =IF(C6="","",VLOOKUP(C6,'Gene Table'!B$3:D$98,2,FALSE)) -> HQP006171 | C6: H06 | D6: =IF(C6="","",IF(VLOOKUP($C6,'Test Sample Data'!$C$3:$M$98,2,FALSE)=0,"",VLOOKUP($C6,'Test Sample Data'!$C$3:$M$98,2,FALSE))) | E6: =IF(C6="","",IF(VLOOKUP($C6,'Test Sample Data'!$C$3:$M$98,3,FALSE)=0,"",VLOOKUP($C6,'Test Sample Data'!$C$3:$M$98,3,FALSE))) | F6: =IF(C6="","",IF(VLOOKUP($C6,'Test Sample Data'!$C$3:$M$98,4,FALSE)=0,"",VLOOKUP($C6,'Test Sample Data'!$C$3:$M$98,4,FALSE))) | G6: =IF(C6="","",IF(VLOOKUP($C6,'Test Sample Data'!$C$3:$M$98,5,FALSE)=0,"",VLOOKUP($C6,'Test Sample Data'!$C$3:$M$98,5,FALSE))) | H6: =IF(C6="","",IF(VLOOKUP($C6,'Test Sample Data'!$C$3:$M$98,6,FALSE)=0,"",VLOOKUP($C6,'Test Sample Data'!$C$3:$M$98,6,FALSE))) | I6: =IF(C6="","",IF(VLOOKUP($C6,'Test Sample Data'!$C$3:$M$98,7,FALSE)=0,"",VLOOKUP($C6,'Test Sample Data'!$C$3:$M$98,7,FALSE))) | J6: =IF(C6="","",IF(VLOOKUP($C6,'Test Sample Data'!$C$3:$M$98,8,FALSE)=0,"",VLOOKUP($C6,'Test Sample Data'!$C$3:$M$98,8,FALSE))) | K6: =IF(C6="","",IF(VLOOKUP($C6,'Test Sample Data'!$C$3:$M$98,9,FALSE)=0,"",VLOOKUP($C6,'Test Sample Data'!$C$3:$M$98,9,FALSE))) | L6: =IF(C6="","",IF(VLOOKUP($C6,'Test Sample Data'!$C$3:$M$98,10,FALSE)=0,"",VLOOKUP($C6,'Test Sample Data'!$C$3:$M$98,10,FALSE))) | M6: =IF(C6="","",IF(VLOOKUP($C6,'Test Sample Data'!$C$3:$M$98,11,FALSE)=0,"",VLOOKUP($C6,'Test Sample Data'!$C$3:$M$98,11,FALSE))) | N6: =IF(B6=0,"",B6) -> HQP006171 | O6: =IF('Choose Housekeeping Genes'!C6=0,"",'Choose Housekeeping Genes'!C6) -> H06 | P6: =IF(C6="","",IF(VLOOKUP($C6,'Control Sample Data'!$C$3:$M$98,2,FALSE)=0,"",VLOOKUP($C6,'Control Sample Data'!$C$3:$M$98,2,FALSE))) | Q6: =IF(C6="","",IF(VLOOKUP($C6,'Control Sample Data'!$C$3:$M$98,3,FALSE)=0,"",VLOOKUP($C6,'Control Sample Data'!$C$3:$M$98,3,FALSE))) | R6: =IF(C6="","",IF(VLOOKUP($C6,'Control Sample Data'!$C$3:$M$98,4,FALSE)=0,"",VLOOKUP($C6,'Control Sample Data'!$C$3:$M$98,4,FALSE))) | S6: =IF(C6="","",IF(VLOOKUP($C6,'Control Sample Data'!$C$3:$M$98,5,FALSE)=0,"",VLOOKUP($C6,'Control Sample Data'!$C$3:$M$98,5,FALSE))) | T6: =IF(C6="","",IF(VLOOKUP($C6,'Control Sample Data'!$C$3:$M$98,6,FALSE)=0,"",VLOOKUP($C6,'Control Sample Data'!$C$3:$M$98,6,FALSE))) | U6: =IF(C6="","",IF(VLOOKUP($C6,'Control Sample Data'!$C$3:$M$98,7,FALSE)=0,"",VLOOKUP($C6,'Control Sample Data'!$C$3:$M$98,7,FALSE))) | V6: =IF(C6="","",IF(VLOOKUP($C6,'Control Sample Data'!$C$3:$M$98,8,FALSE)=0,"",VLOOKUP($C6,'Control Sample Data'!$C$3:$M$98,8,FALSE))) | W6: =IF(C6="","",IF(VLOOKUP($C6,'Control Sample Data'!$C$3:$M$98,9,FALSE)=0,"",VLOOKUP($C6,'Control Sample Data'!$C$3:$M$98,9,FALSE))) | X6: =IF(C6="","",IF(VLOOKUP($C6,'Control Sample Data'!$C$3:$M$98,10,FALSE)=0,"",VLOOKUP($C6,'Control Sample Data'!$C$3:$M$98,10,FALSE))) | Y6: =IF(C6="","",IF(VLOOKUP($C6,'Control Sample Data'!$C$3:$M$98,11,FALSE)=0,"",VLOOKUP($C6,'Control Sample Data'!$C$3:$M$98,11,FALSE)))
B7: =IF(C7="","",VLOOKUP(C7,'Gene Table'!B$3:D$98,2,FALSE)) -> HQP009026 | C7: H07 | D7: =IF(C7="","",IF(VLOOKUP($C7,'Test Sample Data'!$C$3:$M$98,2,FALSE)=0,"",VLOOKUP($C7,'Test Sample Data'!$C$3:$M$98,2,FALSE))) | E7: =IF(C7="","",IF(VLOOKUP($C7,'Test Sample Data'!$C$3:$M$98,3,FALSE)=0,"",VLOOKUP($C7,'Test Sample Data'!$C$3:$M$98,3,FALSE))) | F7: =IF(C7="","",IF(VLOOKUP($C7,'Test Sample Data'!$C$3:$M$98,4,FALSE)=0,"",VLOOKUP($C7,'Test Sample Data'!$C$3:$M$98,4,FALSE))) | G7: =IF(C7="","",IF(VLOOKUP($C7,'Test Sample Data'!$C$3:$M$98,5,FALSE)=0,"",VLOOKUP($C7,'Test Sample Data'!$C$3:$M$98,5,FALSE))) | H7: =IF(C7="","",IF(VLOOKUP($C7,'Test Sample Data'!$C$3:$M$98,6,FALSE)=0,"",VLOOKUP($C7,'Test Sample Data'!$C$3:$M$98,6,FALSE))) | I7: =IF(C7="","",IF(VLOOKUP($C7,'Test Sample Data'!$C$3:$M$98,7,FALSE)=0,"",VLOOKUP($C7,'Test Sample Data'!$C$3:$M$98,7,FALSE))) | J7: =IF(C7="","",IF(VLOOKUP($C7,'Test Sample Data'!$C$3:$M$98,8,FALSE)=0,"",VLOOKUP($C7,'Test Sample Data'!$C$3:$M$98,8,FALSE))) | K7: =IF(C7="","",IF(VLOOKUP($C7,'Test Sample Data'!$C$3:$M$98,9,FALSE)=0,"",VLOOKUP($C7,'Test Sample Data'!$C$3:$M$98,9,FALSE))) | L7: =IF(C7="","",IF(VLOOKUP($C7,'Test Sample Data'!$C$3:$M$98,10,FALSE)=0,"",VLOOKUP($C7,'Test Sample Data'!$C$3:$M$98,10,FALSE))) | M7: =IF(C7="","",IF(VLOOKUP($C7,'Test Sample Data'!$C$3:$M$98,11,FALSE)=0,"",VLOOKUP($C7,'Test Sample Data'!$C$3:$M$98,11,FALSE))) | N7: =IF(B7=0,"",B7) -> HQP009026 | O7: =IF('Choose Housekeeping Genes'!C7=0,"",'Choose Housekeeping Genes'!C7) -> H07 | P7: =IF(C7="","",IF(VLOOKUP($C7,'Control Sample Data'!$C$3:$M$98,2,FALSE)=0,"",VLOOKUP($C7,'Control Sample Data'!$C$3:$M$98,2,FALSE))) | Q7: =IF(C7="","",IF(VLOOKUP($C7,'Control Sample Data'!$C$3:$M$98,3,FALSE)=0,"",VLOOKUP($C7,'Control Sample Data'!$C$3:$M$98,3,FALSE))) | R7: =IF(C7="","",IF(VLOOKUP($C7,'Control Sample Data'!$C$3:$M$98,4,FALSE)=0,"",VLOOKUP($C7,'Control Sample Data'!$C$3:$M$98,4,FALSE))) | S7: =IF(C7="","",IF(VLOOKUP($C7,'Control Sample Data'!$C$3:$M$98,5,FALSE)=0,"",VLOOKUP($C7,'Control Sample Data'!$C$3:$M$98,5,FALSE))) | T7: =IF(C7="","",IF(VLOOKUP($C7,'Control Sample Data'!$C$3:$M$98,6,FALSE)=0,"",VLOOKUP($C7,'Control Sample Data'!$C$3:$M$98,6,FALSE))) | U7: =IF(C7="","",IF(VLOOKUP($C7,'Control Sample Data'!$C$3:$M$98,7,FALSE)=0,"",VLOOKUP($C7,'Control Sample Data'!$C$3:$M$98,7,FALSE))) | V7: =IF(C7="","",IF(VLOOKUP($C7,'Control Sample Data'!$C$3:$M$98,8,FALSE)=0,"",VLOOKUP($C7,'Control Sample Data'!$C$3:$M$98,8,FALSE))) | W7: =IF(C7="","",IF(VLOOKUP($C7,'Control Sample Data'!$C$3:$M$98,9,FALSE)=0,"",VLOOKUP($C7,'Control Sample Data'!$C$3:$M$98,9,FALSE))) | X7: =IF(C7="","",IF(VLOOKUP($C7,'Control Sample Data'!$C$3:$M$98,10,FALSE)=0,"",VLOOKUP($C7,'Control Sample Data'!$C$3:$M$98,10,FALSE))) | Y7: =IF(C7="","",IF(VLOOKUP($C7,'Control Sample Data'!$C$3:$M$98,11,FALSE)=0,"",VLOOKUP($C7,'Control Sample Data'!$C$3:$M$98,11,FALSE)))
B8: =IF(C8="","",VLOOKUP(C8,'Gene Table'!B$3:D$98,2,FALSE)) -> HQP054253 | C8: H08 | D8: =IF(C8="","",IF(VLOOKUP($C8,'Test Sample Data'!$C$3:$M$98,2,FALSE)=0,"",VLOOKUP($C8,'Test Sample Data'!$C$3:$M$98,2,FALSE))) | E8: =IF(C8="","",IF(VLOOKUP($C8,'Test Sample Data'!$C$3:$M$98,3,FALSE)=0,"",VLOOKUP($C8,'Test Sample Data'!$C$3:$M$98,3,FALSE))) | F8: =IF(C8="","",IF(VLOOKUP($C8,'Test Sample Data'!$C$3:$M$98,4,FALSE)=0,"",VLOOKUP($C8,'Test Sample Data'!$C$3:$M$98,4,FALSE))) | G8: =IF(C8="","",IF(VLOOKUP($C8,'Test Sample Data'!$C$3:$M$98,5,FALSE)=0,"",VLOOKUP($C8,'Test Sample Data'!$C$3:$M$98,5,FALSE))) | H8: =IF(C8="","",IF(VLOOKUP($C8,'Test Sample Data'!$C$3:$M$98,6,FALSE)=0,"",VLOOKUP($C8,'Test Sample Data'!$C$3:$M$98,6,FALSE))) | I8: =IF(C8="","",IF(VLOOKUP($C8,'Test Sample Data'!$C$3:$M$98,7,FALSE)=0,"",VLOOKUP($C8,'Test Sample Data'!$C$3:$M$98,7,FALSE))) | J8: =IF(C8="","",IF(VLOOKUP($C8,'Test Sample Data'!$C$3:$M$98,8,FALSE)=0,"",VLOOKUP($C8,'Test Sample Data'!$C$3:$M$98,8,FALSE))) | K8: =IF(C8="","",IF(VLOOKUP($C8,'Test Sample Data'!$C$3:$M$98,9,FALSE)=0,"",VLOOKUP($C8,'Test Sample Data'!$C$3:$M$98,9,FALSE))) | L8: =IF(C8="","",IF(VLOOKUP($C8,'Test Sample Data'!$C$3:$M$98,10,FALSE)=0,"",VLOOKUP($C8,'Test Sample Data'!$C$3:$M$98,10,FALSE))) | M8: =IF(C8="","",IF(VLOOKUP($C8,'Test Sample Data'!$C$3:$M$98,11,FALSE)=0,"",VLOOKUP($C8,'Test Sample Data'!$C$3:$M$98,11,FALSE))) | N8: =IF(B8=0,"",B8) -> HQP054253 | O8: =IF('Choose Housekeeping Genes'!C8=0,"",'Choose Housekeeping Genes'!C8) -> H08 | P8: =IF(C8="","",IF(VLOOKUP($C8,'Control Sample Data'!$C$3:$M$98,2,FALSE)=0,"",VLOOKUP($C8,'Control Sample Data'!$C$3:$M$98,2,FALSE))) | Q8: =IF(C8="","",IF(VLOOKUP($C8,'Control Sample Data'!$C$3:$M$98,3,FALSE)=0,"",VLOOKUP($C8,'Control Sample Data'!$C$3:$M$98,3,FALSE))) | R8: =IF(C8="","",IF(VLOOKUP($C8,'Control Sample Data'!$C$3:$M$98,4,FALSE)=0,"",VLOOKUP($C8,'Control Sample Data'!$C$3:$M$98,4,FALSE))) | S8: =IF(C8="","",IF(VLOOKUP($C8,'Control Sample Data'!$C$3:$M$98,5,FALSE)=0,"",VLOOKUP($C8,'Control Sample Data'!$C$3:$M$98,5,FALSE))) | T8: =IF(C8="","",IF(VLOOKUP($C8,'Control Sample Data'!$C$3:$M$98,6,FALSE)=0,"",VLOOKUP($C8,'Control Sample Data'!$C$3:$M$98,6,FALSE))) | U8: =IF(C8="","",IF(VLOOKUP($C8,'Control Sample Data'!$C$3:$M$98,7,FALSE)=0,"",VLOOKUP($C8,'Control Sample Data'!$C$3:$M$98,7,FALSE))) | V8: =IF(C8="","",IF(VLOOKUP($C8,'Control Sample Data'!$C$3:$M$98,8,FALSE)=0,"",VLOOKUP($C8,'Control Sample Data'!$C$3:$M$98,8,FALSE))) | W8: =IF(C8="","",IF(VLOOKUP($C8,'Control Sample Data'!$C$3:$M$98,9,FALSE)=0,"",VLOOKUP($C8,'Control Sample Data'!$C$3:$M$98,9,FALSE))) | X8: =IF(C8="","",IF(VLOOKUP($C8,'Control Sample Data'!$C$3:$M$98,10,FALSE)=0,"",VLOOKUP($C8,'Control Sample Data'!$C$3:$M$98,10,FALSE))) | Y8: =IF(C8="","",IF(VLOOKUP($C8,'Control Sample Data'!$C$3:$M$98,11,FALSE)=0,"",VLOOKUP($C8,'Control Sample Data'!$C$3:$M$98,11,FALSE)))
B9: =IF(C9="","",VLOOKUP(C9,'Gene Table'!B$3:D$98,2,FALSE)) | D9: =IF(C9="","",IF(VLOOKUP($C9,'Test Sample Data'!$C$3:$M$98,2,FALSE)=0,"",VLOOKUP($C9,'Test Sample Data'!$C$3:$M$98,2,FALSE))) | E9: =IF(C9="","",IF(VLOOKUP($C9,'Test Sample Data'!$C$3:$M$98,3,FALSE)=0,"",VLOOKUP($C9,'Test Sample Data'!$C$3:$M$98,3,FALSE))) | F9: =IF(C9="","",IF(VLOOKUP($C9,'Test Sample Data'!$C$3:$M$98,4,FALSE)=0,"",VLOOKUP($C9,'Test Sample Data'!$C$3:$M$98,4,FALSE))) | G9: =IF(C9="","",IF(VLOOKUP($C9,'Test Sample Data'!$C$3:$M$98,5,FALSE)=0,"",VLOOKUP($C9,'Test Sample Data'!$C$3:$M$98,5,FALSE))) | H9: =IF(C9="","",IF(VLOOKUP($C9,'Test Sample Data'!$C$3:$M$98,6,FALSE)=0,"",VLOOKUP($C9,'Test Sample Data'!$C$3:$M$98,6,FALSE))) | I9: =IF(C9="","",IF(VLOOKUP($C9,'Test Sample Data'!$C$3:$M$98,7,FALSE)=0,"",VLOOKUP($C9,'Test Sample Data'!$C$3:$M$98,7,FALSE))) | J9: =IF(C9="","",IF(VLOOKUP($C9,'Test Sample Data'!$C$3:$M$98,8,FALSE)=0,"",VLOOKUP($C9,'Test Sample Data'!$C$3:$M$98,8,FALSE))) | K9: =IF(C9="","",IF(VLOOKUP($C9,'Test Sample Data'!$C$3:$M$98,9,FALSE)=0,"",VLOOKUP($C9,'Test Sample Data'!$C$3:$M$98,9,FALSE))) | L9: =IF(C9="","",IF(VLOOKUP($C9,'Test Sample Data'!$C$3:$M$98,10,FALSE)=0,"",VLOOKUP($C9,'Test Sample Data'!$C$3:$M$98,10,FALSE))) | M9: =IF(C9="","",IF(VLOOKUP($C9,'Test Sample Data'!$C$3:$M$98,11,FALSE)=0,"",VLOOKUP($C9,'Test Sample Data'!$C$3:$M$98,11,FALSE))) | N9: =IF(B9=0,"",B9) | O9: =IF('Choose Housekeeping Genes'!C9=0,"",'Choose Housekeeping Genes'!C9) | P9: =IF(C9="","",IF(VLOOKUP($C9,'Control Sample Data'!$C$3:$M$98,2,FALSE)=0,"",VLOOKUP($C9,'Control Sample Data'!$C$3:$M$98,2,FALSE))) | Q9: =IF(C9="","",IF(VLOOKUP($C9,'Control Sample Data'!$C$3:$M$98,3,FALSE)=0,"",VLOOKUP($C9,'Control Sample Data'!$C$3:$M$98,3,FALSE))) | R9: =IF(C9="","",IF(VLOOKUP($C9,'Control Sample Data'!$C$3:$M$98,4,FALSE)=0,"",VLOOKUP($C9,'Control Sample Data'!$C$3:$M$98,4,FALSE))) | S9: =IF(C9="","",IF(VLOOKUP($C9,'Control Sample Data'!$C$3:$M$98,5,FALSE)=0,"",VLOOKUP($C9,'Control Sample Data'!$C$3:$M$98,5,FALSE))) | T9: =IF(C9="","",IF(VLOOKUP($C9,'Control Sample Data'!$C$3:$M$98,6,FALSE)=0,"",VLOOKUP($C9,'Control Sample Data'!$C$3:$M$98,6,FALSE))) | U9: =IF(C9="","",IF(VLOOKUP($C9,'Control Sample Data'!$C$3:$M$98,7,FALSE)=0,"",VLOOKUP($C9,'Control Sample Data'!$C$3:$M$98,7,FALSE))) | V9: =IF(C9="","",IF(VLOOKUP($C9,'Control Sample Data'!$C$3:$M$98,8,FALSE)=0,"",VLOOKUP($C9,'Control Sample Data'!$C$3:$M$98,8,FALSE))) | W9: =IF(C9="","",IF(VLOOKUP($C9,'Control Sample Data'!$C$3:$M$98,9,FALSE)=0,"",VLOOKUP($C9,'Control Sample Data'!$C$3:$M$98,9,FALSE))) | X9: =IF(C9="","",IF(VLOOKUP($C9,'Control Sample Data'!$C$3:$M$98,10,FALSE)=0,"",VLOOKUP($C9,'Control Sample Data'!$C$3:$M$98,10,FALSE))) | Y9: =IF(C9="","",IF(VLOOKUP($C9,'Control Sample Data'!$C$3:$M$98,11,FALSE)=0,"",VLOOKUP($C9,'Control Sample Data'!$C$3:$M$98,11,FALSE)))
B10: =IF(C10="","",VLOOKUP(C10,'Gene Table'!B$3:D$98,2,FALSE)) | D10: =IF(C10="","",IF(VLOOKUP($C10,'Test Sample Data'!$C$3:$M$98,2,FALSE)=0,"",VLOOKUP($C10,'Test Sample Data'!$C$3:$M$98,2,FALSE))) | E10: =IF(C10="","",IF(VLOOKUP($C10,'Test Sample Data'!$C$3:$M$98,3,FALSE)=0,"",VLOOKUP($C10,'Test Sample Data'!$C$3:$M$98,3,FALSE))) | F10: =IF(C10="","",IF(VLOOKUP($C10,'Test Sample Data'!$C$3:$M$98,4,FALSE)=0,"",VLOOKUP($C10,'Test Sample Data'!$C$3:$M$98,4,FALSE))) | G10: =IF(C10="","",IF(VLOOKUP($C10,'Test Sample Data'!$C$3:$M$98,5,FALSE)=0,"",VLOOKUP($C10,'Test Sample Data'!$C$3:$M$98,5,FALSE))) | H10: =IF(C10="","",IF(VLOOKUP($C10,'Test Sample Data'!$C$3:$M$98,6,FALSE)=0,"",VLOOKUP($C10,'Test Sample Data'!$C$3:$M$98,6,FALSE))) | I10: =IF(C10="","",IF(VLOOKUP($C10,'Test Sample Data'!$C$3:$M$98,7,FALSE)=0,"",VLOOKUP($C10,'Test Sample Data'!$C$3:$M$98,7,FALSE))) | J10: =IF(C10="","",IF(VLOOKUP($C10,'Test Sample Data'!$C$3:$M$98,8,FALSE)=0,"",VLOOKUP($C10,'Test Sample Data'!$C$3:$M$98,8,FALSE))) | K10: =IF(C10="","",IF(VLOOKUP($C10,'Test Sample Data'!$C$3:$M$98,9,FALSE)=0,"",VLOOKUP($C10,'Test Sample Data'!$C$3:$M$98,9,FALSE))) | L10: =IF(C10="","",IF(VLOOKUP($C10,'Test Sample Data'!$C$3:$M$98,10,FALSE)=0,"",VLOOKUP($C10,'Test Sample Data'!$C$3:$M$98,10,FALSE))) | M10: =IF(C10="","",IF(VLOOKUP($C10,'Test Sample Data'!$C$3:$M$98,11,FALSE)=0,"",VLOOKUP($C10,'Test Sample Data'!$C$3:$M$98,11,FALSE))) | N10: =IF(B10=0,"",B10) | O10: =IF('Choose Housekeeping Genes'!C10=0,"",'Choose Housekeeping Genes'!C10) | P10: =IF(C10="","",IF(VLOOKUP($C10,'Control Sample Data'!$C$3:$M$98,2,FALSE)=0,"",VLOOKUP($C10,'Control Sample Data'!$C$3:$M$98,2,FALSE))) | Q10: =IF(C10="","",IF(VLOOKUP($C10,'Control Sample Data'!$C$3:$M$98,3,FALSE)=0,"",VLOOKUP($C10,'Control Sample Data'!$C$3:$M$98,3,FALSE))) | R10: =IF(C10="","",IF(VLOOKUP($C10,'Control Sample Data'!$C$3:$M$98,4,FALSE)=0,"",VLOOKUP($C10,'Control Sample Data'!$C$3:$M$98,4,FALSE))) | S10: =IF(C10="","",IF(VLOOKUP($C10,'Control Sample Data'!$C$3:$M$98,5,FALSE)=0,"",VLOOKUP($C10,'Control Sample Data'!$C$3:$M$98,5,FALSE))) | T10: =IF(C10="","",IF(VLOOKUP($C10,'Control Sample Data'!$C$3:$M$98,6,FALSE)=0,"",VLOOKUP($C10,'Control Sample Data'!$C$3:$M$98,6,FALSE))) | U10: =IF(C10="","",IF(VLOOKUP($C10,'Control Sample Data'!$C$3:$M$98,7,FALSE)=0,"",VLOOKUP($C10,'Control Sample Data'!$C$3:$M$98,7,FALSE))) | V10: =IF(C10="","",IF(VLOOKUP($C10,'Control Sample Data'!$C$3:$M$98,8,FALSE)=0,"",VLOOKUP($C10,'Control Sample Data'!$C$3:$M$98,8,FALSE))) | W10: =IF(C10="","",IF(VLOOKUP($C10,'Control Sample Data'!$C$3:$M$98,9,FALSE)=0,"",VLOOKUP($C10,'Control Sample Data'!$C$3:$M$98,9,FALSE))) | X10: =IF(C10="","",IF(VLOOKUP($C10,'Control Sample Data'!$C$3:$M$98,10,FALSE)=0,"",VLOOKUP($C10,'Control Sample Data'!$C$3:$M$98,10,FALSE))) | Y10: =IF(C10="","",IF(VLOOKUP($C10,'Control Sample Data'!$C$3:$M$98,11,FALSE)=0,"",VLOOKUP($C10,'Control Sample Data'!$C$3:$M$98,11,FALSE)))
B11: =IF(C11="","",VLOOKUP(C11,'Gene Table'!B$3:D$98,2,FALSE)) | D11: =IF(C11="","",IF(VLOOKUP($C11,'Test Sample Data'!$C$3:$M$98,2,FALSE)=0,"",VLOOKUP($C11,'Test Sample Data'!$C$3:$M$98,2,FALSE))) | E11: =IF(C11="","",IF(VLOOKUP($C11,'Test Sample Data'!$C$3:$M$98,3,FALSE)=0,"",VLOOKUP($C11,'Test Sample Data'!$C$3:$M$98,3,FALSE))) | F11: =IF(C11="","",IF(VLOOKUP($C11,'Test Sample Data'!$C$3:$M$98,4,FALSE)=0,"",VLOOKUP($C11,'Test Sample Data'!$C$3:$M$98,4,FALSE))) | G11: =IF(C11="","",IF(VLOOKUP($C11,'Test Sample Data'!$C$3:$M$98,5,FALSE)=0,"",VLOOKUP($C11,'Test Sample Data'!$C$3:$M$98,5,FALSE))) | H11: =IF(C11="","",IF(VLOOKUP($C11,'Test Sample Data'!$C$3:$M$98,6,FALSE)=0,"",VLOOKUP($C11,'Test Sample Data'!$C$3:$M$98,6,FALSE))) | I11: =IF(C11="","",IF(VLOOKUP($C11,'Test Sample Data'!$C$3:$M$98,7,FALSE)=0,"",VLOOKUP($C11,'Test Sample Data'!$C$3:$M$98,7,FALSE))) | J11: =IF(C11="","",IF(VLOOKUP($C11,'Test Sample Data'!$C$3:$M$98,8,FALSE)=0,"",VLOOKUP($C11,'Test Sample Data'!$C$3:$M$98,8,FALSE))) | K11: =IF(C11="","",IF(VLOOKUP($C11,'Test Sample Data'!$C$3:$M$98,9,FALSE)=0,"",VLOOKUP($C11,'Test Sample Data'!$C$3:$M$98,9,FALSE))) | L11: =IF(C11="","",IF(VLOOKUP($C11,'Test Sample Data'!$C$3:$M$98,10,FALSE)=0,"",VLOOKUP($C11,'Test Sample Data'!$C$3:$M$98,10,FALSE))) | M11: =IF(C11="","",IF(VLOOKUP($C11,'Test Sample Data'!$C$3:$M$98,11,FALSE)=0,"",VLOOKUP($C11,'Test Sample Data'!$C$3:$M$98,11,FALSE))) | N11: =IF(B11=0,"",B11) | O11: =IF('Choose Housekeeping Genes'!C11=0,"",'Choose Housekeeping Genes'!C11) | P11: =IF(C11="","",IF(VLOOKUP($C11,'Control Sample Data'!$C$3:$M$98,2,FALSE)=0,"",VLOOKUP($C11,'Control Sample Data'!$C$3:$M$98,2,FALSE))) | Q11: =IF(C11="","",IF(VLOOKUP($C11,'Control Sample Data'!$C$3:$M$98,3,FALSE)=0,"",VLOOKUP($C11,'Control Sample Data'!$C$3:$M$98,3,FALSE))) | R11: =IF(C11="","",IF(VLOOKUP($C11,'Control Sample Data'!$C$3:$M$98,4,FALSE)=0,"",VLOOKUP($C11,'Control Sample Data'!$C$3:$M$98,4,FALSE))) | S11: =IF(C11="","",IF(VLOOKUP($C11,'Control Sample Data'!$C$3:$M$98,5,FALSE)=0,"",VLOOKUP($C11,'Control Sample Data'!$C$3:$M$98,5,FALSE))) | T11: =IF(C11="","",IF(VLOOKUP($C11,'Control Sample Data'!$C$3:$M$98,6,FALSE)=0,"",VLOOKUP($C11,'Control Sample Data'!$C$3:$M$98,6,FALSE))) | U11: =IF(C11="","",IF(VLOOKUP($C11,'Control Sample Data'!$C$3:$M$98,7,FALSE)=0,"",VLOOKUP($C11,'Control Sample Data'!$C$3:$M$98,7,FALSE))) | V11: =IF(C11="","",IF(VLOOKUP($C11,'Control Sample Data'!$C$3:$M$98,8,FALSE)=0,"",VLOOKUP($C11,'Control Sample Data'!$C$3:$M$98,8,FALSE))) | W11: =IF(C11="","",IF(VLOOKUP($C11,'Control Sample Data'!$C$3:$M$98,9,FALSE)=0,"",VLOOKUP($C11,'Control Sample Data'!$C$3:$M$98,9,FALSE))) | X11: =IF(C11="","",IF(VLOOKUP($C11,'Control Sample Data'!$C$3:$M$98,10,FALSE)=0,"",VLOOKUP($C11,'Control Sample Data'!$C$3:$M$98,10,FALSE))) | Y11: =IF(C11="","",IF(VLOOKUP($C11,'Control Sample Data'!$C$3:$M$98,11,FALSE)=0,"",VLOOKUP($C11,'Control Sample Data'!$C$3:$M$98,11,FALSE)))
B12: =IF(C12="","",VLOOKUP(C12,'Gene Table'!B$3:D$98,2,FALSE)) | D12: =IF(C12="","",IF(VLOOKUP($C12,'Test Sample Data'!$C$3:$M$98,2,FALSE)=0,"",VLOOKUP($C12,'Test Sample Data'!$C$3:$M$98,2,FALSE))) | E12: =IF(C12="","",IF(VLOOKUP($C12,'Test Sample Data'!$C$3:$M$98,3,FALSE)=0,"",VLOOKUP($C12,'Test Sample Data'!$C$3:$M$98,3,FALSE))) | F12: =IF(C12="","",IF(VLOOKUP($C12,'Test Sample Data'!$C$3:$M$98,4,FALSE)=0,"",VLOOKUP($C12,'Test Sample Data'!$C$3:$M$98,4,FALSE))) | G12: =IF(C12="","",IF(VLOOKUP($C12,'Test Sample Data'!$C$3:$M$98,5,FALSE)=0,"",VLOOKUP($C12,'Test Sample Data'!$C$3:$M$98,5,FALSE))) | H12: =IF(C12="","",IF(VLOOKUP($C12,'Test Sample Data'!$C$3:$M$98,6,FALSE)=0,"",VLOOKUP($C12,'Test Sample Data'!$C$3:$M$98,6,FALSE))) | I12: =IF(C12="","",IF(VLOOKUP($C12,'Test Sample Data'!$C$3:$M$98,7,FALSE)=0,"",VLOOKUP($C12,'Test Sample Data'!$C$3:$M$98,7,FALSE))) | J12: =IF(C12="","",IF(VLOOKUP($C12,'Test Sample Data'!$C$3:$M$98,8,FALSE)=0,"",VLOOKUP($C12,'Test Sample Data'!$C$3:$M$98,8,FALSE))) | K12: =IF(C12="","",IF(VLOOKUP($C12,'Test Sample Data'!$C$3:$M$98,9,FALSE)=0,"",VLOOKUP($C12,'Test Sample Data'!$C$3:$M$98,9,FALSE))) | L12: =IF(C12="","",IF(VLOOKUP($C12,'Test Sample Data'!$C$3:$M$98,10,FALSE)=0,"",VLOOKUP($C12,'Test Sample Data'!$C$3:$M$98,10,FALSE))) | M12: =IF(C12="","",IF(VLOOKUP($C12,'Test Sample Data'!$C$3:$M$98,11,FALSE)=0,"",VLOOKUP($C12,'Test Sample Data'!$C$3:$M$98,11,FALSE))) | N12: =IF(B12=0,"",B12) | O12: =IF('Choose Housekeeping Genes'!C12=0,"",'Choose Housekeeping Genes'!C12) | P12: =IF(C12="","",IF(VLOOKUP($C12,'Control Sample Data'!$C$3:$M$98,2,FALSE)=0,"",VLOOKUP($C12,'Control Sample Data'!$C$3:$M$98,2,FALSE))) | Q12: =IF(C12="","",IF(VLOOKUP($C12,'Control Sample Data'!$C$3:$M$98,3,FALSE)=0,"",VLOOKUP($C12,'Control Sample Data'!$C$3:$M$98,3,FALSE))) | R12: =IF(C12="","",IF(VLOOKUP($C12,'Control Sample Data'!$C$3:$M$98,4,FALSE)=0,"",VLOOKUP($C12,'Control Sample Data'!$C$3:$M$98,4,FALSE))) | S12: =IF(C12="","",IF(VLOOKUP($C12,'Control Sample Data'!$C$3:$M$98,5,FALSE)=0,"",VLOOKUP($C12,'Control Sample Data'!$C$3:$M$98,5,FALSE))) | T12: =IF(C12="","",IF(VLOOKUP($C12,'Control Sample Data'!$C$3:$M$98,6,FALSE)=0,"",VLOOKUP($C12,'Control Sample Data'!$C$3:$M$98,6,FALSE))) | U12: =IF(C12="","",IF(VLOOKUP($C12,'Control Sample Data'!$C$3:$M$98,7,FALSE)=0,"",VLOOKUP($C12,'Control Sample Data'!$C$3:$M$98,7,FALSE))) | V12: =IF(C12="","",IF(VLOOKUP($C12,'Control Sample Data'!$C$3:$M$98,8,FALSE)=0,"",VLOOKUP($C12,'Control Sample Data'!$C$3:$M$98,8,FALSE))) | W12: =IF(C12="","",IF(VLOOKUP($C12,'Control Sample Data'!$C$3:$M$98,9,FALSE)=0,"",VLOOKUP($C12,'Control Sample Data'!$C$3:$M$98,9,FALSE))) | X12: =IF(C12="","",IF(VLOOKUP($C12,'Control Sample Data'!$C$3:$M$98,10,FALSE)=0,"",VLOOKUP($C12,'Control Sample Data'!$C$3:$M$98,10,FALSE))) | Y12: =IF(C12="","",IF(VLOOKUP($C12,'Control Sample Data'!$C$3:$M$98,11,FALSE)=0,"",VLOOKUP($C12,'Control Sample Data'!$C$3:$M$98,11,FALSE)))
